BEGIN:VCALENDAR
VERSION:2.0
PRODID:-//Cinema Teatro Fratello Sole - ECPv6.15.20//NONSGML v1.0//EN
CALSCALE:GREGORIAN
METHOD:PUBLISH
X-ORIGINAL-URL:http://fratellosole.it
X-WR-CALDESC:Eventi per Cinema Teatro Fratello Sole
REFRESH-INTERVAL;VALUE=DURATION:PT1H
X-Robots-Tag:noindex
X-PUBLISHED-TTL:PT1H
BEGIN:VTIMEZONE
TZID:Europe/Rome
BEGIN:DAYLIGHT
TZOFFSETFROM:+0100
TZOFFSETTO:+0200
TZNAME:CEST
DTSTART:20200329T010000
END:DAYLIGHT
BEGIN:STANDARD
TZOFFSETFROM:+0200
TZOFFSETTO:+0100
TZNAME:CET
DTSTART:20201025T010000
END:STANDARD
BEGIN:DAYLIGHT
TZOFFSETFROM:+0100
TZOFFSETTO:+0200
TZNAME:CEST
DTSTART:20210328T010000
END:DAYLIGHT
BEGIN:STANDARD
TZOFFSETFROM:+0200
TZOFFSETTO:+0100
TZNAME:CET
DTSTART:20211031T010000
END:STANDARD
BEGIN:DAYLIGHT
TZOFFSETFROM:+0100
TZOFFSETTO:+0200
TZNAME:CEST
DTSTART:20220327T010000
END:DAYLIGHT
BEGIN:STANDARD
TZOFFSETFROM:+0200
TZOFFSETTO:+0100
TZNAME:CET
DTSTART:20221030T010000
END:STANDARD
BEGIN:DAYLIGHT
TZOFFSETFROM:+0100
TZOFFSETTO:+0200
TZNAME:CEST
DTSTART:20230326T010000
END:DAYLIGHT
BEGIN:STANDARD
TZOFFSETFROM:+0200
TZOFFSETTO:+0100
TZNAME:CET
DTSTART:20231029T010000
END:STANDARD
END:VTIMEZONE
BEGIN:VEVENT
DTSTART;TZID=Europe/Rome:20211104T160000
DTEND;TZID=Europe/Rome:20211104T180000
DTSTAMP:20260425T171850
CREATED:20210831T062809Z
LAST-MODIFIED:20210831T062809Z
UID:3989-1636041600-1636048800@fratellosole.it
SUMMARY:ore 16.00: IL FAVOLOSO MONDO DI AMELIE
DESCRIPTION:Giovedì 4 novembre ore 16.00 \nscheda film: \nhttp://fratellosole.it/amelie/
URL:http://fratellosole.it/evento/ore-16-00-il-favoloso-mondo-di-amelie/
END:VEVENT
BEGIN:VEVENT
DTSTART;TZID=Europe/Rome:20211104T210000
DTEND;TZID=Europe/Rome:20211104T230000
DTSTAMP:20260425T171850
CREATED:20210831T062922Z
LAST-MODIFIED:20210831T062923Z
UID:3991-1636059600-1636066800@fratellosole.it
SUMMARY:ore 21.00: IL FAVOLOSO MONDO DI AMELIE
DESCRIPTION:Giovedì 4 novembre ore 21.00 \nscheda film: \nhttp://fratellosole.it/amelie/
URL:http://fratellosole.it/evento/ore-21-00-il-favoloso-mondo-di-amelie/
END:VEVENT
BEGIN:VEVENT
DTSTART;TZID=Europe/Rome:20211107T160000
DTEND;TZID=Europe/Rome:20211107T180000
DTSTAMP:20260425T171850
CREATED:20210831T063031Z
LAST-MODIFIED:20210831T063031Z
UID:3993-1636300800-1636308000@fratellosole.it
SUMMARY:ore 16.00: IL FAVOLOSO MONDO DI AMELIE
DESCRIPTION:Domenica 7 novembre ore 16.00 \nscheda film: \nhttp://fratellosole.it/amelie/
URL:http://fratellosole.it/evento/ore-16-00-il-favoloso-mondo-di-amelie-2/
END:VEVENT
BEGIN:VEVENT
DTSTART;TZID=Europe/Rome:20211118T160000
DTEND;TZID=Europe/Rome:20211118T180000
DTSTAMP:20260425T171850
CREATED:20210831T063252Z
LAST-MODIFIED:20210831T063252Z
UID:3995-1637251200-1637258400@fratellosole.it
SUMMARY:ore 16.00: NOMADLAND
DESCRIPTION:Giovedì 18 novembre ore 16.00 \nscheda film: \nhttp://fratellosole.it/nomadland/
URL:http://fratellosole.it/evento/ore-16-00-nomadland/
END:VEVENT
BEGIN:VEVENT
DTSTART;TZID=Europe/Rome:20211118T210000
DTEND;TZID=Europe/Rome:20211118T230000
DTSTAMP:20260425T171850
CREATED:20210831T063358Z
LAST-MODIFIED:20210831T063358Z
UID:3997-1637269200-1637276400@fratellosole.it
SUMMARY:ore 21.00: NOMADLAND
DESCRIPTION:Giovedì 18 novembre ore 21.00 \nscheda film: \nhttp://fratellosole.it/nomadland/
URL:http://fratellosole.it/evento/ore-21-00-nomadland/
END:VEVENT
BEGIN:VEVENT
DTSTART;TZID=Europe/Rome:20211121T160000
DTEND;TZID=Europe/Rome:20211121T180000
DTSTAMP:20260425T171850
CREATED:20210831T063501Z
LAST-MODIFIED:20210831T063501Z
UID:3999-1637510400-1637517600@fratellosole.it
SUMMARY:ore 16.00: NOMADLAND
DESCRIPTION:Domenica 21 novembre ore 16.00 \nscheda film: \nhttp://fratellosole.it/nomadland/
URL:http://fratellosole.it/evento/ore-16-00-nomadland-2/
END:VEVENT
BEGIN:VEVENT
DTSTART;TZID=Europe/Rome:20211122T210000
DTEND;TZID=Europe/Rome:20211122T230000
DTSTAMP:20260425T171850
CREATED:20211005T055845Z
LAST-MODIFIED:20211006T053824Z
UID:4093-1637614800-1637622000@fratellosole.it
SUMMARY:Conferenza: LA BELLEZZA SI FA CARNE. GENERARE DIO
DESCRIPTION:LUNEDI’ 22 NOVEMBRE ORE 21.00 \nConferenza a ingresso libero – prenotazione obbligatoria \n \nRelatore Massimo Cacciari – filosofo \nLink per prenotare \nhttps://ticket.cinebot.it/fratellosole/ \n 
URL:http://fratellosole.it/evento/la-bellezza-si-fa-carne-generare-dio/
END:VEVENT
BEGIN:VEVENT
DTSTART;TZID=Europe/Rome:20211125T160000
DTEND;TZID=Europe/Rome:20211125T180000
DTSTAMP:20260425T171850
CREATED:20210831T063635Z
LAST-MODIFIED:20210831T063635Z
UID:4002-1637856000-1637863200@fratellosole.it
SUMMARY:ore 16.00: UN ALTRO GIRO
DESCRIPTION:Giovedì 25 novembre ore 16.00 \nscheda film: \nhttp://fratellosole.it/altro-giro/
URL:http://fratellosole.it/evento/ore-16-00-un-altro-giro/
END:VEVENT
BEGIN:VEVENT
DTSTART;TZID=Europe/Rome:20211125T160000
DTEND;TZID=Europe/Rome:20211125T180000
DTSTAMP:20260425T171850
CREATED:20210831T063746Z
LAST-MODIFIED:20210831T063746Z
UID:4004-1637856000-1637863200@fratellosole.it
SUMMARY:ore 21.00: UN ALTRO GIRO
DESCRIPTION:Giovedì 25 novembre ore 21.00 \nscheda film: \nhttp://fratellosole.it/altro-giro/
URL:http://fratellosole.it/evento/ore-21-00-un-altro-giro/
END:VEVENT
BEGIN:VEVENT
DTSTART;TZID=Europe/Rome:20211128T160000
DTEND;TZID=Europe/Rome:20211128T180000
DTSTAMP:20260425T171850
CREATED:20210831T063845Z
LAST-MODIFIED:20210831T063845Z
UID:4006-1638115200-1638122400@fratellosole.it
SUMMARY:ore 16.00: UN ALTRO GIRO
DESCRIPTION:Domenica 28 novembre ore 16.00 \nscheda film: \nhttp://fratellosole.it/altro-giro/
URL:http://fratellosole.it/evento/ore-16-00-un-altro-giro-2/
END:VEVENT
BEGIN:VEVENT
DTSTART;TZID=Europe/Rome:20211202T160000
DTEND;TZID=Europe/Rome:20211202T180000
DTSTAMP:20260425T171850
CREATED:20210831T064003Z
LAST-MODIFIED:20210831T064003Z
UID:4008-1638460800-1638468000@fratellosole.it
SUMMARY:ore 16.00: IL CATTIVO POETA
DESCRIPTION:Giovedì 2 dicembre ore 16.00 \nscheda film: \nhttp://fratellosole.it/cattivo-poeta/
URL:http://fratellosole.it/evento/ore-16-00-il-cattivo-poeta/
END:VEVENT
BEGIN:VEVENT
DTSTART;TZID=Europe/Rome:20211202T210000
DTEND;TZID=Europe/Rome:20211202T230000
DTSTAMP:20260425T171850
CREATED:20210831T064108Z
LAST-MODIFIED:20210831T064108Z
UID:4010-1638478800-1638486000@fratellosole.it
SUMMARY:ore 21.00: IL CATTIVO POETA
DESCRIPTION:Giovedì 2 dicembre ore 21.00 \nscheda film: \nhttp://fratellosole.it/cattivo-poeta/
URL:http://fratellosole.it/evento/ore-21-00-il-cattivo-poeta/
END:VEVENT
BEGIN:VEVENT
DTSTART;TZID=Europe/Rome:20211205T160000
DTEND;TZID=Europe/Rome:20211205T180000
DTSTAMP:20260425T171850
CREATED:20210831T064210Z
LAST-MODIFIED:20210831T064210Z
UID:4012-1638720000-1638727200@fratellosole.it
SUMMARY:ore 16.00: IL CATTIVO POETA
DESCRIPTION:Domenica 5 dicembre ore 16.00 \nscheda film: \nhttp://fratellosole.it/cattivo-poeta/
URL:http://fratellosole.it/evento/ore-16-00-il-cattivo-poeta-2/
END:VEVENT
BEGIN:VEVENT
DTSTART;TZID=Europe/Rome:20211205T170000
DTEND;TZID=Europe/Rome:20211205T180000
DTSTAMP:20260425T171850
CREATED:20211130T131749Z
LAST-MODIFIED:20211130T131831Z
UID:4174-1638723600-1638727200@fratellosole.it
SUMMARY:h. 17.00 PRESENTAZIONE LIBRO: La realtà della fantasia di Sandra Grampa Rigolio
DESCRIPTION:  \n  \nDOMENICA 5 DICEMBRE ALLE ORE 17.00 IN SALA CONFERENZE\, la Casa Editrice Albaccara presenterà il libro di poesie e racconti\nLa realtà della fantasia di Sandra Grampa Rigolio. \n\nLa potenza di Sandra contro la malattia. Un tesoro di scritti conservati e raccolti. Notazioni\, ricordi\, abbattimenti e rinascite. Un percorso segnato dal dolore e dal grande ottimismo. Un misto di poesia e racconti per far emergere la vera Sandra: dolce nei ricordi degli affetti\, creativa nella fantasia\, potente rispetto alla malattia e capace di aiutare gli altri mentre pensa a curarsi. Parole semplici ed efficaci\, tali da far risorgere in ognuno la gioia della vita. Un esempio e un modello per tutti. \nDice l’autrice: “La malattia non mi ha risparmiata. Conviviamo quotidianamente da anni. Faticosa\, scomoda\, dolorosa\, a volte insopportabile. Ho saputo trarre da questa esperienza una ricchezza interiore che solo attraverso la sofferenza si può avverare.” \nDammi una favola in cui credere\,\nche mi faccia da corazza.\nLa mia anima soffre immensamente\nquando vaga nuda in ciò che è realtà. \nLa poesia trasforma le parole\ne ciascuno ritrova\nla favola che desidera. \nAlla presentazione interverrà l’editore Carmelo Corrado Occhipinti. La casa editrice Albaccara è nata con un sogno che si sta realizzando: promuovere la scrittura ed il pensiero ad ogni livello\, mettendo in contatto diretto gli autori con i lettori. \nPer partecipare non è necessaria la prenotazione ma il possesso del Greenpass. \nVi aspettiamo \n  \n 
URL:http://fratellosole.it/evento/presentazione-libro-la-realta-della-fantasia-di-sandra-grampa-rigolio/
END:VEVENT
BEGIN:VEVENT
DTSTART;TZID=Europe/Rome:20211209T160000
DTEND;TZID=Europe/Rome:20211209T180000
DTSTAMP:20260425T171850
CREATED:20210831T064335Z
LAST-MODIFIED:20210831T064335Z
UID:4014-1639065600-1639072800@fratellosole.it
SUMMARY:ore 16.00: IO SONO NESSUNO
DESCRIPTION:Giovedì 9 dicembre ore 16.00 \nscheda film: \nhttp://fratellosole.it/sono-nessuno/
URL:http://fratellosole.it/evento/ore-16-00-io-sono-nessuno/
END:VEVENT
BEGIN:VEVENT
DTSTART;TZID=Europe/Rome:20211209T210000
DTEND;TZID=Europe/Rome:20211209T230000
DTSTAMP:20260425T171850
CREATED:20210831T064501Z
LAST-MODIFIED:20210831T064501Z
UID:4016-1639083600-1639090800@fratellosole.it
SUMMARY:ore 21.00: IO SONO NESSUNO
DESCRIPTION:Giovedì 9 dicembre ore 21.00 \nscheda film: \nhttp://fratellosole.it/sono-nessuno/
URL:http://fratellosole.it/evento/ore-21-00-io-sono-nessuno/
END:VEVENT
BEGIN:VEVENT
DTSTART;TZID=Europe/Rome:20211211T210000
DTEND;TZID=Europe/Rome:20211211T233000
DTSTAMP:20260425T171850
CREATED:20211120T102510Z
LAST-MODIFIED:20211120T102510Z
UID:4161-1639256400-1639265400@fratellosole.it
SUMMARY:IMPOSSIBLE di Mago Geko - Spettacolo di magia
DESCRIPTION:Sabato 11 dicembre 2021 alle ore 21.00 \n \nFederico Nuccio in arte Geko\, direttamente dagli studi del famoso David Copperfield e Harry Houdini\, ha dato vita ad uno stile tutto suo! \nCon l’obiettivo di fare cose altamente spettacolari e il desiderio di spingersi oltre al limite\, nasce il suo show IMPOSSIBLE. \nUn’alternarsi di Grandi Illusioni\, lance infuocate\, sparizioni\, apparizioni\, ma anche momenti molto romantici\, commoventi e coinvolgenti anche per i più piccoli! \nGeko all’età di otto anni fu rapito dalla magia di un artista di strada e da allora coltiva la passione per il mondo dell’illusionismo. Partendo dalla micro-magia (la difficile arte di stupire da vicino con piccoli oggetti)\, alla magia da palco\, fino alle grandi illusioni\, sempre con un solo desiderio\, ovvero quello di stupire grandi e piccoli portandoli in un’altra dimensione dove nulla è impossibile. Comunica al proprio pubblico la voglia di inseguire sempre i propri sogni. Allenamento\, determinazione\, costanza possono fare superare tutti gli ostacoli! \nAl suo fianco una squadra che lui definisce la sua famiglia per l’amicizia che li lega da anni che collaborano insieme\, sempre pronti a regalare grandi emozioni! \nOgni numero è studiato alla perfezione dal coreografo Aleks esperto di danza. Il tutto abbellito da effetti speciali\, ma sempre molto chiari e ben visibili per verificare anche da lontano che “non c’è trucco e non c’è inganno”. \nLa magia di Geko arriva al cuore! \nQui un assaggio delle sue magie: \nhttps://youtu.be/BcLb5kiL7tQ \nContatti: \ninfo: 3924397044 \ninfo@magogeko.com \nacquisto biglietti: \nhttps://magogeko.com/eventi/ \nVi aspettiamo numerosi!
URL:http://fratellosole.it/evento/impossible-di-mago-geko-spettacolo-di-magia/
END:VEVENT
BEGIN:VEVENT
DTSTART;TZID=Europe/Rome:20211212T160000
DTEND;TZID=Europe/Rome:20211212T180000
DTSTAMP:20260425T171850
CREATED:20210831T064608Z
LAST-MODIFIED:20210831T064608Z
UID:4018-1639324800-1639332000@fratellosole.it
SUMMARY:ore 16.00: IO SONO NESSUNO
DESCRIPTION:Domenica 12 dicembre ore 16.00 \nscheda film: \nhttp://fratellosole.it/sono-nessuno/
URL:http://fratellosole.it/evento/ore-16-00-io-sono-nessuno-2/
END:VEVENT
BEGIN:VEVENT
DTSTART;TZID=Europe/Rome:20211220T210000
DTEND;TZID=Europe/Rome:20211220T230000
DTSTAMP:20260425T171850
CREATED:20211005T060123Z
LAST-MODIFIED:20211212T142917Z
UID:4095-1640034000-1640041200@fratellosole.it
SUMMARY:Conferenza: L'ORIGINALE BELLEZZA. LA BELLEZZA DELLE ORIGINI
DESCRIPTION:LUNEDI’ 20 DICEMBRE ORE 21.00 \nConferenza a ingresso libero . prenotazione obbligatoria \n \nRelatrice Lidia Maggi – teologa \nper saperne di più: \nhttp://fratellosole.it/lidia-maggi-loriginale-bellezza-la-bellezza-delle-origini/ \nLink per prenotare: \nhttps://ticket.cinebot.it/fratellosole/
URL:http://fratellosole.it/evento/loriginale-bellezza-la-bellezza-delle-origini/
END:VEVENT
BEGIN:VEVENT
DTSTART;TZID=Europe/Rome:20220113T160000
DTEND;TZID=Europe/Rome:20220113T180000
DTSTAMP:20260425T171850
CREATED:20220107T130550Z
LAST-MODIFIED:20220107T130652Z
UID:4255-1642089600-1642096800@fratellosole.it
SUMMARY:ore 16.00: COME UN GATTO IN TANGENZIALE 2
DESCRIPTION:  \n \n13 GENNAIO ORE 16.00 \nSCHEDA FILM: \nhttp://fratellosole.it/ritorno-coccia-di-morto/ \n 
URL:http://fratellosole.it/evento/film-come-un-gatto-in-tangenziale-2/
END:VEVENT
BEGIN:VEVENT
DTSTART;TZID=Europe/Rome:20220113T210000
DTEND;TZID=Europe/Rome:20220113T230000
DTSTAMP:20260425T171850
CREATED:20220107T130804Z
LAST-MODIFIED:20220107T130804Z
UID:4258-1642107600-1642114800@fratellosole.it
SUMMARY:ORE 21.00: COME UN GATTO IN TANGENZIALE 2
DESCRIPTION:Giovedì 13 gennaio ore 21.oo \nscheda film: \nhttp://fratellosole.it/ritorno-coccia-di-morto/
URL:http://fratellosole.it/evento/ore-21-00-come-un-gatto-in-tangenziale-2/
END:VEVENT
BEGIN:VEVENT
DTSTART;TZID=Europe/Rome:20220116T160000
DTEND;TZID=Europe/Rome:20220116T180000
DTSTAMP:20260425T171850
CREATED:20220107T130937Z
LAST-MODIFIED:20220107T130937Z
UID:4260-1642348800-1642356000@fratellosole.it
SUMMARY:ORE 16.00: COME UN GATTO IN TANGENZIALE 2
DESCRIPTION:Domenica 16 gennaio ore 16.00 \nScheda film: \nhttp://fratellosole.it/ritorno-coccia-di-morto/
URL:http://fratellosole.it/evento/ore-16-00-come-un-gatto-in-tangenziale-2/
END:VEVENT
BEGIN:VEVENT
DTSTART;TZID=Europe/Rome:20220120T160000
DTEND;TZID=Europe/Rome:20220120T180000
DTSTAMP:20260425T171850
CREATED:20220107T131125Z
LAST-MODIFIED:20220107T131125Z
UID:4262-1642694400-1642701600@fratellosole.it
SUMMARY:ORE 16.00: LA SIGNORA DELLE ROSE
DESCRIPTION:Giovedì 20 gennaio ore 16.00 \nscheda film: \nhttp://fratellosole.it/signora-rose/
URL:http://fratellosole.it/evento/ore-16-00-la-signora-delle-rose/
END:VEVENT
BEGIN:VEVENT
DTSTART;TZID=Europe/Rome:20220120T210000
DTEND;TZID=Europe/Rome:20220120T230000
DTSTAMP:20260425T171850
CREATED:20220107T131222Z
LAST-MODIFIED:20220107T131222Z
UID:4264-1642712400-1642719600@fratellosole.it
SUMMARY:ore 21.00: LA SIGNORA DELLE ROSE
DESCRIPTION:Giovedì 20 gennaio ore 21.00 \nscheda film: \n 
URL:http://fratellosole.it/evento/ore-21-00-la-signora-delle-rose/
END:VEVENT
BEGIN:VEVENT
DTSTART;TZID=Europe/Rome:20220123T160000
DTEND;TZID=Europe/Rome:20220123T180000
DTSTAMP:20260425T171850
CREATED:20220107T131325Z
LAST-MODIFIED:20220107T131325Z
UID:4266-1642953600-1642960800@fratellosole.it
SUMMARY:ore 16.00: LA SIGNORA DELLE ROSE
DESCRIPTION:Domenica 23 gennaio ore 16.00 \nscheda film: \nhttp://fratellosole.it/signora-rose/
URL:http://fratellosole.it/evento/ore-16-00-la-signora-delle-rose-2/
END:VEVENT
BEGIN:VEVENT
DTSTART;TZID=Europe/Rome:20220127T160000
DTEND;TZID=Europe/Rome:20220127T180000
DTSTAMP:20260425T171850
CREATED:20220107T131457Z
LAST-MODIFIED:20220107T131457Z
UID:4268-1643299200-1643306400@fratellosole.it
SUMMARY:ore 16.00: PETITE MAMAN
DESCRIPTION:Giovedì 27 gennaio ore 16.00 \nscheda film: \nhttp://fratellosole.it/petite-maman/
URL:http://fratellosole.it/evento/ore-16-00-petite-maman/
END:VEVENT
BEGIN:VEVENT
DTSTART;TZID=Europe/Rome:20220127T210000
DTEND;TZID=Europe/Rome:20220127T230000
DTSTAMP:20260425T171850
CREATED:20220107T131604Z
LAST-MODIFIED:20220107T131604Z
UID:4270-1643317200-1643324400@fratellosole.it
SUMMARY:ore 21.00: PETITE MAMAN
DESCRIPTION:Giovedì 27 gennaio ore 21.00 \nscheda film: \n 
URL:http://fratellosole.it/evento/ore-21-00-petite-maman/
END:VEVENT
BEGIN:VEVENT
DTSTART;TZID=Europe/Rome:20220130T160000
DTEND;TZID=Europe/Rome:20220130T180000
DTSTAMP:20260425T171850
CREATED:20220107T131706Z
LAST-MODIFIED:20220107T131706Z
UID:4272-1643558400-1643565600@fratellosole.it
SUMMARY:ore 16.00: PETITE MAMAN
DESCRIPTION:Domenica 30 gennaio ore 16.00 \nscheda film: \nhttp://fratellosole.it/petite-maman/
URL:http://fratellosole.it/evento/ore-16-00-petite-maman-2/
END:VEVENT
BEGIN:VEVENT
DTSTART;TZID=Europe/Rome:20220203T160000
DTEND;TZID=Europe/Rome:20220203T180000
DTSTAMP:20260425T171850
CREATED:20220107T131832Z
LAST-MODIFIED:20220107T131832Z
UID:4274-1643904000-1643911200@fratellosole.it
SUMMARY:ore 16.00: NON ODIARE
DESCRIPTION:Giovedì 3 febbraio ore 16.00 \nscheda film: \nhttp://fratellosole.it/non-odiare/
URL:http://fratellosole.it/evento/ore-16-00-non-odiare/
END:VEVENT
BEGIN:VEVENT
DTSTART;TZID=Europe/Rome:20220203T160000
DTEND;TZID=Europe/Rome:20220203T180000
DTSTAMP:20260425T171850
CREATED:20220107T131938Z
LAST-MODIFIED:20220107T131938Z
UID:4276-1643904000-1643911200@fratellosole.it
SUMMARY:ore 21.00: NON ODIARE
DESCRIPTION:Giovedì 3 febbraio ore 21.00 \nscheda film: \nhttp://fratellosole.it/non-odiare/
URL:http://fratellosole.it/evento/ore-21-00-non-odiare/
END:VEVENT
END:VCALENDAR