BEGIN:VCALENDAR
VERSION:2.0
PRODID:-//Cinema Teatro Fratello Sole - ECPv6.15.20//NONSGML v1.0//EN
CALSCALE:GREGORIAN
METHOD:PUBLISH
X-WR-CALNAME:Cinema Teatro Fratello Sole
X-ORIGINAL-URL:http://fratellosole.it
X-WR-CALDESC:Eventi per Cinema Teatro Fratello Sole
REFRESH-INTERVAL;VALUE=DURATION:PT1H
X-Robots-Tag:noindex
X-PUBLISHED-TTL:PT1H
BEGIN:VTIMEZONE
TZID:Europe/Rome
BEGIN:DAYLIGHT
TZOFFSETFROM:+0100
TZOFFSETTO:+0200
TZNAME:CEST
DTSTART:20220327T010000
END:DAYLIGHT
BEGIN:STANDARD
TZOFFSETFROM:+0200
TZOFFSETTO:+0100
TZNAME:CET
DTSTART:20221030T010000
END:STANDARD
BEGIN:DAYLIGHT
TZOFFSETFROM:+0100
TZOFFSETTO:+0200
TZNAME:CEST
DTSTART:20230326T010000
END:DAYLIGHT
BEGIN:STANDARD
TZOFFSETFROM:+0200
TZOFFSETTO:+0100
TZNAME:CET
DTSTART:20231029T010000
END:STANDARD
BEGIN:DAYLIGHT
TZOFFSETFROM:+0100
TZOFFSETTO:+0200
TZNAME:CEST
DTSTART:20240331T010000
END:DAYLIGHT
BEGIN:STANDARD
TZOFFSETFROM:+0200
TZOFFSETTO:+0100
TZNAME:CET
DTSTART:20241027T010000
END:STANDARD
BEGIN:DAYLIGHT
TZOFFSETFROM:+0100
TZOFFSETTO:+0200
TZNAME:CEST
DTSTART:20250330T010000
END:DAYLIGHT
BEGIN:STANDARD
TZOFFSETFROM:+0200
TZOFFSETTO:+0100
TZNAME:CET
DTSTART:20251026T010000
END:STANDARD
END:VTIMEZONE
BEGIN:VEVENT
DTSTART;TZID=Europe/Rome:20240104T160000
DTEND;TZID=Europe/Rome:20240104T180000
DTSTAMP:20260424T143918
CREATED:20231211T135416Z
LAST-MODIFIED:20231211T140207Z
UID:6081-1704384000-1704391200@fratellosole.it
SUMMARY:C'è ANCORA DOMANI
DESCRIPTION:SCHEDA FILM: \nhttps://fratellosole.it/ce-ancora-domani/
URL:http://fratellosole.it/evento/ce-ancora-domani/
LOCATION:Sala – Cinema Fratello Sole
END:VEVENT
BEGIN:VEVENT
DTSTART;TZID=Europe/Rome:20231222T210000
DTEND;TZID=Europe/Rome:20231222T223000
DTSTAMP:20260424T143918
CREATED:20231218T060932Z
LAST-MODIFIED:20231218T060932Z
UID:6164-1703278800-1703284200@fratellosole.it
SUMMARY:CONCERTO DI NATALE: LA MUSICA FA UNIONE
DESCRIPTION:
URL:http://fratellosole.it/evento/concerto-di-natale-la-musica-fa-unione/
LOCATION:Sala – Cinema Fratello Sole
END:VEVENT
BEGIN:VEVENT
DTSTART;TZID=Europe/Rome:20231210T160000
DTEND;TZID=Europe/Rome:20231210T190000
DTSTAMP:20260424T143918
CREATED:20230828T135955Z
LAST-MODIFIED:20230828T135955Z
UID:5695-1702224000-1702234800@fratellosole.it
SUMMARY:MISSION: IMPOSSIBLE - DEAD RECKONING 1
DESCRIPTION:DOMENICA 10 DICEMBRE 2023 ORE 16.00 \n \nScheda film: \nhttps://fratellosole.it/mission-impossible-7/
URL:http://fratellosole.it/evento/mission-impossible-dead-reckoning-1-3/
END:VEVENT
BEGIN:VEVENT
DTSTART;TZID=Europe/Rome:20231207T210000
DTEND;TZID=Europe/Rome:20231207T233000
DTSTAMP:20260424T143918
CREATED:20230828T135834Z
LAST-MODIFIED:20230828T135834Z
UID:5693-1701982800-1701991800@fratellosole.it
SUMMARY:MISSION: IMPOSSIBLE - DEAD RECKONING 1
DESCRIPTION:GIOVEDI’ 7 DICEMBRE 2023 ORE 21.00 \n \nScheda film: \nhttps://fratellosole.it/mission-impossible-7/
URL:http://fratellosole.it/evento/mission-impossible-dead-reckoning-1-2/
END:VEVENT
BEGIN:VEVENT
DTSTART;TZID=Europe/Rome:20231207T160000
DTEND;TZID=Europe/Rome:20231207T190000
DTSTAMP:20260424T143918
CREATED:20230828T135653Z
LAST-MODIFIED:20230828T135653Z
UID:5691-1701964800-1701975600@fratellosole.it
SUMMARY:MISSION: IMPOSSIBLE - DEAD RECKONING 1
DESCRIPTION:GIOVEDI’ 7 DICEMBRE 2023 ORE 16.00 \n \nScheda film: \nhttps://fratellosole.it/mission-impossible-7/
URL:http://fratellosole.it/evento/mission-impossible-dead-reckoning-1/
END:VEVENT
BEGIN:VEVENT
DTSTART;TZID=Europe/Rome:20231205T210000
DTEND;TZID=Europe/Rome:20231205T230000
DTSTAMP:20260424T143918
CREATED:20230828T150648Z
LAST-MODIFIED:20231201T060804Z
UID:5709-1701810000-1701817200@fratellosole.it
SUMMARY:PICASSO A PARIGI. STORIA DI UNA VITA E DI UN MUSEO
DESCRIPTION:MARTEDI’ 5 DICEMBRE 2023 ORE 21.00 \n \nRealizzato in occasione dei 50 anni dalla morte di Pablo Picasso (Malaga\, 25 ottobre 1881 – Mougins\, 8 aprile 1973)\, il docufilm\, diretto da Simona Risi su soggetto di Didi Gnocchi e Sabina Fedeli che firma anche la sceneggiatura con Arianna Marelli\, si ispira a una celebre frase dell’artista: “Dipingere non è un’operazione estetica: è una forma di magia intesa a compiere un’opera di mediazione fra questo mondo\nestraneo e ostile e noi”. Così\, obiettivo di PICASSO A PARIGI. STORIA DI UNA VITA E DI UN MUSEO è mettere al centro del racconto proprio questa grande magia e uno dei luoghi dove meglio la si può apprezzare\, il Museo Picasso di Parigi. \nIl documentario segue due filoni narrativi paralleli. Il principale è quello del Museo. Dentro questa trama si sviluppa il ritratto di Picasso\, la sua lunghissima vita\, le contraddizioni del carattere\, le mogli e le compagne\, il tutto raccontato in stretta connessione con Parigi\, la città che più ha amato e dove ha passato la maggior parte della sua esistenza. Verranno inoltre raccontati aspetti ancora poco conosciuti del pittore\, che solo oggi gli storici e gli storici dell’arte iniziano a indagare\, come il suo essere stato “uno straniero” a Parigi\, uno sradicato\, un anarchico ‘vigilato speciale’ della polizia anche quando era già diventato famoso. Non mancheranno le analisi delle opere\, come Les Demoiselles d’Avignon e si scoprirà che è persino possibile gettare uno sguardo ‘queer’ sull’opera dell’artista. \nQui gli appunti artistici della Dott.ssa Beatrice Fiorello \nhttp://fratellosole.it/picasso-a-parigi-storia-di-una-vita-e-di-un-museo-appunti-artistici/
URL:http://fratellosole.it/evento/picasso-a-parigi-storia-di-una-vita-e-di-un-museo/
LOCATION:Sala – Cinema Fratello Sole
END:VEVENT
BEGIN:VEVENT
DTSTART;TZID=Europe/Rome:20231203T160000
DTEND;TZID=Europe/Rome:20231203T183000
DTSTAMP:20260424T143918
CREATED:20230828T135438Z
LAST-MODIFIED:20230828T135438Z
UID:5689-1701619200-1701628200@fratellosole.it
SUMMARY:LAST WORDS
DESCRIPTION:DOMENICA 3 DICEMBRE 2023 ORE 16.00 \n \nScheda film: \nhttps://fratellosole.it/last-words/
URL:http://fratellosole.it/evento/last-words-3/
END:VEVENT
BEGIN:VEVENT
DTSTART;TZID=Europe/Rome:20231130T210000
DTEND;TZID=Europe/Rome:20231130T233000
DTSTAMP:20260424T143918
CREATED:20230828T135325Z
LAST-MODIFIED:20230828T135325Z
UID:5687-1701378000-1701387000@fratellosole.it
SUMMARY:LAST WORDS
DESCRIPTION:GIOVEDI’ 30 NOVEMBRE 2023 ORE 21.00 \n \nScheda film: \nhttps://fratellosole.it/last-words/
URL:http://fratellosole.it/evento/last-words-2/
END:VEVENT
BEGIN:VEVENT
DTSTART;TZID=Europe/Rome:20231130T160000
DTEND;TZID=Europe/Rome:20231130T183000
DTSTAMP:20260424T143918
CREATED:20230828T135207Z
LAST-MODIFIED:20230828T135207Z
UID:5685-1701360000-1701369000@fratellosole.it
SUMMARY:LAST WORDS
DESCRIPTION:GIOVEDI’ 30 NOVEMBRE 2023 ORE 21.00 \n \nScheda film: \nhttps://fratellosole.it/last-words/
URL:http://fratellosole.it/evento/last-words/
END:VEVENT
BEGIN:VEVENT
DTSTART;TZID=Europe/Rome:20231129T210000
DTEND;TZID=Europe/Rome:20231129T230000
DTSTAMP:20260424T143918
CREATED:20230919T131515Z
LAST-MODIFIED:20231113T061536Z
UID:5743-1701291600-1701298800@fratellosole.it
SUMMARY:SILENZIO E PAROLA: TEATRO SACRO DI ANGELO FRANCHINI
DESCRIPTION:Mercoledì 29 novembre ore 21.00 \nMARIA E GIUSEPPE 2.0\n \nTEATRO SACRO\n \nIl dizionario dice che due punto zero sta a significare nella sua più recente e aggiornata versione.  \nEd è per questo motivo che Giuseppe ha pensato di fare un salto a salutare Maria nel 2021\, con la scusa di aiutarla a disbrigare la posta che le arriva\, per capire a distanza ravvicinata come vanno le cose… \nGiuseppe vuole comprendere come la gente li vede in questa strana era\, come sono percepiti da chi prega ancora\, cosa sono diventati dopo duemila anni\, chi sono davvero. Tra ricordi di com’era una volta\, nuove preghiere e vecchie generazioni\, suppliche sincere e confessioni disperate\, Giuseppe capisce che non è poi così semplice aiutare Maria. \nAngelo Franchini è un artista di grande talento\, dalla profonda umanità; tramite il teatro\, ama esprime ad alto livello emotivo pensieri e riflessioni. E soprattutto porta chi vi partecipa a riflettere e a lasciarsi profondamente coinvolgere. \nINGRESSO LIBERO \n  \n 
URL:http://fratellosole.it/evento/silenzio-e-parola-teatro-sacro-di-angelo-franchini/
LOCATION:Sala – Cinema Fratello Sole
END:VEVENT
BEGIN:VEVENT
DTSTART;TZID=Europe/Rome:20231126T160000
DTEND;TZID=Europe/Rome:20231126T183000
DTSTAMP:20260424T143918
CREATED:20230828T135004Z
LAST-MODIFIED:20230828T135004Z
UID:5683-1701014400-1701023400@fratellosole.it
SUMMARY:EMILY
DESCRIPTION:DOMENICA 26 NOVEMBRE 2023 ORE 16.00 \n \nScheda film: \nhttps://fratellosole.it/emily/
URL:http://fratellosole.it/evento/emily-3/
END:VEVENT
BEGIN:VEVENT
DTSTART;TZID=Europe/Rome:20231125T210000
DTEND;TZID=Europe/Rome:20231125T230000
DTSTAMP:20260424T143918
CREATED:20231109T141023Z
LAST-MODIFIED:20231109T141023Z
UID:5952-1700946000-1700953200@fratellosole.it
SUMMARY:SIMPLY THE BEST - QUATTRO DONNE CHE HANNO FATTO LA STORIA - SPETT. MUSICALE
DESCRIPTION:SABATO 25 NOVEMBRE 2023 ORE 21.00 \n \nSpettacolo di musica e danza dell’accademia musicale TAKE YOUR TIME per la Giornata contro la violenza sulle donne 2023 \nLa TAKE YOUR TIME è una realtà giovane\, nata sul territorio di Castellanza da un’ idea del direttore artistico Matteo Cirigliano che ha voluto realizzare un luogo fisico\, aperto a tutti dove trasmettere passione per l’arte e la musica in tutte le sue svariate forme.
URL:http://fratellosole.it/evento/simply-the-best-quattro-donne-che-hanno-fatto-la-storia-spett-musicale/
LOCATION:Sala – Cinema Fratello Sole
END:VEVENT
BEGIN:VEVENT
DTSTART;TZID=Europe/Rome:20231124T203000
DTEND;TZID=Europe/Rome:20231124T230000
DTSTAMP:20260424T143918
CREATED:20231109T141621Z
LAST-MODIFIED:20231109T141621Z
UID:5957-1700857800-1700866800@fratellosole.it
SUMMARY:AVIS - SERATA DEL DONATORE
DESCRIPTION:Venerdì 24 novembre 2023 ore 20.45
URL:http://fratellosole.it/evento/avis-serata-del-donatore/
LOCATION:Sala – Cinema Fratello Sole
END:VEVENT
BEGIN:VEVENT
DTSTART;TZID=Europe/Rome:20231123T210000
DTEND;TZID=Europe/Rome:20231123T233000
DTSTAMP:20260424T143918
CREATED:20230828T134838Z
LAST-MODIFIED:20230828T134838Z
UID:5681-1700773200-1700782200@fratellosole.it
SUMMARY:EMILY
DESCRIPTION:GIOVEDI’ 23 NOVEMBRE 2023 ORE 21.00 \n \nScheda film: \nhttps://fratellosole.it/emily/
URL:http://fratellosole.it/evento/emily-2/
END:VEVENT
BEGIN:VEVENT
DTSTART;TZID=Europe/Rome:20231123T160000
DTEND;TZID=Europe/Rome:20231123T183000
DTSTAMP:20260424T143918
CREATED:20230828T134646Z
LAST-MODIFIED:20230828T134646Z
UID:5679-1700755200-1700764200@fratellosole.it
SUMMARY:EMILY
DESCRIPTION:GIOVEDI’ 23 NOVEMBRE 2023 ORE 16.00 \n \nScheda film: \nhttps://fratellosole.it/emily/
URL:http://fratellosole.it/evento/emily/
END:VEVENT
BEGIN:VEVENT
DTSTART;TZID=Europe/Rome:20231122T180000
DTEND;TZID=Europe/Rome:20231122T193000
DTSTAMP:20260424T143918
CREATED:20231109T060907Z
LAST-MODIFIED:20231109T060907Z
UID:5946-1700676000-1700681400@fratellosole.it
SUMMARY:PRESENTAZIONE DEL LIBRO "VOLEVO ESSERE UN SUPEREROE" DI SABRINA SCHILLACI
DESCRIPTION:Mercoledì 22 novembre 2023 ore 18.00\n \nPresentazione del libro VOLEVO ESSERE UN SUPEREROE di Sabrina Schillaci \nConduce la serata la presidente della Casa Editrice TraccePerLaMeta\, prof. Anna Maria Folchini Stabile \nINGRESSO LIBERO \n  \nPer saperne di più: \nhttp://fratellosole.it/sabrina-schillaci-presentazione-del-libro-volevo-essere-un-supereroe/
URL:http://fratellosole.it/evento/presentazione-del-libro-volevo-essere-un-supereroe-di-sabrina-schillaci/
LOCATION:Salone polifunzionale- Fratello Sole\, Busto Arsizio
END:VEVENT
BEGIN:VEVENT
DTSTART;TZID=Europe/Rome:20231119T210000
DTEND;TZID=Europe/Rome:20231119T230000
DTSTAMP:20260424T143918
CREATED:20230828T134455Z
LAST-MODIFIED:20230828T134455Z
UID:5677-1700427600-1700434800@fratellosole.it
SUMMARY:MON CRIME-LA COLPEVOLE SONO IO
DESCRIPTION:DOMENICA 19 NOVEMBRE 2023 ORE 16.00 \n \nScheda film: \nhttps://fratellosole.it/mon-crime/
URL:http://fratellosole.it/evento/mon-crime-la-colpevole-sono-io-3/
END:VEVENT
BEGIN:VEVENT
DTSTART;TZID=Europe/Rome:20231116T210000
DTEND;TZID=Europe/Rome:20231116T230000
DTSTAMP:20260424T143918
CREATED:20230828T134336Z
LAST-MODIFIED:20230828T143852Z
UID:5675-1700168400-1700175600@fratellosole.it
SUMMARY:MON CRIME-LA COLPEVOLE SONO IO
DESCRIPTION:GIOVEDI’ 16 NOVEMBRE 2023 ORE 21.00 \n \nFILM PRECEDUTO DA UN CORTOMETRAGGIO REALIZZATO DAGLI STUDENTI\nDELL’ISTITUTO CINEMATOGRAFICO MICHELANGELO ANTONIONI. INCONTRO CON I GIOVANI REGISTI. \nScheda film: \nhttps://fratellosole.it/mon-crime/
URL:http://fratellosole.it/evento/mon-crime-la-colpevole-sono-io-2/
END:VEVENT
BEGIN:VEVENT
DTSTART;TZID=Europe/Rome:20231116T160000
DTEND;TZID=Europe/Rome:20231116T183000
DTSTAMP:20260424T143918
CREATED:20230828T134159Z
LAST-MODIFIED:20230828T134159Z
UID:5673-1700150400-1700159400@fratellosole.it
SUMMARY:MON CRIME-LA COLPEVOLE SONO IO
DESCRIPTION:GIOVEDI’ 16 NOVEMBRE 2023 ORE 16.00 \n \nScheda film: \nhttps://fratellosole.it/mon-crime/
URL:http://fratellosole.it/evento/mon-crime-la-colpevole-sono-io/
END:VEVENT
BEGIN:VEVENT
DTSTART;TZID=Europe/Rome:20231112T160000
DTEND;TZID=Europe/Rome:20231112T183000
DTSTAMP:20260424T143918
CREATED:20230828T133933Z
LAST-MODIFIED:20231104T143952Z
UID:5671-1699804800-1699813800@fratellosole.it
SUMMARY:RAPITO
DESCRIPTION:DOMENICA 12 NOVEMBRE 2023 ORE 16.00 \n \nPROIEZIONE INTRODOTTA DA UN CURATORE DEL BAFF CON VIDEO DELL’INTERVISTA A MARCO BELLOCCHIO DURANTE IL BAFF 2023 \nhttps://www.youtube.com/watch?v=gf8Xnx4utbA \nScheda film: \nhttps://fratellosole.it/rapito/ \nla recensione: \nhttp://fratellosole.it/rapito-la-scheda-del-film/
URL:http://fratellosole.it/evento/rapito-3/
END:VEVENT
BEGIN:VEVENT
DTSTART;TZID=Europe/Rome:20231111T210000
DTEND;TZID=Europe/Rome:20231111T233000
DTSTAMP:20260424T143918
CREATED:20231106T063844Z
LAST-MODIFIED:20231106T063845Z
UID:5925-1699736400-1699745400@fratellosole.it
SUMMARY:TEATRO - ANDAVO A 100 ALL'ORA di Paolo Cevoli
DESCRIPTION:Sabato 11 novembre ore 21.00\nANDAVO A CENTO ALL’ORA\n \nSpettacolo Teatrale di e con Paolo Cevoli organizzato da Banco di Solidarietà “LA LUNA” di Busto Arsizio. \n“Andavo ai 100 all’ora” cantava Gianni Morandi nel suo primo singolo. Era il 1962. E in quegli anni andare ai 100 all’ora sembrava una gran velocità… oggi se si va in autostrada a quella andatura ti suonano dietro\, anche i camion trasporto suini. \nCome sono cambiate le cose in questi ultimi anni! \nPaolo Cevoli\, classe 1958\, nonno con 2 nipotini all’attivo\, immagina di raccontare ai figli dei suoi figli com’era la vita quando lui era una bambino. \nCose che oggi sembrano assurde: non c’era internet\, i telefoni avevano la rotella\, la TV era in bianco e nero; non c’erano il politicamente corretto\, la raccolta differenziata (anche perché quasi non si produceva immondizia…) e gli apericena. \nUn racconto personale che attraversa tutta la vita di Paolo fino ai giorni nostri non per dire che “una volta era meglio…” anzi! Ma per comprendere le nostre radici e ridere di noi stessi.” \nInfo e biglietti: \nANDREA: 240 5690469    –    DANILO 340 3563243    –   GIORGIO 347 7242579
URL:http://fratellosole.it/evento/teatro-andavo-a-100-allora-di-paolo-cevoli-2/
LOCATION:Sala – Cinema Fratello Sole
END:VEVENT
BEGIN:VEVENT
DTSTART;TZID=Europe/Rome:20231110T210000
DTEND;TZID=Europe/Rome:20231110T233000
DTSTAMP:20260424T143918
CREATED:20231106T063413Z
LAST-MODIFIED:20231106T063528Z
UID:5921-1699650000-1699659000@fratellosole.it
SUMMARY:TEATRO - ANDAVO A 100 ALL'ORA di Paolo Cevoli
DESCRIPTION:Venerdì 10 novembre ore 21.00\nANDAVO A CENTO ALL’ORA\n \nSpettacolo Teatrale di e con Paolo Cevoli organizzato da Banco di Solidarietà “LA LUNA” di Busto Arsizio. \n“Andavo ai 100 all’ora” cantava Gianni Morandi nel suo primo singolo. Era il 1962. E in quegli anni andare ai 100 all’ora sembrava una gran velocità… oggi se si va in autostrada a quella andatura ti suonano dietro\, anche i camion trasporto suini. \nCome sono cambiate le cose in questi ultimi anni! \nPaolo Cevoli\, classe 1958\, nonno con 2 nipotini all’attivo\, immagina di raccontare ai figli dei suoi figli com’era la vita quando lui era una bambino. \nCose che oggi sembrano assurde: non c’era internet\, i telefoni avevano la rotella\, la TV era in bianco e nero; non c’erano il politicamente corretto\, la raccolta differenziata (anche perché quasi non si produceva immondizia…) e gli apericena. \nUn racconto personale che attraversa tutta la vita di Paolo fino ai giorni nostri non per dire che “una volta era meglio…” anzi! Ma per comprendere le nostre radici e ridere di noi stessi.” \nInfo e biglietti: \nANDREA: 240 5690469    –    DANILO 340 3563243    –   GIORGIO 347 7242579 \n​
URL:http://fratellosole.it/evento/teatro-andavo-a-100-allora-di-paolo-cevoli/
LOCATION:Sala – Cinema Fratello Sole
END:VEVENT
BEGIN:VEVENT
DTSTART;TZID=Europe/Rome:20231109T210000
DTEND;TZID=Europe/Rome:20231109T233000
DTSTAMP:20260424T143918
CREATED:20230828T133811Z
LAST-MODIFIED:20230828T133811Z
UID:5669-1699563600-1699572600@fratellosole.it
SUMMARY:RAPITO
DESCRIPTION:GIOVEDI’ 9 NOVEMBRE 2023 ORE 21.00 \n \nScheda film: \nhttps://fratellosole.it/rapito/
URL:http://fratellosole.it/evento/rapito-2/
END:VEVENT
BEGIN:VEVENT
DTSTART;TZID=Europe/Rome:20231109T160000
DTEND;TZID=Europe/Rome:20231109T183000
DTSTAMP:20260424T143918
CREATED:20230828T133648Z
LAST-MODIFIED:20230828T133648Z
UID:5667-1699545600-1699554600@fratellosole.it
SUMMARY:RAPITO
DESCRIPTION:GIOVEDI’ 9 NOVEMBRE 2023 ORE 16.00 \n \nhttps://fratellosole.it/rapito/
URL:http://fratellosole.it/evento/rapito/
END:VEVENT
BEGIN:VEVENT
DTSTART;TZID=Europe/Rome:20231105T160000
DTEND;TZID=Europe/Rome:20231105T183000
DTSTAMP:20260424T143918
CREATED:20230828T133404Z
LAST-MODIFIED:20230828T133404Z
UID:5665-1699200000-1699209000@fratellosole.it
SUMMARY:INDIANA JONES E IL QUADRANTE DEL DESTINO
DESCRIPTION:DOMENICA 5 NOVEMBRE 2023 ORE 16.00 \n \nScheda film: \nhttps://fratellosole.it/indiana-jones-quadrante-destino/
URL:http://fratellosole.it/evento/indiana-jones-e-il-quadrante-del-destino-3/
END:VEVENT
BEGIN:VEVENT
DTSTART;TZID=Europe/Rome:20231102T210000
DTEND;TZID=Europe/Rome:20231102T233000
DTSTAMP:20260424T143918
CREATED:20230828T133142Z
LAST-MODIFIED:20230828T133142Z
UID:5663-1698958800-1698967800@fratellosole.it
SUMMARY:INDIANA JONES E IL QUADRANTE DEL DESTINO
DESCRIPTION:GIOVEDI’ 2 NOVEMBRE 2023 ORE 21.00 \n \nScheda film: \nhttps://fratellosole.it/indiana-jones-quadrante-destino/
URL:http://fratellosole.it/evento/indiana-jones-e-il-quadrante-del-destino-2/
END:VEVENT
BEGIN:VEVENT
DTSTART;TZID=Europe/Rome:20231102T160000
DTEND;TZID=Europe/Rome:20231102T183000
DTSTAMP:20260424T143918
CREATED:20230828T132714Z
LAST-MODIFIED:20230828T132939Z
UID:5660-1698940800-1698949800@fratellosole.it
SUMMARY:INDIANA JONES E IL QUADRANTE DEL DESTINO
DESCRIPTION:GIOVEDI’ 2 NOVEMBRE 2023 ORE 16.00 \n \nScheda film: \nhttps://fratellosole.it/indiana-jones-quadrante-destino/ \n 
URL:http://fratellosole.it/evento/indiana-jones-e-il-quadrante-del-destino/
END:VEVENT
BEGIN:VEVENT
DTSTART;TZID=Europe/Rome:20231029T160000
DTEND;TZID=Europe/Rome:20231029T183000
DTSTAMP:20260424T143918
CREATED:20230828T132420Z
LAST-MODIFIED:20230828T140733Z
UID:5658-1698595200-1698604200@fratellosole.it
SUMMARY:L'ULTIMA NOTTE DI AMORE
DESCRIPTION:DOMENICA 29 OTTOBRE 2023 ORE 16.00 \n \nScheda film: \nhttps://fratellosole.it/ultima-notte-amore/
URL:http://fratellosole.it/evento/lultima-notte-di-amore-3/
END:VEVENT
BEGIN:VEVENT
DTSTART;TZID=Europe/Rome:20231026T210000
DTEND;TZID=Europe/Rome:20231026T233000
DTSTAMP:20260424T143918
CREATED:20230828T132311Z
LAST-MODIFIED:20230828T143929Z
UID:5656-1698354000-1698363000@fratellosole.it
SUMMARY:L'ULTIMA NOTTE DI AMORE
DESCRIPTION:GIOVEDI’ 26 OTTOBRE 2023 ORE 21.00 \n \nPROIEZIONE INTRODOTTA DA UN CURATORE DEL BAFF CON CONTRIBUTI VIDEO\nE/O INCONTRO CON OSPITE (NOEMI BERTOLDI – ATTRICE DIPLOMATA ALL’ISTITUO ANTONIONI) \nScheda film: \nhttps://fratellosole.it/ultima-notte-amore/
URL:http://fratellosole.it/evento/lultima-notte-di-amore-2/
END:VEVENT
BEGIN:VEVENT
DTSTART;TZID=Europe/Rome:20231026T160000
DTEND;TZID=Europe/Rome:20231026T183000
DTSTAMP:20260424T143918
CREATED:20230828T132208Z
LAST-MODIFIED:20230828T140646Z
UID:5654-1698336000-1698345000@fratellosole.it
SUMMARY:L'ULTIMA NOTTE DI AMORE
DESCRIPTION:GIOVEDI’ 26 OTTOBRE 2023 ORE 16.00 \n \nScheda film: \nhttps://fratellosole.it/ultima-notte-amore/
URL:http://fratellosole.it/evento/lultima-notte-di-amore/
END:VEVENT
END:VCALENDAR