BEGIN:VCALENDAR
VERSION:2.0
PRODID:-//Cinema Teatro Fratello Sole - ECPv6.15.20//NONSGML v1.0//EN
CALSCALE:GREGORIAN
METHOD:PUBLISH
X-ORIGINAL-URL:http://fratellosole.it
X-WR-CALDESC:Eventi per Cinema Teatro Fratello Sole
REFRESH-INTERVAL;VALUE=DURATION:PT1H
X-Robots-Tag:noindex
X-PUBLISHED-TTL:PT1H
BEGIN:VTIMEZONE
TZID:Europe/Rome
BEGIN:DAYLIGHT
TZOFFSETFROM:+0100
TZOFFSETTO:+0200
TZNAME:CEST
DTSTART:20240331T010000
END:DAYLIGHT
BEGIN:STANDARD
TZOFFSETFROM:+0200
TZOFFSETTO:+0100
TZNAME:CET
DTSTART:20241027T010000
END:STANDARD
BEGIN:DAYLIGHT
TZOFFSETFROM:+0100
TZOFFSETTO:+0200
TZNAME:CEST
DTSTART:20250330T010000
END:DAYLIGHT
BEGIN:STANDARD
TZOFFSETFROM:+0200
TZOFFSETTO:+0100
TZNAME:CET
DTSTART:20251026T010000
END:STANDARD
BEGIN:DAYLIGHT
TZOFFSETFROM:+0100
TZOFFSETTO:+0200
TZNAME:CEST
DTSTART:20260329T010000
END:DAYLIGHT
BEGIN:STANDARD
TZOFFSETFROM:+0200
TZOFFSETTO:+0100
TZNAME:CET
DTSTART:20261025T010000
END:STANDARD
BEGIN:DAYLIGHT
TZOFFSETFROM:+0100
TZOFFSETTO:+0200
TZNAME:CEST
DTSTART:20270328T010000
END:DAYLIGHT
BEGIN:STANDARD
TZOFFSETFROM:+0200
TZOFFSETTO:+0100
TZNAME:CET
DTSTART:20271031T010000
END:STANDARD
END:VTIMEZONE
BEGIN:VEVENT
DTSTART;TZID=Europe/Rome:20260108T180000
DTEND;TZID=Europe/Rome:20260108T180000
DTSTAMP:20260423T061553
CREATED:20251215T144718Z
LAST-MODIFIED:20251215T145100Z
UID:8988-1767895200-1767895200@fratellosole.it
SUMMARY:SPRINGSTEEN - LIBERAMI DAL NULLA
DESCRIPTION:SCHEDA FILM: \n8-11 GENNAIO 2026 \n \n 
URL:http://fratellosole.it/evento/springsteen-liberami-dal-nulla/
END:VEVENT
BEGIN:VEVENT
DTSTART;TZID=Europe/Rome:20251214T160000
DTEND;TZID=Europe/Rome:20251214T183000
DTSTAMP:20260423T061553
CREATED:20250824T133658Z
LAST-MODIFIED:20250824T133658Z
UID:8592-1765728000-1765737000@fratellosole.it
SUMMARY:MISSION: IMPOSSIBLE – THE FINAL RECKONING
DESCRIPTION:SCHEDA FILM: \nhttps://fratellosole.it/final-reckoning/
URL:http://fratellosole.it/evento/mission-impossible-the-final-reckoning-3/
LOCATION:Sala – Cinema Fratello Sole
END:VEVENT
BEGIN:VEVENT
DTSTART;TZID=Europe/Rome:20251211T210000
DTEND;TZID=Europe/Rome:20251211T233000
DTSTAMP:20260423T061553
CREATED:20250824T133600Z
LAST-MODIFIED:20250824T133600Z
UID:8590-1765486800-1765495800@fratellosole.it
SUMMARY:MISSION: IMPOSSIBLE – THE FINAL RECKONING
DESCRIPTION:SCHEDA FILM: \nhttps://fratellosole.it/final-reckoning/
URL:http://fratellosole.it/evento/mission-impossible-the-final-reckoning-2/
LOCATION:Sala – Cinema Fratello Sole
END:VEVENT
BEGIN:VEVENT
DTSTART;TZID=Europe/Rome:20251211T160000
DTEND;TZID=Europe/Rome:20251211T183000
DTSTAMP:20260423T061553
CREATED:20250824T133453Z
LAST-MODIFIED:20250824T133453Z
UID:8588-1765468800-1765477800@fratellosole.it
SUMMARY:MISSION: IMPOSSIBLE – THE FINAL RECKONING
DESCRIPTION:SCHEDA FILM: \nhttps://fratellosole.it/final-reckoning/
URL:http://fratellosole.it/evento/mission-impossible-the-final-reckoning/
LOCATION:Sala – Cinema Fratello Sole
END:VEVENT
BEGIN:VEVENT
DTSTART;TZID=Europe/Rome:20251207T160000
DTEND;TZID=Europe/Rome:20251207T180000
DTSTAMP:20260423T061553
CREATED:20250824T133238Z
LAST-MODIFIED:20250824T133238Z
UID:8586-1765123200-1765130400@fratellosole.it
SUMMARY:INCANTO
DESCRIPTION:SCHEDA FILM: \nhttps://fratellosole.it/incanto/
URL:http://fratellosole.it/evento/incanto-3/
LOCATION:Sala – Cinema Fratello Sole
END:VEVENT
BEGIN:VEVENT
DTSTART;TZID=Europe/Rome:20251204T210000
DTEND;TZID=Europe/Rome:20251204T230000
DTSTAMP:20260423T061553
CREATED:20250824T133152Z
LAST-MODIFIED:20250824T133152Z
UID:8584-1764882000-1764889200@fratellosole.it
SUMMARY:INCANTO
DESCRIPTION:SCHEDA FILM: \nhttps://fratellosole.it/incanto/
URL:http://fratellosole.it/evento/incanto-2/
LOCATION:Sala – Cinema Fratello Sole
END:VEVENT
BEGIN:VEVENT
DTSTART;TZID=Europe/Rome:20251204T160000
DTEND;TZID=Europe/Rome:20251204T180000
DTSTAMP:20260423T061553
CREATED:20250824T133101Z
LAST-MODIFIED:20250824T133101Z
UID:8582-1764864000-1764871200@fratellosole.it
SUMMARY:INCANTO
DESCRIPTION:SCHEDA FILM: \nhttps://fratellosole.it/incanto/
URL:http://fratellosole.it/evento/incanto/
LOCATION:Sala – Cinema Fratello Sole
END:VEVENT
BEGIN:VEVENT
DTSTART;TZID=Europe/Rome:20251202T210000
DTEND;TZID=Europe/Rome:20251202T230000
DTSTAMP:20260423T061553
CREATED:20250829T150546Z
LAST-MODIFIED:20251129T064755Z
UID:8611-1764709200-1764716400@fratellosole.it
SUMMARY:ARTE: Caravaggio a Roma. Il viaggio del Giubileo
DESCRIPTION:Martedì 2 dicembre 2025 – ore 21.00\nCARAVAGGIO A ROMA. IL VIAGGIO DEL GIUBILEO\n \n  \nDiretto da Giovanni Piscaglia\, su soggetto di Didi Gnocchi\, con la sceneggiatura di Eleonora Angius\, prodotto da 3D Produzioni e Nexo Studios. \nPer la prima volta al cinema un documentario sulla dimensione spirituale di Caravaggio nella Roma del Giubileo. Un percorso che mette a confronto la Città Santa del Seicento e quella contemporanea\, seguendo le vicende di un genio inquieto in coincidenza con l’evento millenario che attira milioni di pellegrini. In occasione della mostra “Caravaggio 2025” a Palazzo Barberini\, il film ci guida tra ombra e luce\, dannazione e redenzione del maestro. \nPrima della proiezione breve intervento della Dott.ssa Beatrice Fiorello \n  \nCOSTO BIGLIETTI:\nIntero: euro 10\,00\nRidotto: euro 8\,00 \n  \nAPPUNTI ARTISTICI: \nhttps://fratellosole.it/caravaggio-a-roma-il-viaggio-del-giubileo/
URL:http://fratellosole.it/evento/arte-caravaggio-a-roma-il-viaggio-del-giubileo/
LOCATION:Sala – Cinema Fratello Sole
END:VEVENT
BEGIN:VEVENT
DTSTART;TZID=Europe/Rome:20251130T160000
DTEND;TZID=Europe/Rome:20251130T180000
DTSTAMP:20260423T061553
CREATED:20250824T132911Z
LAST-MODIFIED:20250824T132911Z
UID:8580-1764518400-1764525600@fratellosole.it
SUMMARY:IL NIBBIO
DESCRIPTION:SCHEDA FILM: \nhttps://fratellosole.it/nibbio/
URL:http://fratellosole.it/evento/il-nibbio-3/
LOCATION:Sala – Cinema Fratello Sole
END:VEVENT
BEGIN:VEVENT
DTSTART;TZID=Europe/Rome:20251129T210000
DTEND;TZID=Europe/Rome:20251129T230000
DTSTAMP:20260423T061553
CREATED:20250829T144822Z
LAST-MODIFIED:20251113T135650Z
UID:8599-1764450000-1764457200@fratellosole.it
SUMMARY:RASSEGNA TEATRALE: LA FORTUNA CON L'EFFE MAIUSCOLA -  Compagnia Kicecè
DESCRIPTION:Sabato 29 novembre 2025 ore 21.00\nLA FORTUNA CON L’EFFE MAIUSCOLA\ndi E. De Filippo e A. Curcio\n\nRegia di Claudio Pellegrino\nGiovanni Ruoppolo vive con la moglie Cristina ed il loro figlio adottivo Erricuccio una vita di miseria\, di stenti e di sventure. Sebbene ferito ed amareggiato\, Giovanni non rinuncia mai alla lotta con la vita per affermare la propria dignità e si industria come può in mille iniziative che il più delle volte falliscono. Finalmente\, un giorno\, anche in casa Ruoppolo\, inattesa arriva la fortuna (con la F maiuscola). Infatti a Giovanni viene comunicato che è il destinatario di una grossa eredità lasciatogli da suo fratello Federico da poco morto in America. Sta per diventare molto ricco\, ma… \n  \nCOSTO BIGLIETTI:\nIntero: euro 10\,00\nRidotto: euro 8\,00 (solo per giovani fino a 25 anni) \nABBONAMENTO 4 SPETTACOLI euro 30\,00
URL:http://fratellosole.it/evento/rassegna-teatrale-la-fortuna-con-leffe-maiuscola-compagnia-kicece/
LOCATION:Sala – Cinema Fratello Sole
END:VEVENT
BEGIN:VEVENT
DTSTART;TZID=Europe/Rome:20251127T210000
DTEND;TZID=Europe/Rome:20251127T230000
DTSTAMP:20260423T061553
CREATED:20250824T132820Z
LAST-MODIFIED:20250824T132820Z
UID:8578-1764277200-1764284400@fratellosole.it
SUMMARY:IL NIBBIO
DESCRIPTION:SCHEDA FILM: \nhttps://fratellosole.it/nibbio/
URL:http://fratellosole.it/evento/il-nibbio-2/
LOCATION:Sala – Cinema Fratello Sole
END:VEVENT
BEGIN:VEVENT
DTSTART;TZID=Europe/Rome:20251127T160000
DTEND;TZID=Europe/Rome:20251127T180000
DTSTAMP:20260423T061553
CREATED:20250824T132728Z
LAST-MODIFIED:20250824T132728Z
UID:8576-1764259200-1764266400@fratellosole.it
SUMMARY:IL NIBBIO
DESCRIPTION:SCHEDA FILM: \nhttps://fratellosole.it/nibbio/
URL:http://fratellosole.it/evento/il-nibbio/
LOCATION:Sala – Cinema Fratello Sole
END:VEVENT
BEGIN:VEVENT
DTSTART;TZID=Europe/Rome:20251123T160000
DTEND;TZID=Europe/Rome:20251123T180000
DTSTAMP:20260423T061553
CREATED:20250824T132554Z
LAST-MODIFIED:20250824T132554Z
UID:8574-1763913600-1763920800@fratellosole.it
SUMMARY:LA VITA DA GRANDI
DESCRIPTION:SCHEDA FILM: \nhttps://fratellosole.it/vita-grandi/
URL:http://fratellosole.it/evento/la-vita-da-grandi-3/
LOCATION:Sala – Cinema Fratello Sole
END:VEVENT
BEGIN:VEVENT
DTSTART;TZID=Europe/Rome:20251120T210000
DTEND;TZID=Europe/Rome:20251120T230000
DTSTAMP:20260423T061553
CREATED:20250824T132457Z
LAST-MODIFIED:20250824T132457Z
UID:8572-1763672400-1763679600@fratellosole.it
SUMMARY:LA VITA DA GRANDI
DESCRIPTION:SCHEDA FILM: \nhttps://fratellosole.it/vita-grandi/ \n 
URL:http://fratellosole.it/evento/la-vita-da-grandi-2/
LOCATION:Sala – Cinema Fratello Sole
END:VEVENT
BEGIN:VEVENT
DTSTART;TZID=Europe/Rome:20251120T160000
DTEND;TZID=Europe/Rome:20251120T180000
DTSTAMP:20260423T061553
CREATED:20250824T132330Z
LAST-MODIFIED:20250824T132330Z
UID:8570-1763654400-1763661600@fratellosole.it
SUMMARY:LA VITA DA GRANDI
DESCRIPTION:SCHEDA FILM: \nhttps://fratellosole.it/vita-grandi/
URL:http://fratellosole.it/evento/la-vita-da-grandi/
LOCATION:Sala – Cinema Fratello Sole
END:VEVENT
BEGIN:VEVENT
DTSTART;TZID=Europe/Rome:20251118T210000
DTEND;TZID=Europe/Rome:20251118T230000
DTSTAMP:20260423T061554
CREATED:20250829T152608Z
LAST-MODIFIED:20251117T055528Z
UID:8620-1763499600-1763506800@fratellosole.it
SUMMARY:FILM FUORI RASSEGNA: LA VITA ACCANTO-OSPITE MARIAPIA VELADIANO
DESCRIPTION:Martedì 18 novembre 2025 – ore 21.00 \nLA VITA ACCANTO – Drammatico\nRegia di Marco Tullio Giordana – Italia\, 2024 – 100′\ncon Sonia Bergamasco\, Paolo Pierobon\, Valentina Bellè\, Beatrice Barison\, Sara Ciocca\n                                           \nVicenza\, 1980. Maria scopre di essere incinta e annuncia con gioia la sua gravidanza al marito Osvaldo\, affermato ginecologo più avanti negli anni di lei. Ma quando la neonata Rebecca viene al mondo ha una vistosa macchia rossa sul viso e Maria la rifiuta\, individuando in quella “voglia” l’oscuro segno di un peccato nascosto. Da quel momento la grande casa in cui Maria e Osvaldo abitano insieme alla sorella gemella di lui\, Erminia\, una pianista di successo che vive al piano superiore\, si riempie di silenzi e di dolore. Rebecca cresce più che altro accudita dalla zia e fa amicizia con Lucilla\, una compagna di scuola anticonformista che per la bambina è una ventata d’aria fresca. Nell’adolescenza la ragazza comincia a reagire all’indifferenza ostile della madre e a porsi le prime domande sulla sua origine. Col tempo Rebecca arriverà ad intuire che le dinamiche famigliari custodiscono quel segreto che ha reso la sua infanzia e adolescenza tanto disfunzionali e infelici. \n  \nCON LA PRESENZA IN SALA DI MARIAPIA VELADIANO\, autrice dell’omonimo romanzo candidato al Premio Strega 2011 \n \nMariapia Veladiano è nata a Vicenza. Laureata in Filosofia e Teologia\, ha felicemente insegnato lettere per più di vent’anni ed è stata preside a Rovereto e Vicenza.\nCollabora con “Repubblica” e con la rivista “Il Regno”.\nLa vita accanto\, pubblicato con Einaudi Stile Libero\, è il suo primo romanzo\, vincitore del Premio Calvino 2010\, e secondo al Premio Strega 2011. Nel 2012 ha pubblicato\, con Einaudi Stile Libero\, Il tempo è un dio breve. Nel 2013 è uscito un piccolo giallo per ragazzi\, Messaggi da lontano\, con Rizzoli. E\, ancora con Einaudi Stile Libero\, Ma come tu resisti\, vita\, una raccolta di minuscole riflessioni sui sentimenti e le azioni. Nel 2014 ha pubblicato Parole di scuola\, edizioni Erickson. Liberissime riflessioni sulla scuola.\nNel 2016 Una storia quasi perfetta\, Guanda editore. Nel 2017\, LEI\, Guanda editore. Adesso che sei qui\, Guanda editore\, è uscito nel gennaio del 2021 e ha vinto il Premio Flaiano. Quel che ci tiene vivi viene pubblicato nel 2023. Il nuovo romanzo\, Dio della polvere\, è in libreria il 16 settembre 2025. \n  \nLa nostra recensione: \nhttp://fratellosole.it/fuori-rassegna-la-vita-accanto-recensione-del-film-e-la-nostra-ospite-mariapia-veladiano/
URL:http://fratellosole.it/evento/i-martedi-al-sole-film-fuori-rassegna-la-vita-accanto/
LOCATION:Sala – Cinema Fratello Sole
END:VEVENT
BEGIN:VEVENT
DTSTART;TZID=Europe/Rome:20251116T160000
DTEND;TZID=Europe/Rome:20251116T180000
DTSTAMP:20260423T061554
CREATED:20250824T132148Z
LAST-MODIFIED:20250824T132148Z
UID:8568-1763308800-1763316000@fratellosole.it
SUMMARY:BLACK BAG – DOPPIO GIOCO
DESCRIPTION:SCHEDA FILM: \nhttps://fratellosole.it/blackbag-doppio-gioco/
URL:http://fratellosole.it/evento/black-bag-doppio-gioco-3/
LOCATION:Sala – Cinema Fratello Sole
END:VEVENT
BEGIN:VEVENT
DTSTART;TZID=Europe/Rome:20251113T210000
DTEND;TZID=Europe/Rome:20251113T230000
DTSTAMP:20260423T061554
CREATED:20250824T132056Z
LAST-MODIFIED:20250824T132056Z
UID:8566-1763067600-1763074800@fratellosole.it
SUMMARY:BLACK BAG – DOPPIO GIOCO
DESCRIPTION:SCHEDA FILM: \nhttps://fratellosole.it/blackbag-doppio-gioco/
URL:http://fratellosole.it/evento/black-bag-doppio-gioco-2/
LOCATION:Sala – Cinema Fratello Sole
END:VEVENT
BEGIN:VEVENT
DTSTART;TZID=Europe/Rome:20251113T160000
DTEND;TZID=Europe/Rome:20251113T180000
DTSTAMP:20260423T061554
CREATED:20250824T131957Z
LAST-MODIFIED:20250824T131957Z
UID:8564-1763049600-1763056800@fratellosole.it
SUMMARY:BLACK BAG – DOPPIO GIOCO
DESCRIPTION:SCHEDA FILM: \nhttps://fratellosole.it/blackbag-doppio-gioco/ \n 
URL:http://fratellosole.it/evento/black-bag-doppio-gioco/
LOCATION:Sala – Cinema Fratello Sole
END:VEVENT
BEGIN:VEVENT
DTSTART;TZID=Europe/Rome:20251111T210000
DTEND;TZID=Europe/Rome:20251111T230000
DTSTAMP:20260423T061554
CREATED:20250829T150126Z
LAST-MODIFIED:20251107T163613Z
UID:8608-1762894800-1762902000@fratellosole.it
SUMMARY:ARTE: La grande paura di Hitler – processo all’arte degenerata
DESCRIPTION:Martedì 11 novembre 2025 – ore 21.00\nLA GRANDE PAURA DI HITLER – PROCESSO ALL’ARTE DEGENERATA\n \n  \nDiretto da Simona Risi\, su soggetto di Didi Gnocchi\, che firma anche la sceneggiatura con Sabina Fedeli e Arianna Marelli\, con la voce narrante di Iaia Forte\, prodotto da 3D Produzioni. \nI veri grandi nemici di Hitler erano artisti come Picasso\, Chagall\, Van Gogh e Matisse\, bollati dal nazismo come “degenerati”: le loro opere vennero ritirate dai musei tedeschi\, distrutte o vendute\, così come furono messe al bando la letteratura\, la musica e l’architettura non in linea con il regime. A partire dalla mostra del Musée Picasso di Parigi\, il documentario ripercorre questo attacco ideologico attraverso filmati rari\, opere censurate e testimonianze di curatori\, storici\, sociologi e psicanalisti. \nPrima della proiezione breve intervento della Dott.ssa Beatrice Fiorello \n  \nCOSTO BIGLIETTI:\nIntero: euro 10\,00\nRidotto: euro 8\,00 \n  \nAPPUNTI ARTISTICI: \nhttp://fratellosole.it/la-grande-paura-di-hitler-processo-allarte-degenerata-appunti-artistici/
URL:http://fratellosole.it/evento/arte-la-grande-paura-di-hitler-processo-allarte-degenerata/
LOCATION:Sala – Cinema Fratello Sole
END:VEVENT
BEGIN:VEVENT
DTSTART;TZID=Europe/Rome:20251109T160000
DTEND;TZID=Europe/Rome:20251109T173000
DTSTAMP:20260423T061554
CREATED:20250824T131753Z
LAST-MODIFIED:20250824T131753Z
UID:8562-1762704000-1762709400@fratellosole.it
SUMMARY:100 LITRI DI BIRRA
DESCRIPTION:SCHEDA FILM: \nhttps://fratellosole.it/100litri-birra/
URL:http://fratellosole.it/evento/100-litri-di-birra-3/
LOCATION:Sala – Cinema Fratello Sole
END:VEVENT
BEGIN:VEVENT
DTSTART;TZID=Europe/Rome:20251108T210000
DTEND;TZID=Europe/Rome:20251108T223000
DTSTAMP:20260423T061554
CREATED:20250829T144200Z
LAST-MODIFIED:20251028T064142Z
UID:8594-1762635600-1762641000@fratellosole.it
SUMMARY:RASSEGNA TEATRALE:  I COMPLESSI -  Compagnia Paolo Ferrari
DESCRIPTION:Sabato 8 novembre 2025 ore 21.00\nI COMPLESSI\ndi Jean Bernard Luc\n \nRegia di Raffaella Marchegiano.\nDopo anni di tranquilla vita coniugale\, lei\, Elena\, decide di rivolgersi ad un noto psichiatra per salvare lui\, Francesco\, che crede colpito da nevrosi. Chiedendo aiuto anche agli amici più cari\, cercherà di dissipare tutti i dubbi sui potenziali “complessi” che affliggono suo marito. Francesco\, dal canto suo\, circondato da situazioni perfino imbarazzanti\,\ncomincerà a preoccuparsi dello strano comportamento della moglie. La stravaganza regnerà sovrana\, quando Elena\, solo per amore\, lo\nindurrà verso il tradimento. \n  \nCOSTO BIGLIETTI:\nIntero: euro 10\,00\nRidotto: euro 8\,00 (solo per giovani fino a 25 anni) \nABBONAMENTO 4 SPETTACOLI euro 30\,00
URL:http://fratellosole.it/evento/rassegna-teatrale-i-complessi/
LOCATION:Sala – Cinema Fratello Sole
END:VEVENT
BEGIN:VEVENT
DTSTART;TZID=Europe/Rome:20251106T210000
DTEND;TZID=Europe/Rome:20251106T223000
DTSTAMP:20260423T061554
CREATED:20250824T131700Z
LAST-MODIFIED:20250824T131700Z
UID:8560-1762462800-1762468200@fratellosole.it
SUMMARY:100 LITRI DI BIRRA
DESCRIPTION:SCHEDA FILM: \nhttps://fratellosole.it/100litri-birra/
URL:http://fratellosole.it/evento/100-litri-di-birra-2/
LOCATION:Sala – Cinema Fratello Sole
END:VEVENT
BEGIN:VEVENT
DTSTART;TZID=Europe/Rome:20251106T160000
DTEND;TZID=Europe/Rome:20251106T173000
DTSTAMP:20260423T061554
CREATED:20250824T131553Z
LAST-MODIFIED:20250824T131553Z
UID:8558-1762444800-1762450200@fratellosole.it
SUMMARY:100 LITRI DI BIRRA
DESCRIPTION:SCHEDA FILM: \nhttps://fratellosole.it/100litri-birra/
URL:http://fratellosole.it/evento/100-litri-di-birra/
LOCATION:Sala – Cinema Fratello Sole
END:VEVENT
BEGIN:VEVENT
DTSTART;TZID=Europe/Rome:20251102T160000
DTEND;TZID=Europe/Rome:20251102T180000
DTSTAMP:20260423T061554
CREATED:20250824T131332Z
LAST-MODIFIED:20250824T131332Z
UID:8556-1762099200-1762106400@fratellosole.it
SUMMARY:SPIRIT WORLD – LA FESTA DELLE LANTERNE
DESCRIPTION:SCHEDA FILM: \nhttps://fratellosole.it/spirit-world-festa-lanterne/
URL:http://fratellosole.it/evento/spirit-world-la-festa-delle-lanterne-3/
LOCATION:Sala – Cinema Fratello Sole
END:VEVENT
BEGIN:VEVENT
DTSTART;TZID=Europe/Rome:20251030T210000
DTEND;TZID=Europe/Rome:20251030T230000
DTSTAMP:20260423T061554
CREATED:20250824T131231Z
LAST-MODIFIED:20250824T131231Z
UID:8554-1761858000-1761865200@fratellosole.it
SUMMARY:SPIRIT WORLD – LA FESTA DELLE LANTERNE
DESCRIPTION:SCHEDA FILM: \nhttps://fratellosole.it/spirit-world-festa-lanterne/
URL:http://fratellosole.it/evento/spirit-world-la-festa-delle-lanterne-2/
LOCATION:Sala – Cinema Fratello Sole
END:VEVENT
BEGIN:VEVENT
DTSTART;TZID=Europe/Rome:20251030T160000
DTEND;TZID=Europe/Rome:20251030T180000
DTSTAMP:20260423T061554
CREATED:20250824T130926Z
LAST-MODIFIED:20250824T130926Z
UID:8551-1761840000-1761847200@fratellosole.it
SUMMARY:SPIRIT WORLD – LA FESTA DELLE LANTERNE
DESCRIPTION:SCHEDA FILM: \nhttps://fratellosole.it/spirit-world-festa-lanterne/
URL:http://fratellosole.it/evento/spirit-world-la-festa-delle-lanterne/
LOCATION:Sala – Cinema Fratello Sole
END:VEVENT
BEGIN:VEVENT
DTSTART;TZID=Europe/Rome:20251026T160000
DTEND;TZID=Europe/Rome:20251026T180000
DTSTAMP:20260423T061554
CREATED:20250824T130409Z
LAST-MODIFIED:20250824T130409Z
UID:8549-1761494400-1761501600@fratellosole.it
SUMMARY:SCOMODE VERITA'
DESCRIPTION:SCHEDA FILM: \nhttps://fratellosole.it/scomode-verita/
URL:http://fratellosole.it/evento/scomode-verita-3/
LOCATION:Sala – Cinema Fratello Sole
END:VEVENT
BEGIN:VEVENT
DTSTART;TZID=Europe/Rome:20251023T210000
DTEND;TZID=Europe/Rome:20251023T230000
DTSTAMP:20260423T061554
CREATED:20250824T130315Z
LAST-MODIFIED:20250824T130315Z
UID:8547-1761253200-1761260400@fratellosole.it
SUMMARY:SCOMODE VERITA'
DESCRIPTION:SCHEDA FILM: \nhttps://fratellosole.it/scomode-verita/
URL:http://fratellosole.it/evento/scomode-verita-2/
LOCATION:Sala – Cinema Fratello Sole
END:VEVENT
BEGIN:VEVENT
DTSTART;TZID=Europe/Rome:20251023T160000
DTEND;TZID=Europe/Rome:20251023T180000
DTSTAMP:20260423T061554
CREATED:20250824T130221Z
LAST-MODIFIED:20250824T130221Z
UID:8544-1761235200-1761242400@fratellosole.it
SUMMARY:SCOMODE VERITA'
DESCRIPTION:SCHEDA FILM: \nhttps://fratellosole.it/scomode-verita/
URL:http://fratellosole.it/evento/scomode-verita/
LOCATION:Sala – Cinema Fratello Sole
END:VEVENT
END:VCALENDAR