BEGIN:VCALENDAR
VERSION:2.0
PRODID:-//Cinema Teatro Fratello Sole - ECPv6.15.20//NONSGML v1.0//EN
CALSCALE:GREGORIAN
METHOD:PUBLISH
X-WR-CALNAME:Cinema Teatro Fratello Sole
X-ORIGINAL-URL:http://fratellosole.it
X-WR-CALDESC:Eventi per Cinema Teatro Fratello Sole
REFRESH-INTERVAL;VALUE=DURATION:PT1H
X-Robots-Tag:noindex
X-PUBLISHED-TTL:PT1H
BEGIN:VTIMEZONE
TZID:Europe/Rome
BEGIN:DAYLIGHT
TZOFFSETFROM:+0100
TZOFFSETTO:+0200
TZNAME:CEST
DTSTART:20240331T010000
END:DAYLIGHT
BEGIN:STANDARD
TZOFFSETFROM:+0200
TZOFFSETTO:+0100
TZNAME:CET
DTSTART:20241027T010000
END:STANDARD
BEGIN:DAYLIGHT
TZOFFSETFROM:+0100
TZOFFSETTO:+0200
TZNAME:CEST
DTSTART:20250330T010000
END:DAYLIGHT
BEGIN:STANDARD
TZOFFSETFROM:+0200
TZOFFSETTO:+0100
TZNAME:CET
DTSTART:20251026T010000
END:STANDARD
BEGIN:DAYLIGHT
TZOFFSETFROM:+0100
TZOFFSETTO:+0200
TZNAME:CEST
DTSTART:20260329T010000
END:DAYLIGHT
BEGIN:STANDARD
TZOFFSETFROM:+0200
TZOFFSETTO:+0100
TZNAME:CET
DTSTART:20261025T010000
END:STANDARD
END:VTIMEZONE
BEGIN:VEVENT
DTSTART;TZID=Europe/Rome:20250408T210000
DTEND;TZID=Europe/Rome:20250408T224500
DTSTAMP:20260423T140927
CREATED:20241216T085432Z
LAST-MODIFIED:20250213T065156Z
UID:7444-1744146000-1744152300@fratellosole.it
SUMMARY:ARTE: L'ALBA DELL'IMPRESSIONISMO. PARIGI 1874
DESCRIPTION:SCHEDA FILM: \nhttps://fratellosole.it/lalba-dellimpressionismo-parigi-1874/
URL:http://fratellosole.it/evento/arte-lalba-dellimpressionismo-parigi-1874/
LOCATION:Sala – Cinema Fratello Sole
END:VEVENT
BEGIN:VEVENT
DTSTART;TZID=Europe/Rome:20250406T160000
DTEND;TZID=Europe/Rome:20250406T183000
DTSTAMP:20260423T140927
CREATED:20250313T061609Z
LAST-MODIFIED:20250316T142629Z
UID:7797-1743955200-1743964200@fratellosole.it
SUMMARY:A COMPLETE UNKNOWN
DESCRIPTION:SCHEDA FILM: \nhttp://fratellosole.it/complete-unknown/
URL:http://fratellosole.it/evento/a-complete-unknown-3/
LOCATION:Sala – Cinema Fratello Sole
END:VEVENT
BEGIN:VEVENT
DTSTART;TZID=Europe/Rome:20250404T170000
DTEND;TZID=Europe/Rome:20250404T190000
DTSTAMP:20260423T140927
CREATED:20250313T071827Z
LAST-MODIFIED:20250316T144329Z
UID:7871-1743786000-1743793200@fratellosole.it
SUMMARY:FILM BAFilmFestival
DESCRIPTION:Biglietti e abbonamenti: \nhttps://oooh.events
URL:http://fratellosole.it/evento/film-bafilmfestival-5/
LOCATION:Sala – Cinema Fratello Sole
END:VEVENT
BEGIN:VEVENT
DTSTART;TZID=Europe/Rome:20250404T150000
DTEND;TZID=Europe/Rome:20250404T170000
DTSTAMP:20260423T140927
CREATED:20250313T071743Z
LAST-MODIFIED:20250316T145516Z
UID:7869-1743778800-1743786000@fratellosole.it
SUMMARY:FILM BAFilmFestival
DESCRIPTION:     \nBiglietti e abbonamenti \nhttps://oooh.events
URL:http://fratellosole.it/evento/film-bafilmfestival-4/
LOCATION:Sala – Cinema Fratello Sole
END:VEVENT
BEGIN:VEVENT
DTSTART;TZID=Europe/Rome:20250403T210000
DTEND;TZID=Europe/Rome:20250403T233000
DTSTAMP:20260423T140927
CREATED:20250313T061521Z
LAST-MODIFIED:20250316T142602Z
UID:7795-1743714000-1743723000@fratellosole.it
SUMMARY:A COMPLETE UNKNOWN
DESCRIPTION:SCHEDA FILM: \nhttp://fratellosole.it/complete-unknown/
URL:http://fratellosole.it/evento/a-complete-unknown-2/
LOCATION:Sala – Cinema Fratello Sole
END:VEVENT
BEGIN:VEVENT
DTSTART;TZID=Europe/Rome:20250403T160000
DTEND;TZID=Europe/Rome:20250403T183000
DTSTAMP:20260423T140927
CREATED:20250313T061421Z
LAST-MODIFIED:20250316T142535Z
UID:7792-1743696000-1743705000@fratellosole.it
SUMMARY:A COMPLETE UNKNOWN
DESCRIPTION:SCHEDA FILM: \nhttp://fratellosole.it/complete-unknown/
URL:http://fratellosole.it/evento/a-complete-unknown/
LOCATION:Sala – Cinema Fratello Sole
END:VEVENT
BEGIN:VEVENT
DTSTART;TZID=Europe/Rome:20250402T203000
DTEND;TZID=Europe/Rome:20250402T233000
DTSTAMP:20260423T140927
CREATED:20250316T144113Z
LAST-MODIFIED:20250318T055047Z
UID:7958-1743625800-1743636600@fratellosole.it
SUMMARY:FILM BAFilm Festival
DESCRIPTION:   \nBiglietti e abbonamenti: \nhttps://oooh.events
URL:http://fratellosole.it/evento/film-bafilm-festival/
LOCATION:Sala – Cinema Fratello Sole
END:VEVENT
BEGIN:VEVENT
DTSTART;TZID=Europe/Rome:20250402T170000
DTEND;TZID=Europe/Rome:20250402T190000
DTSTAMP:20260423T140927
CREATED:20250313T071704Z
LAST-MODIFIED:20250316T145330Z
UID:7867-1743613200-1743620400@fratellosole.it
SUMMARY:FILM BAFilmFestival
DESCRIPTION:   \nBiglietti e abbonamenti \nhttps://oooh.events
URL:http://fratellosole.it/evento/film-bafilmfestival-3/
LOCATION:Sala – Cinema Fratello Sole
END:VEVENT
BEGIN:VEVENT
DTSTART;TZID=Europe/Rome:20250402T150000
DTEND;TZID=Europe/Rome:20250402T170000
DTSTAMP:20260423T140927
CREATED:20250313T071622Z
LAST-MODIFIED:20250316T145257Z
UID:7865-1743606000-1743613200@fratellosole.it
SUMMARY:FILM BAFilmFestival
DESCRIPTION:   \nBiglietti e abbonamenti \nhttps://oooh.events
URL:http://fratellosole.it/evento/film-bafilmfestival-2/
LOCATION:Sala – Cinema Fratello Sole
END:VEVENT
BEGIN:VEVENT
DTSTART;TZID=Europe/Rome:20250401T170000
DTEND;TZID=Europe/Rome:20250401T190000
DTSTAMP:20260423T140927
CREATED:20250313T071535Z
LAST-MODIFIED:20250316T145150Z
UID:7863-1743526800-1743534000@fratellosole.it
SUMMARY:FILM BAFilmFestival
DESCRIPTION:   \nBiglietti e abbonamenti \nhttps://oooh.events
URL:http://fratellosole.it/evento/film-bafilmfestival/
LOCATION:Sala – Cinema Fratello Sole
END:VEVENT
BEGIN:VEVENT
DTSTART;TZID=Europe/Rome:20250401T150000
DTEND;TZID=Europe/Rome:20250401T170000
DTSTAMP:20260423T140927
CREATED:20250313T071431Z
LAST-MODIFIED:20250316T145059Z
UID:7859-1743519600-1743526800@fratellosole.it
SUMMARY:FILM BAFilmFestival
DESCRIPTION:     \nBiglietti e abbonamenti \nhttps://oooh.events
URL:http://fratellosole.it/evento/film-baff/
LOCATION:Sala – Cinema Fratello Sole
END:VEVENT
BEGIN:VEVENT
DTSTART;TZID=Europe/Rome:20250330T203000
DTEND;TZID=Europe/Rome:20250330T233000
DTSTAMP:20260423T140927
CREATED:20250313T071002Z
LAST-MODIFIED:20250318T055129Z
UID:7854-1743366600-1743377400@fratellosole.it
SUMMARY:BAFF: ospite NANNI MORETTI - film IO SONO UN AUTARCHICO
DESCRIPTION:   \nDomenica 30 marzo al Teatro Fratello Sole\, il BAFF ospita Nanni Moretti\, autore di capolavori come La stanza del figlio (Palma d’Oro a Cannes)\, La messa è finita (Orso d’Oro a Berlino) e Caro diario. Il regista ci accompagnerà alla riscoperta del suo primo lungometraggio\, Io sono un autarchico (1976)\, il film che ha segnato la nascita del suo alter ego Michele Apicella e dato il via a uno stile inconfondibile. Girato in Super8 con amici\, familiari e intellettuali\, il film è un ritratto ironico e tagliente della cultura post-sessantottina. Un’opera che ha segnato un’epoca e che Moretti introdurrà in un incontro speciale con il pubblico del BAFF. \nBiglietti e abbonamenti: \nhttps://oooh.events
URL:http://fratellosole.it/evento/baff-nanni-moretti-film-io-sono-un-autarchico/
LOCATION:Sala – Cinema Fratello Sole
END:VEVENT
BEGIN:VEVENT
DTSTART;TZID=Europe/Rome:20250330T160000
DTEND;TZID=Europe/Rome:20250330T183000
DTSTAMP:20260423T140927
CREATED:20250313T061234Z
LAST-MODIFIED:20250316T142436Z
UID:7790-1743350400-1743359400@fratellosole.it
SUMMARY:L'ABBAGLIO
DESCRIPTION:SCHEDA FILM: \nhttp://fratellosole.it/abbaglio/
URL:http://fratellosole.it/evento/labbaglio-3/
LOCATION:Sala – Cinema Fratello Sole
END:VEVENT
BEGIN:VEVENT
DTSTART;TZID=Europe/Rome:20250327T210000
DTEND;TZID=Europe/Rome:20250327T233000
DTSTAMP:20260423T140927
CREATED:20250313T061132Z
LAST-MODIFIED:20250316T142408Z
UID:7788-1743109200-1743118200@fratellosole.it
SUMMARY:L'ABBAGLIO
DESCRIPTION:SCHEDA FILM: \nhttp://fratellosole.it/abbaglio/
URL:http://fratellosole.it/evento/labbaglio-2/
LOCATION:Sala – Cinema Fratello Sole
END:VEVENT
BEGIN:VEVENT
DTSTART;TZID=Europe/Rome:20250327T160000
DTEND;TZID=Europe/Rome:20250327T183000
DTSTAMP:20260423T140927
CREATED:20250313T061026Z
LAST-MODIFIED:20250316T142338Z
UID:7785-1743091200-1743100200@fratellosole.it
SUMMARY:L'ABBAGLIO
DESCRIPTION:SCHEDA FILM: \nhttp://fratellosole.it/abbaglio/
URL:http://fratellosole.it/evento/labbaglio/
LOCATION:Sala – Cinema Fratello Sole
END:VEVENT
BEGIN:VEVENT
DTSTART;TZID=Europe/Rome:20250324T204500
DTEND;TZID=Europe/Rome:20250324T223000
DTSTAMP:20260423T140927
CREATED:20250313T070316Z
LAST-MODIFIED:20250313T070316Z
UID:7851-1742849100-1742855400@fratellosole.it
SUMMARY:TEATRO: VOCI DEL VERBO SCEGLIERE - Compagnia Teatro Minimo
DESCRIPTION:Ispirato a una storia vera. \nUna storia di amicizia\, tradimento e perdono. \nVera\, incredibilmente vera. E drammatica come tanti avvenimenti accaduti in un’epoca di contraddizioni e confusione. Elena e Saverio intrecciano le loro parole raccontando la storia di Arduino e Battista\, rispettivamente marito di lei\, figlio di lui. Arduino e Battista si sono conosciuti in caserma\, hanno partecipato fianco a fianco alla campagna di Russia\, si sono sostenuti nel drammatico ritorno. Dopo l’Armistizio del settembre ’43\, l’esercito italiano viene sciolto. Arduino non può far altro che arruolarsi nelle milizie della Repubblica di Salò ; Battista\, avendo assolto gli obblighi di leva\, preferisce tornare a casa\, per essere d’aiuto alla sua famiglia. Nel tardo pomeriggio del 14 luglio 1944\, dopo aver fatto oltre cento chilometri in bicicletta per andare a comprare un sacco di farina\, e poco prima di arrivare a casa\, Battista viene fermato dai repubblichini e ingiustamente accusato di sostenere il movimento partigiano. Tra loro Arduino. I due si riconoscono\,\nBattista è sollevato\, immagina già di raccontarlo a casa\, ma Arduino è un uomo diverso\, con una camicia nera\, la voce troppo alta… \nDedicato a Guerino Donda\, il vero protagonista di questa storia \nCompagnia Teatro Minimo \nTesto e Regia di Umberto Zanoletti \n 
URL:http://fratellosole.it/evento/teatro-voci-del-verbo-scegliere-compagnia-teatro-minimo/
LOCATION:Sala – Cinema Fratello Sole
END:VEVENT
BEGIN:VEVENT
DTSTART;TZID=Europe/Rome:20250323T160000
DTEND;TZID=Europe/Rome:20250323T183000
DTSTAMP:20260423T140927
CREATED:20250313T060849Z
LAST-MODIFIED:20250316T142235Z
UID:7783-1742745600-1742754600@fratellosole.it
SUMMARY:DIAMANTI
DESCRIPTION:SCHEDA FILM: \nhttp://fratellosole.it/diamanti/
URL:http://fratellosole.it/evento/diamanti-3/
LOCATION:Sala – Cinema Fratello Sole
END:VEVENT
BEGIN:VEVENT
DTSTART;TZID=Europe/Rome:20250320T210000
DTEND;TZID=Europe/Rome:20250320T233000
DTSTAMP:20260423T140927
CREATED:20250313T060748Z
LAST-MODIFIED:20250316T142209Z
UID:7781-1742504400-1742513400@fratellosole.it
SUMMARY:DIAMANTI
DESCRIPTION:SCHEDA FILM: \nhttp://fratellosole.it/diamanti/
URL:http://fratellosole.it/evento/diamanti-2/
LOCATION:Sala – Cinema Fratello Sole
END:VEVENT
BEGIN:VEVENT
DTSTART;TZID=Europe/Rome:20250320T160000
DTEND;TZID=Europe/Rome:20250320T183000
DTSTAMP:20260423T140927
CREATED:20250313T060641Z
LAST-MODIFIED:20250316T142126Z
UID:7778-1742486400-1742495400@fratellosole.it
SUMMARY:DIAMANTI
DESCRIPTION:  \nSCHEDA FILM: \nhttp://fratellosole.it/diamanti/
URL:http://fratellosole.it/evento/diamanti/
LOCATION:Sala – Cinema Fratello Sole
END:VEVENT
BEGIN:VEVENT
DTSTART;TZID=Europe/Rome:20250316T160000
DTEND;TZID=Europe/Rome:20250316T180000
DTSTAMP:20260423T140927
CREATED:20241216T083212Z
LAST-MODIFIED:20241216T083212Z
UID:7431-1742140800-1742148000@fratellosole.it
SUMMARY:GIURATO NUMERO 2
DESCRIPTION:SCHEDA FILM: \nhttps://fratellosole.it/giurato-2/
URL:http://fratellosole.it/evento/giurato-numero-2-3/
LOCATION:Sala – Cinema Fratello Sole
END:VEVENT
BEGIN:VEVENT
DTSTART;TZID=Europe/Rome:20250315T210000
DTEND;TZID=Europe/Rome:20250315T233000
DTSTAMP:20260423T140927
CREATED:20241216T084836Z
LAST-MODIFIED:20250312T060154Z
UID:7438-1742072400-1742081400@fratellosole.it
SUMMARY:TEATRO: POMPIERI IN TACCHI A SPILLO
DESCRIPTION:Commedia Brillante – Compagnia Filodrammatica Cittadina Paolo Ferrari \ndi Eva De Rosa \nRegia di Vincenzo d’Alesio \n\nCommedia brillante in due atti in cui 5 donne e 5 uomini racconteranno la divertente storia di due pompieri che si fingono coppia gay per recuperare i soldi di una polizza.\n\n\nIn questa commedia verranno trattati due temi importantissimi\, il valore della vera amicizia\, come e fino a che punto si spinge l’amico e si approfondirà il tema delle coppie gay\, delle unioni civili e delle coppie di fatto\, in modo simpatico con una scrittura leggera e frizzante.\n\nENTRATA AD OFFERTA LIBERA – Il ricavato sarà interamente devoluto alle associazioni partecipanti
URL:http://fratellosole.it/evento/teatro-pompieri-in-tacchi-a-spillo/
LOCATION:Sala – Cinema Fratello Sole
END:VEVENT
BEGIN:VEVENT
DTSTART;TZID=Europe/Rome:20250313T210000
DTEND;TZID=Europe/Rome:20250313T230000
DTSTAMP:20260423T140927
CREATED:20241216T083112Z
LAST-MODIFIED:20241216T083112Z
UID:7429-1741899600-1741906800@fratellosole.it
SUMMARY:GIURATO NUMERO 2
DESCRIPTION:SCHEDA FILM: \nhttps://fratellosole.it/giurato-2/
URL:http://fratellosole.it/evento/giurato-numero-2-2/
LOCATION:Sala – Cinema Fratello Sole
END:VEVENT
BEGIN:VEVENT
DTSTART;TZID=Europe/Rome:20250313T160000
DTEND;TZID=Europe/Rome:20250313T180000
DTSTAMP:20260423T140927
CREATED:20241216T083007Z
LAST-MODIFIED:20241216T083007Z
UID:7427-1741881600-1741888800@fratellosole.it
SUMMARY:GIURATO NUMERO 2
DESCRIPTION:SCHEDA FILM: \nhttps://fratellosole.it/giurato-2/
URL:http://fratellosole.it/evento/giurato-numero-2/
LOCATION:Sala – Cinema Fratello Sole
END:VEVENT
BEGIN:VEVENT
DTSTART;TZID=Europe/Rome:20250309T160000
DTEND;TZID=Europe/Rome:20250309T174500
DTSTAMP:20260423T140927
CREATED:20241216T082827Z
LAST-MODIFIED:20241216T082827Z
UID:7425-1741536000-1741542300@fratellosole.it
SUMMARY:IL MAESTRO CHE PROMISE IL MARE
DESCRIPTION:SCHEDA FILM: \nhttps://fratellosole.it/maestro-promise-mare/
URL:http://fratellosole.it/evento/il-maestro-che-promise-il-mare-3/
LOCATION:Sala – Cinema Fratello Sole
END:VEVENT
BEGIN:VEVENT
DTSTART;TZID=Europe/Rome:20250306T210000
DTEND;TZID=Europe/Rome:20250306T224500
DTSTAMP:20260423T140927
CREATED:20241216T082720Z
LAST-MODIFIED:20241216T082720Z
UID:7423-1741294800-1741301100@fratellosole.it
SUMMARY:IL MAESTRO CHE PROMISE IL MARE
DESCRIPTION:SCHEDA FILM: \nhttps://fratellosole.it/maestro-promise-mare/
URL:http://fratellosole.it/evento/il-maestro-che-promise-il-mare-2/
LOCATION:Sala – Cinema Fratello Sole
END:VEVENT
BEGIN:VEVENT
DTSTART;TZID=Europe/Rome:20250306T160000
DTEND;TZID=Europe/Rome:20250306T174500
DTSTAMP:20260423T140927
CREATED:20241216T082607Z
LAST-MODIFIED:20241216T082607Z
UID:7421-1741276800-1741283100@fratellosole.it
SUMMARY:IL MAESTRO CHE PROMISE IL MARE
DESCRIPTION:SCHEDA FILM: \nhttps://fratellosole.it/maestro-promise-mare/
URL:http://fratellosole.it/evento/il-maestro-che-promise-il-mare/
LOCATION:Sala – Cinema Fratello Sole
END:VEVENT
BEGIN:VEVENT
DTSTART;TZID=Europe/Rome:20250306T093000
DTEND;TZID=Europe/Rome:20250306T113000
DTSTAMP:20260423T140927
CREATED:20250121T063122Z
LAST-MODIFIED:20250121T063528Z
UID:7527-1741253400-1741260600@fratellosole.it
SUMMARY:PROIEZIONE PER LE SCUOLE: IO CAPITANO
DESCRIPTION:ISTITUTO ACOF – BUSTO ARSIZIO
URL:http://fratellosole.it/evento/proiezione-per-le-scuole-io-capitano/
LOCATION:Sala – Cinema Fratello Sole
END:VEVENT
BEGIN:VEVENT
DTSTART;TZID=Europe/Rome:20250304T210000
DTEND;TZID=Europe/Rome:20250304T224500
DTSTAMP:20260423T140927
CREATED:20241216T085256Z
LAST-MODIFIED:20250213T064941Z
UID:7442-1741122000-1741128300@fratellosole.it
SUMMARY:ARTE: VAN GOGH. POETI E AMANTI
DESCRIPTION:SCHEDA FILM: \nhttps://fratellosole.it/van-gogh-poeti-e-amanti/
URL:http://fratellosole.it/evento/arte-van-gogh-poeti-e-amanti/
LOCATION:Sala – Cinema Fratello Sole
END:VEVENT
BEGIN:VEVENT
DTSTART;TZID=Europe/Rome:20250302T160000
DTEND;TZID=Europe/Rome:20250302T180000
DTSTAMP:20260423T140927
CREATED:20241216T082356Z
LAST-MODIFIED:20241216T082356Z
UID:7419-1740931200-1740938400@fratellosole.it
SUMMARY:ALL WE IMAGINE AS LIGHT-AMORE A MUMBAI
DESCRIPTION:SCHEDA FILM: \nhttps://fratellosole.it/amore-mumbai/
URL:http://fratellosole.it/evento/all-we-imagine-as-light-amore-a-mumbai-3/
LOCATION:Sala – Cinema Fratello Sole
END:VEVENT
BEGIN:VEVENT
DTSTART;TZID=Europe/Rome:20250228T210000
DTEND;TZID=Europe/Rome:20250228T230000
DTSTAMP:20260423T140927
CREATED:20250124T141311Z
LAST-MODIFIED:20250124T141451Z
UID:7564-1740776400-1740783600@fratellosole.it
SUMMARY:CONCERTO B.A. CLASSICA: LUIGI CARROCCIA - PIANOFORTE
DESCRIPTION:  \n\n\nLuigi Carroccia – Pianoforte\nPAGINE DI DIARIO – TCHAIKOVSKY e CHOPIN\n  \n  \n  \nDescritto dal Fort Worth Star-Telegram come un “aristocratico del pianoforte”\, Luigi Carroccia ha vinto numerosi premi in Concorsi nazionali ed internazionali\, tra i quali il “Virtuoso Prize” al Vendome Piano Prize svolto durante il Festival di Verbier 2019 e il\n“Premio Abbado” indetto dal MIUR in memoria di Claudio Abbado. Luigi ha intrapreso i suoi studi musicali sotto la guida del padre e del nonno\, entrambi musicisti. La sua maturazione artistica è poi proseguita presso il Conservatorio “C. Monteverdi” di Bolzano dove ha ottenuto il Diploma Vecchio ordinamento in Pianoforte con il massimo dei voti e lode e il diploma Accademico di II livello in Pianoforte solistico con 110\, lode e menzione d’onore. Nel 2016 ha ricevuto una Junior Fellowship dal Royal Birmingham Conservatoire e dal 2018 al 2022 è stato Artist in Residence presso la Queen Elisabeth Music Chapel di Waterloo sotto la guida di Louis Lortie. La sua attività concertistica lo ha visto regolarmente impegnato in Italia e all’estero \n  \nBIGLIETTO INTERO € 15\,00\nBIGLIETTO RIDOTTO € 10\,00 (UNDER 26 E OVER 65) \nACQUISTO BIGLIETTI SU OOOH.EVENTS O IN TEATRO PRIMA DEL CONCERTO
URL:http://fratellosole.it/evento/concerto-b-a-classica-luigi-carroccia-pianoforte/
LOCATION:Sala – Cinema Fratello Sole
END:VEVENT
END:VCALENDAR