BEGIN:VCALENDAR
VERSION:2.0
PRODID:-//Cinema Teatro Fratello Sole - ECPv6.15.20//NONSGML v1.0//EN
CALSCALE:GREGORIAN
METHOD:PUBLISH
X-WR-CALNAME:Cinema Teatro Fratello Sole
X-ORIGINAL-URL:http://fratellosole.it
X-WR-CALDESC:Eventi per Cinema Teatro Fratello Sole
REFRESH-INTERVAL;VALUE=DURATION:PT1H
X-Robots-Tag:noindex
X-PUBLISHED-TTL:PT1H
BEGIN:VTIMEZONE
TZID:Europe/Rome
BEGIN:DAYLIGHT
TZOFFSETFROM:+0100
TZOFFSETTO:+0200
TZNAME:CEST
DTSTART:20250330T010000
END:DAYLIGHT
BEGIN:STANDARD
TZOFFSETFROM:+0200
TZOFFSETTO:+0100
TZNAME:CET
DTSTART:20251026T010000
END:STANDARD
BEGIN:DAYLIGHT
TZOFFSETFROM:+0100
TZOFFSETTO:+0200
TZNAME:CEST
DTSTART:20260329T010000
END:DAYLIGHT
BEGIN:STANDARD
TZOFFSETFROM:+0200
TZOFFSETTO:+0100
TZNAME:CET
DTSTART:20261025T010000
END:STANDARD
BEGIN:DAYLIGHT
TZOFFSETFROM:+0100
TZOFFSETTO:+0200
TZNAME:CEST
DTSTART:20270328T010000
END:DAYLIGHT
BEGIN:STANDARD
TZOFFSETFROM:+0200
TZOFFSETTO:+0100
TZNAME:CET
DTSTART:20271031T010000
END:STANDARD
END:VTIMEZONE
BEGIN:VEVENT
DTSTART;TZID=Europe/Rome:20260416T210000
DTEND;TZID=Europe/Rome:20260416T223000
DTSTAMP:20260423T124523
CREATED:20260309T064419Z
LAST-MODIFIED:20260316T134413Z
UID:9311-1776373200-1776378600@fratellosole.it
SUMMARY:MERCY - SOTTO ACCUSA
DESCRIPTION:MERCY – SOTTO ACCUSA di Timor Bekmambetov\n \nSCHEDA FILM: \nhttp://fratellosole.it/mercy-sotto-accusa/
URL:http://fratellosole.it/evento/mercy-sotto-accusa-2/
LOCATION:Sala – Cinema Fratello Sole
END:VEVENT
BEGIN:VEVENT
DTSTART;TZID=Europe/Rome:20260419T160000
DTEND;TZID=Europe/Rome:20260419T180000
DTSTAMP:20260423T124523
CREATED:20260309T064535Z
LAST-MODIFIED:20260316T134443Z
UID:9313-1776614400-1776621600@fratellosole.it
SUMMARY:MERCY - SOTTO ACCUSA
DESCRIPTION:MERCY – SOTTO ACCUSA di Timor Bekmambetov\n \nSCHEDA FILM: \nhttp://fratellosole.it/mercy-sotto-accusa/
URL:http://fratellosole.it/evento/mercy-sotto-accusa-3/
LOCATION:Sala – Cinema Fratello Sole
END:VEVENT
BEGIN:VEVENT
DTSTART;TZID=Europe/Rome:20260421T210000
DTEND;TZID=Europe/Rome:20260421T223000
DTSTAMP:20260423T124523
CREATED:20260128T072603Z
LAST-MODIFIED:20260128T073855Z
UID:9172-1776805200-1776810600@fratellosole.it
SUMMARY:I MARTEDÌ AL SOLE/LA GRANDE ARTE AL CINEMA: TINTORETTO. UN RIBELLE A VENEZIA
DESCRIPTION:I MARTEDÌ AL SOLE\nTINTORETTO. UN RIBELLE A VENEZIA\n \n  \nDocufilm diretto da Giuseppe Domingo Romano \nFiglio di un tintore\, da cui il suo nome d’arte\, Tintoretto (1519-1594) è infatti l’unico grande pittore del Rinascimento a non aver mai abbandonato Venezia\, nemmeno negli anni della peste. Immergendoci nella Venezia del Rinascimento e attraversando alcuni dei luoghi che più conservano la memoria dell’artista\, dall’Archivio di Stato a Palazzo Ducale\, da Piazza San Marco alla Chiesa di San Rocco\, verremo così guidati attraverso le vicende di Jacopo Robusti\, in arte Tintoretto\, dai primi anni della sua formazione artistica fino alla morte\, senza trascurare l’affascinante fase della formazione della sua bottega\, luogo in cui lavorano anche alcuni dei suoi figli\, Domenico\, che erediterà l’impresa del padre\, e l’amatissima Marietta\, talentuosa pittrice. \n 
URL:http://fratellosole.it/evento/i-martedi-al-sole-la-grande-arte-al-cinema-tintoretto-un-ribelle-a-venezia/
LOCATION:Sala – Cinema Fratello Sole
END:VEVENT
BEGIN:VEVENT
DTSTART;TZID=Europe/Rome:20260423T160000
DTEND;TZID=Europe/Rome:20260423T181500
DTSTAMP:20260423T124523
CREATED:20260309T064704Z
LAST-MODIFIED:20260316T134532Z
UID:9315-1776960000-1776968100@fratellosole.it
SUMMARY:LA GRAZIA
DESCRIPTION:LA GRAZIA di Paolo Sorrentino\n \nSCHEDA FILM: \nhttp://fratellosole.it/lagrazia/ \n 
URL:http://fratellosole.it/evento/la-grazia/
LOCATION:Sala – Cinema Fratello Sole
END:VEVENT
BEGIN:VEVENT
DTSTART;TZID=Europe/Rome:20260423T210000
DTEND;TZID=Europe/Rome:20260423T231500
DTSTAMP:20260423T124523
CREATED:20260309T064815Z
LAST-MODIFIED:20260316T134558Z
UID:9318-1776978000-1776986100@fratellosole.it
SUMMARY:LA GRAZIA
DESCRIPTION:LA GRAZIA di Paolo Sorrentino\n \nSCHEDA FILM: \nhttp://fratellosole.it/lagrazia/
URL:http://fratellosole.it/evento/la-grazia-2/
LOCATION:Sala – Cinema Fratello Sole
END:VEVENT
BEGIN:VEVENT
DTSTART;TZID=Europe/Rome:20260426T160000
DTEND;TZID=Europe/Rome:20260426T181500
DTSTAMP:20260423T124523
CREATED:20260309T064929Z
LAST-MODIFIED:20260316T134627Z
UID:9320-1777219200-1777227300@fratellosole.it
SUMMARY:LA GRAZIA
DESCRIPTION:LA GRAZIA di Paolo Sorrentino\n \nSCHEDA FILM: \nhttp://fratellosole.it/lagrazia/
URL:http://fratellosole.it/evento/la-grazia-3/
LOCATION:Sala – Cinema Fratello Sole
END:VEVENT
BEGIN:VEVENT
DTSTART;TZID=Europe/Rome:20260428T210000
DTEND;TZID=Europe/Rome:20260428T230000
DTSTAMP:20260423T124523
CREATED:20260128T073424Z
LAST-MODIFIED:20260128T073424Z
UID:9178-1777410000-1777417200@fratellosole.it
SUMMARY:I MARTEDÌ AL SOLE: CONFERENZA ALBERTO PELLAI
DESCRIPTION:I MARTEDÌ AL SOLE\n \nALBERTO PELLAI \n“QUALE VERITÀ RICERCANO GLI ADOLESCENTI E QUALE VERITÀ TRASMETTONO GLI ADULTI “\nINGRESSO LIBERO \n 
URL:http://fratellosole.it/evento/i-martedi-al-sole-conferenza-alberto-pellai/
LOCATION:Sala – Cinema Fratello Sole
END:VEVENT
BEGIN:VEVENT
DTSTART;TZID=Europe/Rome:20260430T160000
DTEND;TZID=Europe/Rome:20260430T173000
DTSTAMP:20260423T124523
CREATED:20260309T065142Z
LAST-MODIFIED:20260316T134705Z
UID:9322-1777564800-1777570200@fratellosole.it
SUMMARY:GIOIA MIA
DESCRIPTION:GIOIA MIA di Margherita Spampinato\n \nSCHEDA FILM: \nhttp://fratellosole.it/gioiamia/
URL:http://fratellosole.it/evento/gioia-mia/
LOCATION:Sala – Cinema Fratello Sole
END:VEVENT
BEGIN:VEVENT
DTSTART;TZID=Europe/Rome:20260430T210000
DTEND;TZID=Europe/Rome:20260430T223000
DTSTAMP:20260423T124523
CREATED:20260309T065234Z
LAST-MODIFIED:20260316T134738Z
UID:9325-1777582800-1777588200@fratellosole.it
SUMMARY:GIOIA MIA
DESCRIPTION:GIOIA MIA di Margherita Spampinato\n \nSCHEDA FILM: \nhttp://fratellosole.it/gioiamia/
URL:http://fratellosole.it/evento/gioia-mia-2/
LOCATION:Sala – Cinema Fratello Sole
END:VEVENT
BEGIN:VEVENT
DTSTART;TZID=Europe/Rome:20260503T160000
DTEND;TZID=Europe/Rome:20260503T173000
DTSTAMP:20260423T124523
CREATED:20260309T065324Z
LAST-MODIFIED:20260316T134801Z
UID:9327-1777824000-1777829400@fratellosole.it
SUMMARY:GIOIA MIA
DESCRIPTION:GIOIA MIA di Margherita Spampinato\n \nSCHEDA FILM: \nhttp://fratellosole.it/gioiamia/
URL:http://fratellosole.it/evento/gioia-mia-3/
LOCATION:Sala – Cinema Fratello Sole
END:VEVENT
BEGIN:VEVENT
DTSTART;TZID=Europe/Rome:20260507T160000
DTEND;TZID=Europe/Rome:20260507T183000
DTSTAMP:20260423T124523
CREATED:20260309T065510Z
LAST-MODIFIED:20260316T134909Z
UID:9329-1778169600-1778178600@fratellosole.it
SUMMARY:SENTIMENTAL VALUE
DESCRIPTION:SENTIMENTAL VALUE di Joachim Trier\n \nSCHEDA FILM: \nhttp://fratellosole.it/sentimental-value/
URL:http://fratellosole.it/evento/sentimental-value/
LOCATION:Sala – Cinema Fratello Sole
END:VEVENT
BEGIN:VEVENT
DTSTART;TZID=Europe/Rome:20260507T210000
DTEND;TZID=Europe/Rome:20260507T233000
DTSTAMP:20260423T124523
CREATED:20260309T065609Z
LAST-MODIFIED:20260316T134930Z
UID:9332-1778187600-1778196600@fratellosole.it
SUMMARY:SENTIMENTAL VALUE
DESCRIPTION:SENTIMENTAL VALUE di Joachim Trier\n \nSCHEDA FILM: \nhttp://fratellosole.it/sentimental-value/
URL:http://fratellosole.it/evento/sentimental-value-2/
LOCATION:Sala – Cinema Fratello Sole
END:VEVENT
BEGIN:VEVENT
DTSTART;TZID=Europe/Rome:20260510T160000
DTEND;TZID=Europe/Rome:20260510T183000
DTSTAMP:20260423T124523
CREATED:20260309T065655Z
LAST-MODIFIED:20260316T135018Z
UID:9334-1778428800-1778437800@fratellosole.it
SUMMARY:SENTIMENTAL VALUE
DESCRIPTION:SENTIMENTAL VALUE di Joachim Trier\n \nSCHEDA FILM: \nhttp://fratellosole.it/sentimental-value/
URL:http://fratellosole.it/evento/sentimental-value-3/
LOCATION:Sala – Cinema Fratello Sole
END:VEVENT
BEGIN:VEVENT
DTSTART;TZID=Europe/Rome:20260512T210000
DTEND;TZID=Europe/Rome:20260512T230000
DTSTAMP:20260423T124523
CREATED:20260128T073706Z
LAST-MODIFIED:20260128T073706Z
UID:9181-1778619600-1778626800@fratellosole.it
SUMMARY:I MARTEDÌ AL SOLE: CONFERENZA DON PAOLO ALLIATA
DESCRIPTION:I MARTEDÌ AL SOLE\n \n  \nDON PAOLO ALLIATA \n“IL GIORNO DELLA CIVETTA – LA VERITA’ CHE VINCE L’OMERTÀ“\nINGRESSO LIBERO
URL:http://fratellosole.it/evento/i-martedi-al-sole-conferenza-don-paolo-alliata/
LOCATION:Sala – Cinema Fratello Sole
END:VEVENT
BEGIN:VEVENT
DTSTART;TZID=Europe/Rome:20260514T160000
DTEND;TZID=Europe/Rome:20260514T180000
DTSTAMP:20260423T124523
CREATED:20260309T065910Z
LAST-MODIFIED:20260316T135052Z
UID:9336-1778774400-1778781600@fratellosole.it
SUMMARY:FATHER MOTHER SISTER BROTHER
DESCRIPTION:FATHER MOTHER SISTER BROTHER di Jim Jarmusch\n \nSCHEDA FILM: \nhttp://fratellosole.it/father-mother-sister-brother/
URL:http://fratellosole.it/evento/father-mother-sister-brother/
LOCATION:Sala – Cinema Fratello Sole
END:VEVENT
BEGIN:VEVENT
DTSTART;TZID=Europe/Rome:20260514T210000
DTEND;TZID=Europe/Rome:20260514T230000
DTSTAMP:20260423T124523
CREATED:20260309T070004Z
LAST-MODIFIED:20260316T135115Z
UID:9339-1778792400-1778799600@fratellosole.it
SUMMARY:FATHER MOTHER SISTER BROTHER
DESCRIPTION:FATHER MOTHER SISTER BROTHER di Jim Jarmusch\n \nSCHEDA FILM: \nhttp://fratellosole.it/father-mother-sister-brother/
URL:http://fratellosole.it/evento/father-mother-sister-brother-2/
LOCATION:Sala – Cinema Fratello Sole
END:VEVENT
BEGIN:VEVENT
DTSTART;TZID=Europe/Rome:20260517T160000
DTEND;TZID=Europe/Rome:20260517T180000
DTSTAMP:20260423T124523
CREATED:20260309T070054Z
LAST-MODIFIED:20260316T135142Z
UID:9341-1779033600-1779040800@fratellosole.it
SUMMARY:FATHER MOTHER SISTER BROTHER
DESCRIPTION:FATHER MOTHER SISTER BROTHER di Jim Jarmusch\n \nSCHEDA FILM: \nhttp://fratellosole.it/father-mother-sister-brother/
URL:http://fratellosole.it/evento/father-mother-sister-brother-3/
LOCATION:Sala – Cinema Fratello Sole
END:VEVENT
BEGIN:VEVENT
DTSTART;TZID=Europe/Rome:20260521T160000
DTEND;TZID=Europe/Rome:20260521T173000
DTSTAMP:20260423T124523
CREATED:20260309T070232Z
LAST-MODIFIED:20260316T135225Z
UID:9343-1779379200-1779384600@fratellosole.it
SUMMARY:LAVOREREMO DA GRANDI
DESCRIPTION:LAVOREREMO DA GRANDI di Antonio Albanese\n \nSCHEDA FILM: \nhttp://fratellosole.it/lavoreremo-dagrandi/
URL:http://fratellosole.it/evento/lavoreremo-da-grandi/
LOCATION:Sala – Cinema Fratello Sole
END:VEVENT
BEGIN:VEVENT
DTSTART;TZID=Europe/Rome:20260521T210000
DTEND;TZID=Europe/Rome:20260521T223000
DTSTAMP:20260423T124523
CREATED:20260309T070414Z
LAST-MODIFIED:20260316T135248Z
UID:9348-1779397200-1779402600@fratellosole.it
SUMMARY:LAVOREREMO DA GRANDI
DESCRIPTION:LAVOREREMO DA GRANDI di Antonio Albanese\n \nSCHDA FILM: \nhttp://fratellosole.it/lavoreremo-dagrandi/
URL:http://fratellosole.it/evento/lavoreremo-da-grandi-3/
LOCATION:Sala – Cinema Fratello Sole
END:VEVENT
BEGIN:VEVENT
DTSTART;TZID=Europe/Rome:20260524T160000
DTEND;TZID=Europe/Rome:20260524T173000
DTSTAMP:20260423T124523
CREATED:20260309T070502Z
LAST-MODIFIED:20260316T135453Z
UID:9350-1779638400-1779643800@fratellosole.it
SUMMARY:LAVOREREMO DA GRANDI
DESCRIPTION:LAVOREREMO DA GRANDI di Antonio Albanese\n \nSCHEDA FILM: \nhttp://fratellosole.it/lavoreremo-dagrandi/
URL:http://fratellosole.it/evento/lavoreremo-da-grandi-4/
LOCATION:Sala – Cinema Fratello Sole
END:VEVENT
BEGIN:VEVENT
DTSTART;TZID=Europe/Rome:20260528T160000
DTEND;TZID=Europe/Rome:20260528T180000
DTSTAMP:20260423T124523
CREATED:20260309T070723Z
LAST-MODIFIED:20260316T135546Z
UID:9352-1779984000-1779991200@fratellosole.it
SUMMARY:LA VILLA PORTOGHESE
DESCRIPTION:LA VILLA PORTOGHESE di Avelina Prat\n \nSCHEDA FILM: \nhttp://fratellosole.it/villa-portoghese/
URL:http://fratellosole.it/evento/la-villa-portoghese/
LOCATION:Sala – Cinema Fratello Sole
END:VEVENT
BEGIN:VEVENT
DTSTART;TZID=Europe/Rome:20260528T210000
DTEND;TZID=Europe/Rome:20260528T230000
DTSTAMP:20260423T124523
CREATED:20260309T070811Z
LAST-MODIFIED:20260316T135614Z
UID:9355-1780002000-1780009200@fratellosole.it
SUMMARY:LA VILLA PORTOGHESE
DESCRIPTION:LA VILLA PORTOGHESE di Avelina Prat\n \nSCHEDA FILM: \nhttp://fratellosole.it/villa-portoghese/
URL:http://fratellosole.it/evento/la-villa-portoghese-2/
LOCATION:Sala – Cinema Fratello Sole
END:VEVENT
BEGIN:VEVENT
DTSTART;TZID=Europe/Rome:20260531T210000
DTEND;TZID=Europe/Rome:20260531T230000
DTSTAMP:20260423T124523
CREATED:20260309T070856Z
LAST-MODIFIED:20260316T135634Z
UID:9357-1780261200-1780268400@fratellosole.it
SUMMARY:LA VILLA PORTOGHESE
DESCRIPTION:LA VILLA PORTOGHESE di Avelina Prat\n \nSCHEDA FILM: \nhttp://fratellosole.it/villa-portoghese/
URL:http://fratellosole.it/evento/la-villa-portoghese-3/
LOCATION:Sala – Cinema Fratello Sole
END:VEVENT
BEGIN:VEVENT
DTSTART;TZID=Europe/Rome:20260604T160000
DTEND;TZID=Europe/Rome:20260604T174500
DTSTAMP:20260423T124523
CREATED:20260309T071057Z
LAST-MODIFIED:20260316T135912Z
UID:9359-1780588800-1780595100@fratellosole.it
SUMMARY:RENTAL FAMILY-NELLE VITE DEGLI ALTRI
DESCRIPTION:RENTAL FAMILY-NELLE VITE DEGLI ALTRI di Hikari\n \nSCHEDA FILM: \nhttp://fratellosole.it/rental-family/
URL:http://fratellosole.it/evento/rental-family-nelle-vite-degli-altri/
LOCATION:Sala – Cinema Fratello Sole
END:VEVENT
BEGIN:VEVENT
DTSTART;TZID=Europe/Rome:20260604T210000
DTEND;TZID=Europe/Rome:20260604T224500
DTSTAMP:20260423T124523
CREATED:20260309T071153Z
LAST-MODIFIED:20260316T135854Z
UID:9362-1780606800-1780613100@fratellosole.it
SUMMARY:RENTAL FAMILY-NELLE VITE DEGLI ALTRI
DESCRIPTION:RENTAL FAMILY-NELLE VITE DEGLI ALTRI di Hikari\n \nSCHEDA FILM: \nhttp://fratellosole.it/rental-family/
URL:http://fratellosole.it/evento/rental-family-nelle-vite-degli-altri-2/
LOCATION:Sala – Cinema Fratello Sole
END:VEVENT
BEGIN:VEVENT
DTSTART;TZID=Europe/Rome:20260607T210000
DTEND;TZID=Europe/Rome:20260607T224500
DTSTAMP:20260423T124523
CREATED:20260309T071250Z
LAST-MODIFIED:20260316T135823Z
UID:9364-1780866000-1780872300@fratellosole.it
SUMMARY:RENTAL FAMILY-NELLE VITE DEGLI ALTRI
DESCRIPTION:RENTAL FAMILY-NELLE VITE DEGLI ALTRI di Hikari\n \nSCHEDA FILM: \nhttp://fratellosole.it/rental-family/
URL:http://fratellosole.it/evento/rental-family-nelle-vite-degli-altri-3/
LOCATION:Sala – Cinema Fratello Sole
END:VEVENT
BEGIN:VEVENT
DTSTART;VALUE=DATE:20260608
DTEND;VALUE=DATE:20260609
DTSTAMP:20260423T124523
CREATED:20260309T071407Z
LAST-MODIFIED:20260309T071432Z
UID:9366-1780876800-1780963199@fratellosole.it
SUMMARY:IL FRATELLO SOLE CHIUDE PER RIPOSO ESTIVO. BUONE VACANZE A TUTTI!
DESCRIPTION:
URL:http://fratellosole.it/evento/il-fratello-sole-chiude-per-riposo-estivo-buone-vacanze-a-tutti/
END:VEVENT
END:VCALENDAR