BEGIN:VCALENDAR
VERSION:2.0
PRODID:-//Cinema Teatro Fratello Sole - ECPv6.15.20//NONSGML v1.0//EN
CALSCALE:GREGORIAN
METHOD:PUBLISH
X-WR-CALNAME:Cinema Teatro Fratello Sole
X-ORIGINAL-URL:http://fratellosole.it
X-WR-CALDESC:Eventi per Cinema Teatro Fratello Sole
REFRESH-INTERVAL;VALUE=DURATION:PT1H
X-Robots-Tag:noindex
X-PUBLISHED-TTL:PT1H
BEGIN:VTIMEZONE
TZID:Europe/Rome
BEGIN:DAYLIGHT
TZOFFSETFROM:+0100
TZOFFSETTO:+0200
TZNAME:CEST
DTSTART:20230326T010000
END:DAYLIGHT
BEGIN:STANDARD
TZOFFSETFROM:+0200
TZOFFSETTO:+0100
TZNAME:CET
DTSTART:20231029T010000
END:STANDARD
BEGIN:DAYLIGHT
TZOFFSETFROM:+0100
TZOFFSETTO:+0200
TZNAME:CEST
DTSTART:20240331T010000
END:DAYLIGHT
BEGIN:STANDARD
TZOFFSETFROM:+0200
TZOFFSETTO:+0100
TZNAME:CET
DTSTART:20241027T010000
END:STANDARD
BEGIN:DAYLIGHT
TZOFFSETFROM:+0100
TZOFFSETTO:+0200
TZNAME:CEST
DTSTART:20250330T010000
END:DAYLIGHT
BEGIN:STANDARD
TZOFFSETFROM:+0200
TZOFFSETTO:+0100
TZNAME:CET
DTSTART:20251026T010000
END:STANDARD
END:VTIMEZONE
BEGIN:VEVENT
DTSTART;TZID=Europe/Rome:20240519T080000
DTEND;TZID=Europe/Rome:20240519T170000
DTSTAMP:20260424T010924
CREATED:20240212T141104Z
LAST-MODIFIED:20240212T141104Z
UID:6430-1716105600-1716138000@fratellosole.it
SUMMARY:50 KM ALL'ORA
DESCRIPTION:
URL:http://fratellosole.it/evento/50-km-allora-3/
LOCATION:Sala – Cinema Fratello Sole
END:VEVENT
BEGIN:VEVENT
DTSTART;TZID=Europe/Rome:20240516T210000
DTEND;TZID=Europe/Rome:20240516T230000
DTSTAMP:20260424T010924
CREATED:20240212T141014Z
LAST-MODIFIED:20240212T141014Z
UID:6428-1715893200-1715900400@fratellosole.it
SUMMARY:50 KM ALL'ORA
DESCRIPTION:
URL:http://fratellosole.it/evento/50-km-allora-2/
LOCATION:Sala – Cinema Fratello Sole
END:VEVENT
BEGIN:VEVENT
DTSTART;TZID=Europe/Rome:20240516T160000
DTEND;TZID=Europe/Rome:20240516T180000
DTSTAMP:20260424T010924
CREATED:20240212T140921Z
LAST-MODIFIED:20240212T140921Z
UID:6425-1715875200-1715882400@fratellosole.it
SUMMARY:50 KM ALL'ORA
DESCRIPTION:
URL:http://fratellosole.it/evento/50-km-allora/
LOCATION:Sala – Cinema Fratello Sole
END:VEVENT
BEGIN:VEVENT
DTSTART;TZID=Europe/Rome:20240509T210000
DTEND;TZID=Europe/Rome:20240509T223000
DTSTAMP:20260424T010924
CREATED:20240318T152131Z
LAST-MODIFIED:20240506T050707Z
UID:6553-1715288400-1715293800@fratellosole.it
SUMMARY:MIRABILE VISIONE: INFERNO
DESCRIPTION:Regia di Matteo Gagliardi\ncon Luigi Diberti\, Benedetta Buccellato\nDocu-fiction – Italia\, 2023 – 90′ \nMirabile visione: inferno\, il documentario diretto da Matteo Gagliardi\, è un percorso documentaristico che riprende i grandi temi della Divina Commedia e li adatta nei “se” della contemporaneità. Ciò che colpisce è l’intreccio della filmografia in cui sembra risiedere una misteriosa e dettagliata perfezione che invita a delineare aspetti che riprendono il contesto sociale odierno\, una simulazione sperimentale che inscena il progresso e il regresso sociale costruendo un racconto di elevata calibratura dal punto di vista culturale\, politico e morale. \nTrailer: \nhttps://www.youtube.com/watch?v=scH5q_b4yZE \nRassegna stampa e recensioni: \nhttps://www.mirabilevisione.it/rassegna-stampa/ \nLA NOSTRA RECENSIONE: \nhttp://fratellosole.it/mirabile-visione-inferno-la-nostra-recensione/ \n 
URL:http://fratellosole.it/evento/mirabile-visione-inferno-2/
LOCATION:Sala – Cinema Fratello Sole
END:VEVENT
BEGIN:VEVENT
DTSTART;TZID=Europe/Rome:20240509T160000
DTEND;TZID=Europe/Rome:20240509T173000
DTSTAMP:20260424T010924
CREATED:20240318T151906Z
LAST-MODIFIED:20240506T050750Z
UID:6550-1715270400-1715275800@fratellosole.it
SUMMARY:MIRABILE VISIONE: INFERNO
DESCRIPTION:Regia di Matteo Gagliardi\ncon Luigi Diberti\, Benedetta Buccellato\nDocu-fiction – Italia\, 2023 – 90′ \nMirabile visione: inferno\, il documentario diretto da Matteo Gagliardi\, è un percorso documentaristico che riprende i grandi temi della Divina Commedia e li adatta nei “se” della contemporaneità. Ciò che colpisce è l’intreccio della filmografia in cui sembra risiedere una misteriosa e dettagliata perfezione che invita a delineare aspetti che riprendono il contesto sociale odierno\, una simulazione sperimentale che inscena il progresso e il regresso sociale costruendo un racconto di elevata calibratura dal punto di vista culturale\, politico e morale. \nTrailer: \nhttps://www.youtube.com/watch?v=scH5q_b4yZE \nRassegna stampa e recensioni: \nhttps://www.mirabilevisione.it/rassegna-stampa/ \nLA NOSTRA RECENSIONE \nhttp://fratellosole.it/mirabile-visione-inferno-la-nostra-recensione/
URL:http://fratellosole.it/evento/mirabile-visione-inferno/
LOCATION:Sala – Cinema Fratello Sole
END:VEVENT
BEGIN:VEVENT
DTSTART;TZID=Europe/Rome:20240505T160000
DTEND;TZID=Europe/Rome:20240505T183000
DTSTAMP:20260424T010924
CREATED:20240212T140749Z
LAST-MODIFIED:20240212T140749Z
UID:6423-1714924800-1714933800@fratellosole.it
SUMMARY:POVERE CREATURE!
DESCRIPTION:
URL:http://fratellosole.it/evento/povere-creature-3/
LOCATION:Sala – Cinema Fratello Sole
END:VEVENT
BEGIN:VEVENT
DTSTART;TZID=Europe/Rome:20240502T210000
DTEND;TZID=Europe/Rome:20240502T233000
DTSTAMP:20260424T010924
CREATED:20240212T140705Z
LAST-MODIFIED:20240212T140705Z
UID:6421-1714683600-1714692600@fratellosole.it
SUMMARY:POVERE CREATURE!
DESCRIPTION:
URL:http://fratellosole.it/evento/povere-creature-2/
LOCATION:Sala – Cinema Fratello Sole
END:VEVENT
BEGIN:VEVENT
DTSTART;TZID=Europe/Rome:20240502T160000
DTEND;TZID=Europe/Rome:20240502T183000
DTSTAMP:20260424T010924
CREATED:20240212T140614Z
LAST-MODIFIED:20240212T140614Z
UID:6418-1714665600-1714674600@fratellosole.it
SUMMARY:POVERE CREATURE!
DESCRIPTION:
URL:http://fratellosole.it/evento/povere-creature/
LOCATION:Sala – Cinema Fratello Sole
END:VEVENT
BEGIN:VEVENT
DTSTART;TZID=Europe/Rome:20240428T160000
DTEND;TZID=Europe/Rome:20240428T173000
DTSTAMP:20260424T010924
CREATED:20240212T140430Z
LAST-MODIFIED:20240212T140430Z
UID:6416-1714320000-1714325400@fratellosole.it
SUMMARY:THE MIRACLE CLUB
DESCRIPTION:
URL:http://fratellosole.it/evento/the-miracle-club-3/
LOCATION:Sala – Cinema Fratello Sole
END:VEVENT
BEGIN:VEVENT
DTSTART;TZID=Europe/Rome:20240425T210000
DTEND;TZID=Europe/Rome:20240425T223000
DTSTAMP:20260424T010924
CREATED:20240212T140344Z
LAST-MODIFIED:20240212T140344Z
UID:6414-1714078800-1714084200@fratellosole.it
SUMMARY:THE MIRACLE CLUB
DESCRIPTION:
URL:http://fratellosole.it/evento/the-miracle-club-2/
LOCATION:Sala – Cinema Fratello Sole
END:VEVENT
BEGIN:VEVENT
DTSTART;TZID=Europe/Rome:20240425T160000
DTEND;TZID=Europe/Rome:20240425T173000
DTSTAMP:20260424T010924
CREATED:20240212T140256Z
LAST-MODIFIED:20240212T140256Z
UID:6411-1714060800-1714066200@fratellosole.it
SUMMARY:THE MIRACLE CLUB
DESCRIPTION:
URL:http://fratellosole.it/evento/the-miracle-club/
LOCATION:Sala – Cinema Fratello Sole
END:VEVENT
BEGIN:VEVENT
DTSTART;TZID=Europe/Rome:20240421T160000
DTEND;TZID=Europe/Rome:20240421T180000
DTSTAMP:20260424T010924
CREATED:20240212T140136Z
LAST-MODIFIED:20240212T140136Z
UID:6409-1713715200-1713722400@fratellosole.it
SUMMARY:PERFECT DAYS
DESCRIPTION:
URL:http://fratellosole.it/evento/perfect-days-3/
LOCATION:Sala – Cinema Fratello Sole
END:VEVENT
BEGIN:VEVENT
DTSTART;TZID=Europe/Rome:20240418T210000
DTEND;TZID=Europe/Rome:20240418T230000
DTSTAMP:20260424T010924
CREATED:20240212T140046Z
LAST-MODIFIED:20240212T140047Z
UID:6407-1713474000-1713481200@fratellosole.it
SUMMARY:PERFECT DAYS
DESCRIPTION:
URL:http://fratellosole.it/evento/perfect-days-2/
LOCATION:Sala – Cinema Fratello Sole
END:VEVENT
BEGIN:VEVENT
DTSTART;TZID=Europe/Rome:20240418T160000
DTEND;TZID=Europe/Rome:20240418T180000
DTSTAMP:20260424T010924
CREATED:20240212T140002Z
LAST-MODIFIED:20240212T140002Z
UID:6404-1713456000-1713463200@fratellosole.it
SUMMARY:PERFECT DAYS
DESCRIPTION:
URL:http://fratellosole.it/evento/perfect-days/
LOCATION:Sala – Cinema Fratello Sole
END:VEVENT
BEGIN:VEVENT
DTSTART;TZID=Europe/Rome:20240417T204500
DTEND;TZID=Europe/Rome:20240417T223000
DTSTAMP:20260424T010924
CREATED:20240208T134207Z
LAST-MODIFIED:20240208T134207Z
UID:6358-1713386700-1713393000@fratellosole.it
SUMMARY:CONFERENZA DR. PAOLO GRAMPA: GLI ADULTI DI OGGI PENSANO AGLI ADULTI DI DOMANI?
DESCRIPTION:APRIRE UN DIALOGO TRA GENERAZIONI IN UN INCONTRO CON GIOVANI \nE ADULTI\, PER PENSARE IL PRESENTE E SOGNARE UN FUTURO POSSIBILE. \n \n  \nDR. PAOLO GRAMPA\nPsicologo psicoterapeuta a orientamento analitico è socio di Alice ETS\, per la quale svolge attività clinica\, di formazione e intervento. Collabora con la struttura complessa di Pediatria dell’Istituto dei Tumori di Milano\, dove oltre al lavoro con i giovani pazienti e le\nloro famiglie si occupa di ricerca in ambito neuropsicologico e psiconcologico.\nAccanto alla passione per la mente e il cuore delle persone di tutte le età\, arricchisce le sue giornate suonando il pianoforte\,\ndivorando romanzi\, progettando viaggi in barca a vela e facendo il sommelier. \n  \nPER PRENOTARE: \nhttps://ticket.cinebot.it/fratellosole/ \n 
URL:http://fratellosole.it/evento/conferenza-dr-paolo-grampa-gli-adulti-di-oggi-pensano-agli-adulti-di-domani/
LOCATION:Sala – Cinema Fratello Sole
END:VEVENT
BEGIN:VEVENT
DTSTART;TZID=Europe/Rome:20240414T160000
DTEND;TZID=Europe/Rome:20240414T183000
DTSTAMP:20260424T010924
CREATED:20240212T135841Z
LAST-MODIFIED:20240212T135842Z
UID:6402-1713110400-1713119400@fratellosole.it
SUMMARY:THE HOLDOVERS - LEZIONI DI VITA
DESCRIPTION:
URL:http://fratellosole.it/evento/the-holdovers-lezioni-di-vita-3/
LOCATION:Sala – Cinema Fratello Sole
END:VEVENT
BEGIN:VEVENT
DTSTART;TZID=Europe/Rome:20240411T210000
DTEND;TZID=Europe/Rome:20240411T233000
DTSTAMP:20260424T010924
CREATED:20240212T135736Z
LAST-MODIFIED:20240212T135736Z
UID:6399-1712869200-1712878200@fratellosole.it
SUMMARY:THE HOLDOVERS - LEZIONI DI VITA
DESCRIPTION:
URL:http://fratellosole.it/evento/the-holdovers-lezioni-di-vita-2/
LOCATION:Sala – Cinema Fratello Sole
END:VEVENT
BEGIN:VEVENT
DTSTART;TZID=Europe/Rome:20240411T160000
DTEND;TZID=Europe/Rome:20240411T183000
DTSTAMP:20260424T010924
CREATED:20240212T135629Z
LAST-MODIFIED:20240212T135629Z
UID:6396-1712851200-1712860200@fratellosole.it
SUMMARY:THE HOLDOVERS - LEZIONI DI VITA
DESCRIPTION:
URL:http://fratellosole.it/evento/the-holdovers-lezioni-di-vita/
LOCATION:Sala – Cinema Fratello Sole
END:VEVENT
BEGIN:VEVENT
DTSTART;TZID=Europe/Rome:20240409T210000
DTEND;TZID=Europe/Rome:20240409T230000
DTSTAMP:20260424T010924
CREATED:20240110T064429Z
LAST-MODIFIED:20240325T134448Z
UID:6243-1712696400-1712703600@fratellosole.it
SUMMARY:FILM D'ARTE: HOPPER. UNA STORIA D'AMORE AMERICANA
DESCRIPTION:Quella di Hopper è un’America popolare\, silenziosa e misteriosa\, capace di influenzare pittori come Rothko e Banksy\, cineasti come Alfred Hitchcock e David Lynch\, ma anche fotografi e musicisti. Ma chi era davvero questo artista riflessivo e maestro della narrazione chiamato Edward Hopper? E come ha fatto un illustratore in difficoltà nato nello stato di New York a creare una tale quantità di capolavori in grado di parlare alle persone comuni così come agli esperti? Il documentario diretto da Phil Grabsky analizza a fondo l’arte di Hopper (1882-1967)\, la sua vita e le sue relazioni personali\, dagli esordi al rapporto con la moglie Jo\, che abbandonò la sua promettente carriera artistica per fargli da manager. E ancora il successo delle sue tele\, la personalità enigmatica dietro il pennello\, la capacità di indagare la solitudine come nessuno prima di lui era riuscito a fare\, tanto da dialogare\, a distanza di decenni\, anche con chi\, in periodo Covid\, si è trovato recluso\, solo\, isolato. Con l’ausilio di interviste di esperti e letture di diari e grazie a un sorprendente sguardo gettato sul suo quotidiano\, HOPPER. UNA STORIA D’AMORE AMERICANA fa rivivere l’artista probabilmente più influente di tutta la storia statunitense. Come recita il titolo\, saremo trascinati all’interno di una storia d’amore tutta americana: l’amore per l’architettura e i paesaggi aperti e talvolta desolati degli States ma anche quello\, tenero e appassionato\, per la determinata compagna di vita Jo. Prodotto da Phil Grabsky con Exhibition on Screen. \nBiglietti: 10 euro intero – 8 euro ridotto \n  \nGli appunti artistici di Beatrice Fiorello: \nhttps://fratellosole.it/hopper-una-storia-damore-americana-appunti-artistici/
URL:http://fratellosole.it/evento/film-darte-hopper-una-storia-damore-americana/
LOCATION:Sala – Cinema Fratello Sole
END:VEVENT
BEGIN:VEVENT
DTSTART;TZID=Europe/Rome:20240407T160000
DTEND;TZID=Europe/Rome:20240407T183000
DTSTAMP:20260424T010924
CREATED:20240212T135522Z
LAST-MODIFIED:20240212T135523Z
UID:6394-1712505600-1712514600@fratellosole.it
SUMMARY:FERRARI
DESCRIPTION:
URL:http://fratellosole.it/evento/ferrari-3/
LOCATION:Sala – Cinema Fratello Sole
END:VEVENT
BEGIN:VEVENT
DTSTART;TZID=Europe/Rome:20240404T210000
DTEND;TZID=Europe/Rome:20240404T233000
DTSTAMP:20260424T010924
CREATED:20240212T135140Z
LAST-MODIFIED:20240212T135140Z
UID:6390-1712264400-1712273400@fratellosole.it
SUMMARY:FERRARI
DESCRIPTION:
URL:http://fratellosole.it/evento/ferrari-2/
LOCATION:Sala – Cinema Fratello Sole
END:VEVENT
BEGIN:VEVENT
DTSTART;TZID=Europe/Rome:20240404T160000
DTEND;TZID=Europe/Rome:20240404T183000
DTSTAMP:20260424T010924
CREATED:20240212T135046Z
LAST-MODIFIED:20240212T135046Z
UID:6387-1712246400-1712255400@fratellosole.it
SUMMARY:FERRARI
DESCRIPTION:
URL:http://fratellosole.it/evento/ferrari/
LOCATION:Sala – Cinema Fratello Sole
END:VEVENT
BEGIN:VEVENT
DTSTART;TZID=Europe/Rome:20240331T000000
DTEND;TZID=Europe/Rome:20240331T235900
DTSTAMP:20260424T010924
CREATED:20240320T155016Z
LAST-MODIFIED:20240320T155106Z
UID:6556-1711843200-1711929540@fratellosole.it
SUMMARY:LO STAFF E LA DIREZIONE DEL FRATELLO SOLE VI AUGURANO BUONA PASQUA!
DESCRIPTION:
URL:http://fratellosole.it/evento/lo-staff-e-la-direzione-del-fratello-sole-vi-augurano-buona-pasqua/
END:VEVENT
BEGIN:VEVENT
DTSTART;TZID=Europe/Rome:20240324T160000
DTEND;TZID=Europe/Rome:20240324T173000
DTSTAMP:20260424T010924
CREATED:20240212T134946Z
LAST-MODIFIED:20240212T134946Z
UID:6385-1711296000-1711301400@fratellosole.it
SUMMARY:CENTO DOMENICHE
DESCRIPTION:
URL:http://fratellosole.it/evento/cento-domeniche-3/
LOCATION:Sala – Cinema Fratello Sole
END:VEVENT
BEGIN:VEVENT
DTSTART;TZID=Europe/Rome:20240321T210000
DTEND;TZID=Europe/Rome:20240321T223000
DTSTAMP:20260424T010924
CREATED:20240212T134850Z
LAST-MODIFIED:20240212T134850Z
UID:6383-1711054800-1711060200@fratellosole.it
SUMMARY:CENTO DOMENICHE
DESCRIPTION:
URL:http://fratellosole.it/evento/cento-domeniche-2/
LOCATION:Sala – Cinema Fratello Sole
END:VEVENT
BEGIN:VEVENT
DTSTART;TZID=Europe/Rome:20240321T160000
DTEND;TZID=Europe/Rome:20240321T173000
DTSTAMP:20260424T010924
CREATED:20240212T134743Z
LAST-MODIFIED:20240212T134743Z
UID:6380-1711036800-1711042200@fratellosole.it
SUMMARY:CENTO DOMENICHE
DESCRIPTION:
URL:http://fratellosole.it/evento/cento-domeniche/
LOCATION:Sala – Cinema Fratello Sole
END:VEVENT
BEGIN:VEVENT
DTSTART;TZID=Europe/Rome:20240319T203000
DTEND;TZID=Europe/Rome:20240319T223000
DTSTAMP:20260424T010924
CREATED:20240213T141918Z
LAST-MODIFIED:20240213T142037Z
UID:6446-1710880200-1710887400@fratellosole.it
SUMMARY:EVEREST NO LIMITS - ANDREA LANFRI - MAI PAURA ODV
DESCRIPTION:  \n \n  \n“Potrei dirvi che va tutto benissimo\, che il peggio è dimenticato\, che questa mia nuova vita è forse migliore della prima\, che la mia disabilità è in realtà uno stato d’animo e che\, in fondo\, non mi manca niente. Ma in fondo non vi direi la verità. \nMi mancano le mie sette dita\, mi mancano i miei piedi punti da morbidi steli d’erba\, mi manca la mia vita senza dover combattere ogni giorno per riaverla indietro. Mi manca tutto questo e anche di più. Eppure vedo. Vedo\, quando prima ero cieco. \nVedo gli altri che\, sarà banale dirlo\, non sono altro che noi stessi.” \nIncontro con Andrea Lanfri primo pluriamputato al mondo a scalare l’EVEREST.\n📍Teatro Fratello Sole\, via M. D’Azeglio 1- Busto Arsizio (VA)\n📌Ingresso Gratuito\n📌Non occorre prenotazione
URL:http://fratellosole.it/evento/everest-no-limits-andrea-lanfri-maipaura-odv/
LOCATION:Sala – Cinema Fratello Sole
END:VEVENT
BEGIN:VEVENT
DTSTART;TZID=Europe/Rome:20240317T160000
DTEND;TZID=Europe/Rome:20240317T180000
DTSTAMP:20260424T010924
CREATED:20240212T134626Z
LAST-MODIFIED:20240212T134626Z
UID:6378-1710691200-1710698400@fratellosole.it
SUMMARY:ONE LIFE
DESCRIPTION:
URL:http://fratellosole.it/evento/one-life-3/
LOCATION:Sala – Cinema Fratello Sole
END:VEVENT
BEGIN:VEVENT
DTSTART;TZID=Europe/Rome:20240314T210000
DTEND;TZID=Europe/Rome:20240314T230000
DTSTAMP:20260424T010924
CREATED:20240212T135408Z
LAST-MODIFIED:20240212T135408Z
UID:6392-1710450000-1710457200@fratellosole.it
SUMMARY:ONE LIFE
DESCRIPTION:
URL:http://fratellosole.it/evento/one-life-4/
LOCATION:Sala – Cinema Fratello Sole
END:VEVENT
BEGIN:VEVENT
DTSTART;TZID=Europe/Rome:20240314T160000
DTEND;TZID=Europe/Rome:20240314T180000
DTSTAMP:20260424T010924
CREATED:20240212T134440Z
LAST-MODIFIED:20240212T134440Z
UID:6373-1710432000-1710439200@fratellosole.it
SUMMARY:ONE LIFE
DESCRIPTION:
URL:http://fratellosole.it/evento/one-life/
LOCATION:Sala – Cinema Fratello Sole
END:VEVENT
END:VCALENDAR