BEGIN:VCALENDAR
VERSION:2.0
PRODID:-//Cinema Teatro Fratello Sole - ECPv6.15.20//NONSGML v1.0//EN
CALSCALE:GREGORIAN
METHOD:PUBLISH
X-WR-CALNAME:Cinema Teatro Fratello Sole
X-ORIGINAL-URL:http://fratellosole.it
X-WR-CALDESC:Eventi per Cinema Teatro Fratello Sole
REFRESH-INTERVAL;VALUE=DURATION:PT1H
X-Robots-Tag:noindex
X-PUBLISHED-TTL:PT1H
BEGIN:VTIMEZONE
TZID:Europe/Rome
BEGIN:DAYLIGHT
TZOFFSETFROM:+0100
TZOFFSETTO:+0200
TZNAME:CEST
DTSTART:20230326T010000
END:DAYLIGHT
BEGIN:STANDARD
TZOFFSETFROM:+0200
TZOFFSETTO:+0100
TZNAME:CET
DTSTART:20231029T010000
END:STANDARD
BEGIN:DAYLIGHT
TZOFFSETFROM:+0100
TZOFFSETTO:+0200
TZNAME:CEST
DTSTART:20240331T010000
END:DAYLIGHT
BEGIN:STANDARD
TZOFFSETFROM:+0200
TZOFFSETTO:+0100
TZNAME:CET
DTSTART:20241027T010000
END:STANDARD
BEGIN:DAYLIGHT
TZOFFSETFROM:+0100
TZOFFSETTO:+0200
TZNAME:CEST
DTSTART:20250330T010000
END:DAYLIGHT
BEGIN:STANDARD
TZOFFSETFROM:+0200
TZOFFSETTO:+0100
TZNAME:CET
DTSTART:20251026T010000
END:STANDARD
BEGIN:DAYLIGHT
TZOFFSETFROM:+0100
TZOFFSETTO:+0200
TZNAME:CEST
DTSTART:20260329T010000
END:DAYLIGHT
BEGIN:STANDARD
TZOFFSETFROM:+0200
TZOFFSETTO:+0100
TZNAME:CET
DTSTART:20261025T010000
END:STANDARD
END:VTIMEZONE
BEGIN:VEVENT
DTSTART;TZID=Europe/Rome:20250220T210000
DTEND;TZID=Europe/Rome:20250220T230000
DTSTAMP:20260423T123104
CREATED:20241216T081851Z
LAST-MODIFIED:20241216T081851Z
UID:7411-1740085200-1740092400@fratellosole.it
SUMMARY:LA MISURA DEL DUBBIO
DESCRIPTION:SCHEDA FILM: \nhttps://fratellosole.it/misura-dubbio/
URL:http://fratellosole.it/evento/la-misura-del-dubbio-2/
LOCATION:Sala – Cinema Fratello Sole
END:VEVENT
BEGIN:VEVENT
DTSTART;TZID=Europe/Rome:20250220T160000
DTEND;TZID=Europe/Rome:20250220T180000
DTSTAMP:20260423T123104
CREATED:20241216T081750Z
LAST-MODIFIED:20241216T081750Z
UID:7409-1740067200-1740074400@fratellosole.it
SUMMARY:LA MISURA DEL DUBBIO
DESCRIPTION:SCHEDA FILM: \nhttps://fratellosole.it/misura-dubbio/
URL:http://fratellosole.it/evento/la-misura-del-dubbio/
LOCATION:Sala – Cinema Fratello Sole
END:VEVENT
BEGIN:VEVENT
DTSTART;TZID=Europe/Rome:20250216T160000
DTEND;TZID=Europe/Rome:20250216T181500
DTSTAMP:20260423T123104
CREATED:20241216T081620Z
LAST-MODIFIED:20241216T081621Z
UID:7407-1739721600-1739729700@fratellosole.it
SUMMARY:VERMIGLIO
DESCRIPTION:SCHEDA FILM: \nhttps://fratellosole.it/vermiglio/
URL:http://fratellosole.it/evento/vermiglio-3/
LOCATION:Sala – Cinema Fratello Sole
END:VEVENT
BEGIN:VEVENT
DTSTART;TZID=Europe/Rome:20250213T210000
DTEND;TZID=Europe/Rome:20250213T231500
DTSTAMP:20260423T123104
CREATED:20241216T081517Z
LAST-MODIFIED:20241216T081518Z
UID:7405-1739480400-1739488500@fratellosole.it
SUMMARY:VERMIGLIO
DESCRIPTION:SCHEDA FILM: \nhttps://fratellosole.it/vermiglio/
URL:http://fratellosole.it/evento/vermiglio-2/
LOCATION:Sala – Cinema Fratello Sole
END:VEVENT
BEGIN:VEVENT
DTSTART;TZID=Europe/Rome:20250213T160000
DTEND;TZID=Europe/Rome:20250213T181500
DTSTAMP:20260423T123104
CREATED:20241216T081419Z
LAST-MODIFIED:20241216T081419Z
UID:7403-1739462400-1739470500@fratellosole.it
SUMMARY:VERMIGLIO
DESCRIPTION:SCHEDA FILM: \nhttps://fratellosole.it/vermiglio/
URL:http://fratellosole.it/evento/vermiglio/
LOCATION:Sala – Cinema Fratello Sole
END:VEVENT
BEGIN:VEVENT
DTSTART;TZID=Europe/Rome:20250209T160000
DTEND;TZID=Europe/Rome:20250209T181500
DTSTAMP:20260423T123104
CREATED:20241216T081239Z
LAST-MODIFIED:20241216T081239Z
UID:7401-1739116800-1739124900@fratellosole.it
SUMMARY:IL RAGAZZO DAI PANTALONI ROSA
DESCRIPTION:SCHEDA FILM: \nhttps://fratellosole.it/ragazzo-pantaloni-rosa/
URL:http://fratellosole.it/evento/il-ragazzo-dai-pantaloni-rosa-3/
LOCATION:Sala – Cinema Fratello Sole
END:VEVENT
BEGIN:VEVENT
DTSTART;TZID=Europe/Rome:20250208T210000
DTEND;TZID=Europe/Rome:20250208T233000
DTSTAMP:20260423T123104
CREATED:20250206T061016Z
LAST-MODIFIED:20250206T061812Z
UID:7610-1739048400-1739057400@fratellosole.it
SUMMARY:DOCUFILM: LA GENESI DI SEATTLE
DESCRIPTION:Un viaggio nel cuore del grunge a 30 anni dalla sua esplosione mondiale.\nFilippo D’Angelo ci racconta la nascita del suono che ha cambiato per sempre la musica e dato voce a una generazione.\nDibattito Culturale con la partecipazione di autorità e giornalisti\, moderato dall’associazione culturale “Dalle Libraie”\nEsibizioni LIVE delle Young Band di Centro Musicale CONCERTARE sulle note della “Genesi del Grunge”! \nIngresso: € 10\nPer info & prenotazioni: info@associazionespazioeventi.it
URL:http://fratellosole.it/evento/la-genesi-di-seattle/
LOCATION:Sala – Cinema Fratello Sole
END:VEVENT
BEGIN:VEVENT
DTSTART;TZID=Europe/Rome:20250207T093000
DTEND;TZID=Europe/Rome:20250207T113000
DTSTAMP:20260423T123104
CREATED:20250121T062910Z
LAST-MODIFIED:20250121T063246Z
UID:7525-1738920600-1738927800@fratellosole.it
SUMMARY:PROIEZIONE PER LE SCUOLE: IL RAGAZZO DAI PANTALONI ROSA
DESCRIPTION:ISTITUTO FACCHINETTI – CASTELLANZA
URL:http://fratellosole.it/evento/proiezione-per-le-scuole-il-ragazzo-dai-pantaloni-rosa-2/
LOCATION:Sala – Cinema Fratello Sole
END:VEVENT
BEGIN:VEVENT
DTSTART;TZID=Europe/Rome:20250206T210000
DTEND;TZID=Europe/Rome:20250206T231500
DTSTAMP:20260423T123104
CREATED:20241216T081128Z
LAST-MODIFIED:20241216T081128Z
UID:7399-1738875600-1738883700@fratellosole.it
SUMMARY:IL RAGAZZO DAI PANTALONI ROSA
DESCRIPTION:SCHEDA FILM: \nhttps://fratellosole.it/ragazzo-pantaloni-rosa/
URL:http://fratellosole.it/evento/il-ragazzo-dai-pantaloni-rosa-2/
LOCATION:Sala – Cinema Fratello Sole
END:VEVENT
BEGIN:VEVENT
DTSTART;TZID=Europe/Rome:20250206T160000
DTEND;TZID=Europe/Rome:20250206T181500
DTSTAMP:20260423T123104
CREATED:20241216T080959Z
LAST-MODIFIED:20241216T080959Z
UID:7397-1738857600-1738865700@fratellosole.it
SUMMARY:IL RAGAZZO DAI PANTALONI ROSA
DESCRIPTION:SCHEDA FILM: \nhttps://fratellosole.it/ragazzo-pantaloni-rosa/
URL:http://fratellosole.it/evento/il-ragazzo-dai-pantaloni-rosa/
LOCATION:Sala – Cinema Fratello Sole
END:VEVENT
BEGIN:VEVENT
DTSTART;TZID=Europe/Rome:20250206T093000
DTEND;TZID=Europe/Rome:20250206T113000
DTSTAMP:20260423T123104
CREATED:20250121T062809Z
LAST-MODIFIED:20250121T063400Z
UID:7523-1738834200-1738841400@fratellosole.it
SUMMARY:PROIEZIONE PER LE SCUOLE: IL RAGAZZO DAI PANTALONI ROSA
DESCRIPTION:ISTITUTO FACCHINETTI – CASTELLANZA
URL:http://fratellosole.it/evento/proiezione-per-le-scuole-il-ragazzo-dai-pantaloni-rosa/
LOCATION:Sala – Cinema Fratello Sole
END:VEVENT
BEGIN:VEVENT
DTSTART;TZID=Europe/Rome:20250205T210000
DTEND;TZID=Europe/Rome:20250205T224500
DTSTAMP:20260423T123104
CREATED:20241216T085122Z
LAST-MODIFIED:20241216T085122Z
UID:7440-1738789200-1738795500@fratellosole.it
SUMMARY:ARTE: PELLIZZA PITTORE DA VOLPEDO
DESCRIPTION:SCHEDA FILM: \nhttps://fratellosole.it/pellizza-pittore-da-volpedo/ \n 
URL:http://fratellosole.it/evento/arte-pellizza-pittore-da-volpedo/
LOCATION:Sala – Cinema Fratello Sole
END:VEVENT
BEGIN:VEVENT
DTSTART;TZID=Europe/Rome:20250204T210000
DTEND;TZID=Europe/Rome:20250204T223000
DTSTAMP:20260423T123104
CREATED:20250121T064444Z
LAST-MODIFIED:20250121T064445Z
UID:7534-1738702800-1738708200@fratellosole.it
SUMMARY:CONCERTO MUSICA CLASSICA: M° ALBERTO LODOLETTI
DESCRIPTION:In programma:BEETHOVEN: Sonata “Al chiaro di Luna”LISZT: Sogno d’amoreLISZT: Rapsodia ungherese n.2CHOPIN: Ballata in sol minoreDEBUSSY: Clair de LuneGERSHWIN: Rapsodia in blu \nINGRESSO LIBERO CON OFFERTAI fondi raccolti verranno devoluti alla Parrocchia del Sacro Cuore di Busto Arsizio per il restauro della cappella di S.Antonio.  \nOrganizzato dall’InnerWheel Club Busto-Gallarate-Legnano “Ticino”
URL:http://fratellosole.it/evento/concerto-musica-classica-m-alberto-lodoletti/
LOCATION:Sala – Cinema Fratello Sole
END:VEVENT
BEGIN:VEVENT
DTSTART;TZID=Europe/Rome:20250202T160000
DTEND;TZID=Europe/Rome:20250202T173000
DTSTAMP:20260423T123104
CREATED:20241216T080615Z
LAST-MODIFIED:20241216T080615Z
UID:7395-1738512000-1738517400@fratellosole.it
SUMMARY:PICCOLE COSE COME QUESTE
DESCRIPTION:SCHEDA FILM: \nhttps://fratellosole.it/piccole-cose-come-queste/
URL:http://fratellosole.it/evento/piccole-cose-come-queste-3/
LOCATION:Sala – Cinema Fratello Sole
END:VEVENT
BEGIN:VEVENT
DTSTART;TZID=Europe/Rome:20250201T210000
DTEND;TZID=Europe/Rome:20250201T233000
DTSTAMP:20260423T123104
CREATED:20241216T084404Z
LAST-MODIFIED:20241216T084405Z
UID:7433-1738443600-1738452600@fratellosole.it
SUMMARY:TEATRO: ME.ELTON JOHN
DESCRIPTION:Commedia Brillante – Compagnia Della Torre \nRegia di Gianluigi Rossetti \nENTRATA AD OFFERTA LIBERA – Il ricavato sarà interamente devoluto alle associazioni partecipanti
URL:http://fratellosole.it/evento/teatro-me-elton-john/
LOCATION:Sala – Cinema Fratello Sole
END:VEVENT
BEGIN:VEVENT
DTSTART;TZID=Europe/Rome:20250130T210000
DTEND;TZID=Europe/Rome:20250130T223000
DTSTAMP:20260423T123104
CREATED:20241216T080509Z
LAST-MODIFIED:20241216T080509Z
UID:7393-1738270800-1738276200@fratellosole.it
SUMMARY:PICCOLE COSE COME QUESTE
DESCRIPTION:SCHEDA FILM: \nhttps://fratellosole.it/piccole-cose-come-queste/
URL:http://fratellosole.it/evento/piccole-cose-come-queste-2/
LOCATION:Sala – Cinema Fratello Sole
END:VEVENT
BEGIN:VEVENT
DTSTART;TZID=Europe/Rome:20250130T160000
DTEND;TZID=Europe/Rome:20250130T173000
DTSTAMP:20260423T123104
CREATED:20241216T080348Z
LAST-MODIFIED:20241216T080348Z
UID:7391-1738252800-1738258200@fratellosole.it
SUMMARY:PICCOLE COSE COME QUESTE
DESCRIPTION:SCHEDA FILM: \nhttps://fratellosole.it/piccole-cose-come-queste/
URL:http://fratellosole.it/evento/piccole-cose-come-queste/
LOCATION:Sala – Cinema Fratello Sole
END:VEVENT
BEGIN:VEVENT
DTSTART;TZID=Europe/Rome:20250128T113000
DTEND;TZID=Europe/Rome:20250128T133000
DTSTAMP:20260423T123104
CREATED:20250121T062633Z
LAST-MODIFIED:20250121T063450Z
UID:7521-1738063800-1738071000@fratellosole.it
SUMMARY:PROIEZIONE PER LE SCUOLE: LA ZONA D'INTERESSE
DESCRIPTION:ISTITUTO CANDIANI – BUSTO ARSIZIO
URL:http://fratellosole.it/evento/proiezione-per-le-scuole-la-zona-dinteresse/
LOCATION:Sala – Cinema Fratello Sole
END:VEVENT
BEGIN:VEVENT
DTSTART;TZID=Europe/Rome:20250127T090000
DTEND;TZID=Europe/Rome:20250127T110000
DTSTAMP:20260423T123104
CREATED:20250121T062512Z
LAST-MODIFIED:20250121T063642Z
UID:7518-1737968400-1737975600@fratellosole.it
SUMMARY:PROIEZIONE PER LE SCUOLE: ONE LIFE
DESCRIPTION:ISTITUTO TOMMASEO – BUSTO ARSIZIO \n 
URL:http://fratellosole.it/evento/proiezione-per-le-scuole-one-life/
LOCATION:Sala – Cinema Fratello Sole
END:VEVENT
BEGIN:VEVENT
DTSTART;TZID=Europe/Rome:20250126T160000
DTEND;TZID=Europe/Rome:20250126T174500
DTSTAMP:20260423T123104
CREATED:20241216T080136Z
LAST-MODIFIED:20241216T080136Z
UID:7389-1737907200-1737913500@fratellosole.it
SUMMARY:LA ZONA D'INTERESSE
DESCRIPTION:SCHEDA FILM: \nhttps://fratellosole.it/zona-interesse/
URL:http://fratellosole.it/evento/la-zona-dinteresse-3/
LOCATION:Sala – Cinema Fratello Sole
END:VEVENT
BEGIN:VEVENT
DTSTART;TZID=Europe/Rome:20250123T210000
DTEND;TZID=Europe/Rome:20250123T224500
DTSTAMP:20260423T123104
CREATED:20241216T080033Z
LAST-MODIFIED:20241216T080737Z
UID:7387-1737666000-1737672300@fratellosole.it
SUMMARY:LA ZONA D'INTERESSE
DESCRIPTION:SCHEDA FILM: \nhttps://fratellosole.it/zona-interesse/
URL:http://fratellosole.it/evento/la-zona-dinteresse-2/
LOCATION:Sala – Cinema Fratello Sole
END:VEVENT
BEGIN:VEVENT
DTSTART;TZID=Europe/Rome:20250123T160000
DTEND;TZID=Europe/Rome:20250123T174500
DTSTAMP:20260423T123104
CREATED:20241216T075929Z
LAST-MODIFIED:20241216T075930Z
UID:7385-1737648000-1737654300@fratellosole.it
SUMMARY:LA ZONA D'INTERESSE
DESCRIPTION:SCHEDA FILM: \nhttps://fratellosole.it/zona-interesse/
URL:http://fratellosole.it/evento/la-zona-dinteresse/
LOCATION:Sala – Cinema Fratello Sole
END:VEVENT
BEGIN:VEVENT
DTSTART;TZID=Europe/Rome:20250119T160000
DTEND;TZID=Europe/Rome:20250119T174500
DTSTAMP:20260423T123104
CREATED:20241216T075807Z
LAST-MODIFIED:20241216T075807Z
UID:7383-1737302400-1737308700@fratellosole.it
SUMMARY:IL ROBOT SELVAGGIO
DESCRIPTION:SCHEDA FILM: \nhttps://fratellosole.it/robot-selvaggio/
URL:http://fratellosole.it/evento/il-robot-selvaggio-3/
LOCATION:Sala – Cinema Fratello Sole
END:VEVENT
BEGIN:VEVENT
DTSTART;TZID=Europe/Rome:20250116T210000
DTEND;TZID=Europe/Rome:20250116T224500
DTSTAMP:20260423T123104
CREATED:20241216T075647Z
LAST-MODIFIED:20241216T080812Z
UID:7381-1737061200-1737067500@fratellosole.it
SUMMARY:IL ROBOT SELVAGGIO
DESCRIPTION:SCHEDA FILM: \nhttps://fratellosole.it/robot-selvaggio/
URL:http://fratellosole.it/evento/il-robot-selvaggio-2/
LOCATION:Sala – Cinema Fratello Sole
END:VEVENT
BEGIN:VEVENT
DTSTART;TZID=Europe/Rome:20250116T160000
DTEND;TZID=Europe/Rome:20250116T174500
DTSTAMP:20260423T123104
CREATED:20241216T075540Z
LAST-MODIFIED:20241216T075541Z
UID:7379-1737043200-1737049500@fratellosole.it
SUMMARY:IL ROBOT SELVAGGIO
DESCRIPTION:SCHEDA FILM: \nhttps://fratellosole.it/robot-selvaggio/
URL:http://fratellosole.it/evento/il-robot-selvaggio/
LOCATION:Sala – Cinema Fratello Sole
END:VEVENT
BEGIN:VEVENT
DTSTART;TZID=Europe/Rome:20250112T160000
DTEND;TZID=Europe/Rome:20250112T173000
DTSTAMP:20260423T123104
CREATED:20241216T075148Z
LAST-MODIFIED:20241216T075148Z
UID:7377-1736697600-1736703000@fratellosole.it
SUMMARY:THELMA
DESCRIPTION:SCHEDA FILM: \nhttps://fratellosole.it/thelma/
URL:http://fratellosole.it/evento/thelma-3/
LOCATION:Sala – Cinema Fratello Sole
END:VEVENT
BEGIN:VEVENT
DTSTART;TZID=Europe/Rome:20250109T210000
DTEND;TZID=Europe/Rome:20250109T223000
DTSTAMP:20260423T123104
CREATED:20241216T074938Z
LAST-MODIFIED:20241216T074939Z
UID:7375-1736456400-1736461800@fratellosole.it
SUMMARY:THELMA
DESCRIPTION:SCHEDA FILM: \nhttps://fratellosole.it/thelma/
URL:http://fratellosole.it/evento/thelma-2/
LOCATION:Sala – Cinema Fratello Sole
END:VEVENT
BEGIN:VEVENT
DTSTART;TZID=Europe/Rome:20250109T160000
DTEND;TZID=Europe/Rome:20250109T173000
DTSTAMP:20260423T123104
CREATED:20241216T074719Z
LAST-MODIFIED:20241216T074719Z
UID:7363-1736438400-1736443800@fratellosole.it
SUMMARY:THELMA
DESCRIPTION:SCHEDA FILM: \nhttps://fratellosole.it/thelma/
URL:http://fratellosole.it/evento/thelma/
LOCATION:Sala – Cinema Fratello Sole
END:VEVENT
BEGIN:VEVENT
DTSTART;TZID=Europe/Rome:20241215T160000
DTEND;TZID=Europe/Rome:20241215T173000
DTSTAMP:20260423T123104
CREATED:20240826T131304Z
LAST-MODIFIED:20240826T131305Z
UID:6975-1734278400-1734283800@fratellosole.it
SUMMARY:FUGA IN NORMANDIA
DESCRIPTION:SCHEDA FILM: \nhttps://fratellosole.it/fuga-normandia/
URL:http://fratellosole.it/evento/fuga-in-normandia-3/
LOCATION:Sala – Cinema Fratello Sole
END:VEVENT
BEGIN:VEVENT
DTSTART;TZID=Europe/Rome:20241212T210000
DTEND;TZID=Europe/Rome:20241212T223000
DTSTAMP:20260423T123104
CREATED:20240826T131206Z
LAST-MODIFIED:20240826T131206Z
UID:6973-1734037200-1734042600@fratellosole.it
SUMMARY:FUGA IN NORMANDIA
DESCRIPTION:SCHEDA FILM: \nhttps://fratellosole.it/fuga-normandia/
URL:http://fratellosole.it/evento/fuga-in-normandia-2/
LOCATION:Sala – Cinema Fratello Sole
END:VEVENT
END:VCALENDAR