BEGIN:VCALENDAR
VERSION:2.0
PRODID:-//Cinema Teatro Fratello Sole - ECPv6.15.20//NONSGML v1.0//EN
CALSCALE:GREGORIAN
METHOD:PUBLISH
X-WR-CALNAME:Cinema Teatro Fratello Sole
X-ORIGINAL-URL:http://fratellosole.it
X-WR-CALDESC:Eventi per Cinema Teatro Fratello Sole
REFRESH-INTERVAL;VALUE=DURATION:PT1H
X-Robots-Tag:noindex
X-PUBLISHED-TTL:PT1H
BEGIN:VTIMEZONE
TZID:Europe/Rome
BEGIN:DAYLIGHT
TZOFFSETFROM:+0100
TZOFFSETTO:+0200
TZNAME:CEST
DTSTART:20240331T010000
END:DAYLIGHT
BEGIN:STANDARD
TZOFFSETFROM:+0200
TZOFFSETTO:+0100
TZNAME:CET
DTSTART:20241027T010000
END:STANDARD
BEGIN:DAYLIGHT
TZOFFSETFROM:+0100
TZOFFSETTO:+0200
TZNAME:CEST
DTSTART:20250330T010000
END:DAYLIGHT
BEGIN:STANDARD
TZOFFSETFROM:+0200
TZOFFSETTO:+0100
TZNAME:CET
DTSTART:20251026T010000
END:STANDARD
BEGIN:DAYLIGHT
TZOFFSETFROM:+0100
TZOFFSETTO:+0200
TZNAME:CEST
DTSTART:20260329T010000
END:DAYLIGHT
BEGIN:STANDARD
TZOFFSETFROM:+0200
TZOFFSETTO:+0100
TZNAME:CET
DTSTART:20261025T010000
END:STANDARD
END:VTIMEZONE
BEGIN:VEVENT
DTSTART;TZID=Europe/Rome:20251021T210000
DTEND;TZID=Europe/Rome:20251021T230000
DTSTAMP:20260423T005002
CREATED:20250829T151843Z
LAST-MODIFIED:20251014T050848Z
UID:8617-1761080400-1761087600@fratellosole.it
SUMMARY:FILM FUORI RASSEGNA - MIRABILE VISIONE: INFERNO docufilm
DESCRIPTION:Martedì 21 ottobre 2025 – ore 21.00\nMIRABILE VISIONE: INFERNO\nIdeato e diretto da Matteo Gagliardi\n \nMirabile visione: inferno\, il documentario diretto da Matteo Gagliardi\, è un percorso documentaristico che riprende i grandi temi della Divina Commedia e li adatta nei “se” della contemporaneità\, costruendo un racconto di elevata calibratura dal punto di vista culturale\, politico e morale. \nAttraverso lo sguardo della professoressa Argenti (Benedetta Buccellato)\, si analizzerà l’interpretazione che i suoi studenti faranno nel conoscere la figura di Dante Alighieri e la capacità che dimostreranno nell’inserirlo nei loro contesti quotidiani come rappresentazione di eterni valori.\nPadre Guglielmo (Luigi Diberti) darà l’indicazione d’apertura verso l’indagine\, restituendo al suo personaggio l’onere di rappresentare Virgilio\, importante portavoce di un messaggio trascendentale che giunge negli oscuri abissi infernali.\nI gironi danteschi diventano allegoria e inscenano un esasperato contesto planetario in rivolta\, metafora di un mondo che ha vissuto le più tristi calamità umane. \nMatteo Gagliardi\, con grande abilità illustrativa\, pone in essere la storia di un secolo\, il Novecento\, senza risparmiare nulla: 93 minuti sono sufficienti per porre delle domande ma non abbastanza per esprimere le dovute risposte. \nLa Divina Commedia di Alighieri\, a cui il film rende un denso\, meticoloso e intelligente tributo per i suoi settecento anni di storia\, rappresenta ancora una delle opere più contemporanee che siano mai state scritte. \nUn documentario di grande valore culturale che semina una speranza: \n“E uscimmo a riveder le stelle”! \nCON LA PRESENZA IN SALA DEL REGISTA E IDEATORE MATTERO GAGLIARDI\n  \nLA NOSTRA RECENSIONE: \nhttp://fratellosole.it/mirabile-visione-inferno-la-nostra-recensione/ \nTrailer: \nhttps://www.youtube.com/watch?v=4oAN53gbF88 \n 
URL:http://fratellosole.it/evento/fuorirassegna-docufilm-mirabile-visione-inferno/
LOCATION:Sala – Cinema Fratello Sole
END:VEVENT
BEGIN:VEVENT
DTSTART;TZID=Europe/Rome:20251019T160000
DTEND;TZID=Europe/Rome:20251019T180000
DTSTAMP:20260423T005002
CREATED:20250824T125936Z
LAST-MODIFIED:20250824T125936Z
UID:8542-1760889600-1760896800@fratellosole.it
SUMMARY:L'AMICO FEDELE
DESCRIPTION:SCHEDA FILM: \nhttps://fratellosole.it/amico-fedele/
URL:http://fratellosole.it/evento/lamico-fedele-3/
LOCATION:Sala – Cinema Fratello Sole
END:VEVENT
BEGIN:VEVENT
DTSTART;TZID=Europe/Rome:20251016T210000
DTEND;TZID=Europe/Rome:20251016T230000
DTSTAMP:20260423T005002
CREATED:20250824T125832Z
LAST-MODIFIED:20250824T125832Z
UID:8540-1760648400-1760655600@fratellosole.it
SUMMARY:L'AMICO FEDELE
DESCRIPTION:SCHEDA FILM: \nhttps://fratellosole.it/amico-fedele/
URL:http://fratellosole.it/evento/lamico-fedele-2/
LOCATION:Sala – Cinema Fratello Sole
END:VEVENT
BEGIN:VEVENT
DTSTART;TZID=Europe/Rome:20251016T160000
DTEND;TZID=Europe/Rome:20251016T180000
DTSTAMP:20260423T005002
CREATED:20250824T125735Z
LAST-MODIFIED:20250824T125735Z
UID:8538-1760630400-1760637600@fratellosole.it
SUMMARY:L'AMICO FEDELE
DESCRIPTION:SCHEDA FILM: \nhttps://fratellosole.it/amico-fedele/
URL:http://fratellosole.it/evento/lamico-fedele/
LOCATION:Sala – Cinema Fratello Sole
END:VEVENT
BEGIN:VEVENT
DTSTART;TZID=Europe/Rome:20251012T160000
DTEND;TZID=Europe/Rome:20251012T180000
DTSTAMP:20260423T005002
CREATED:20250824T125516Z
LAST-MODIFIED:20250824T125516Z
UID:8536-1760284800-1760292000@fratellosole.it
SUMMARY:FOLLEMENTE
DESCRIPTION:SCHEDA FILM: \nhttps://fratellosole.it/follemente/
URL:http://fratellosole.it/evento/follemente-3/
LOCATION:Sala – Cinema Fratello Sole
END:VEVENT
BEGIN:VEVENT
DTSTART;TZID=Europe/Rome:20251009T210000
DTEND;TZID=Europe/Rome:20251009T230000
DTSTAMP:20260423T005002
CREATED:20250824T125421Z
LAST-MODIFIED:20250824T125421Z
UID:8534-1760043600-1760050800@fratellosole.it
SUMMARY:FOLLEMENTE
DESCRIPTION:SCHEDA FILM: \nhttps://fratellosole.it/follemente/
URL:http://fratellosole.it/evento/follemente-2/
LOCATION:Sala – Cinema Fratello Sole
END:VEVENT
BEGIN:VEVENT
DTSTART;TZID=Europe/Rome:20251009T160000
DTEND;TZID=Europe/Rome:20251009T180000
DTSTAMP:20260423T005002
CREATED:20250824T125317Z
LAST-MODIFIED:20250824T125317Z
UID:8532-1760025600-1760032800@fratellosole.it
SUMMARY:FOLLEMENTE
DESCRIPTION:SCHEDA FILM: \nhttps://fratellosole.it/follemente/
URL:http://fratellosole.it/evento/follemente/
LOCATION:Sala – Cinema Fratello Sole
END:VEVENT
BEGIN:VEVENT
DTSTART;TZID=Europe/Rome:20251005T210000
DTEND;TZID=Europe/Rome:20251005T223000
DTSTAMP:20260423T005002
CREATED:20250918T131317Z
LAST-MODIFIED:20250918T131317Z
UID:8636-1759698000-1759703400@fratellosole.it
SUMMARY:FRANCESCO E L'INFINITAMENTE PICCOLO - meditazione teatrale
DESCRIPTION:Meditazione teatrale ispirata all’opera di Cristian Bobin\ncon Lucilla Giagnoni\nmusiche di Paolo Pizzimenti\nPER CELEBRARE INSIEME L’OTTAVO CENTENARIO DELLA COMPOSIZIONE DEL CANTICO DELLE CREATURE \nFrancesco d’Assisi è forse la figura più sconvolgente che l’Italia abbia prodotto.\nMondano e ascetico\, combattente\, sognatore\, teologo e poeta\, armato di una fede incrollabile\, rivoluzionario fino al limite dell’eresia e nello stesso tempo capace della più umile obbedienza.\nFrancesco\, santo fra i santi\, è infatti un uomo\, molto umano\, con tutti i suoi difetti.\nIn Francesco il santo e l’uomo sono tutt’uno. Per questo ci è così vicino.\nInfinitamente grande e infinitamente piccolo in lui sono la stessa cosa. \n  \nINGRESSO LIBERO
URL:http://fratellosole.it/evento/francesco-e-linfinitamente-piccolo-meditazione-teatrale/
LOCATION:Sala – Cinema Fratello Sole
END:VEVENT
BEGIN:VEVENT
DTSTART;TZID=Europe/Rome:20250924T210000
DTEND;TZID=Europe/Rome:20250924T223000
DTSTAMP:20260423T005002
CREATED:20250918T131611Z
LAST-MODIFIED:20250918T131611Z
UID:8639-1758747600-1758753000@fratellosole.it
SUMMARY:TERRA SANTA: UNA PACE IMPOSSIBILE? conferenza
DESCRIPTION: 
URL:http://fratellosole.it/evento/terra-santa-una-pace-impossibile-conferenza/
LOCATION:Sala – Cinema Fratello Sole
END:VEVENT
BEGIN:VEVENT
DTSTART;TZID=Europe/Rome:20250613T210000
DTEND;TZID=Europe/Rome:20250613T223000
DTSTAMP:20260423T005002
CREATED:20250313T065629Z
LAST-MODIFIED:20250512T053351Z
UID:7848-1749848400-1749853800@fratellosole.it
SUMMARY:Conferenza Don Paolo Alliata: L'AVVENTURA UMANA
DESCRIPTION:  \nDon Paolo Alliata (Milano\, 1971)\, dopo la laurea in Lettere Classiche all’Università degli Studi di Milano\, viene ordinato prete dal cardinale Carlo Maria Martini. È vicario nella parrocchia milanese di Santa Maria Incoronata\, all’interno della Comunità Pastorale Paolo VI. Ha scritto testi teatrali sulla Bibbia destinati a bambini e ragazzi. Ha collaborato con l’Ufficio Catechesi della Diocesi di Milano scrivendo e realizzando audio-racconti per bambini sulle grandi pagine delle vicende bibliche.\nSi impegna\, attraverso predicazione e scritti\, a proporre intrecci tra Bibbia e letteratura non religiosa. Dal 2016 propone le “Passeggiate nella letteratura\, dove Dio respira di nascosto”: percorsi mensili di lettura di romanzi ed epistolari\, riletti attraverso una chiave di lettura sapienziale. Dal 2019 è responsabile del Servizio per l’Apostolato Biblico della Diocesi di Milano. È rettore del liceo Montini da Settembre 2022. Ha pubblicato per Ponte alle Grazie Dove Dio respira di nascosto (2018)\, C’era come un fuoco ardente (2019)\, Gesù predicava ai bradipi (2021)\, L’amore fa miracoli (2024); per Ancora La voce leggera delle pagine (2024). \n  \nL’AVVENTURA UMANA\nQuando la letteratura accompagna il nostro cammino \nPrendendo in prestito le parole dei grandi scrittori\, Don Paolo Alliata ci accompagna in un’esplorazione profonda e illuminante del cammino che ogni essere umano compie dalla nascita alla morte\, un’avventura che non si esaurisce nel semplice trascorrere del tempo\, ma che vuole conferire significato e direzione alla nostra esistenza.\nPassando da Remarque a Umberto Eco\, da Van Gogh a Tolstoj\, Alliata ci guida in un viaggio letterario toccante e inedito ai confini tra cielo e terra.\nUn’opera che parla di fede\, speranza e\, quindi\, dell’impegnativo e affascinante tragitto che approda alla scoperta di se stessi. \n  \n  \nPer prenotare:\nhttps://ticket.cinebot.it/fratellosole/ \n 
URL:http://fratellosole.it/evento/conferenza-don-paolo-alliata-lavventura-umana/
LOCATION:Sala – Cinema Fratello Sole
END:VEVENT
BEGIN:VEVENT
DTSTART;TZID=Europe/Rome:20250608T160000
DTEND;TZID=Europe/Rome:20250608T173000
DTSTAMP:20260423T005002
CREATED:20250313T064301Z
LAST-MODIFIED:20250316T143708Z
UID:7846-1749398400-1749403800@fratellosole.it
SUMMARY:MARIA
DESCRIPTION:SCHEDA FILM: \nhttp://fratellosole.it/maria/
URL:http://fratellosole.it/evento/maria-3/
LOCATION:Sala – Cinema Fratello Sole
END:VEVENT
BEGIN:VEVENT
DTSTART;TZID=Europe/Rome:20250605T210000
DTEND;TZID=Europe/Rome:20250605T230000
DTSTAMP:20260423T005002
CREATED:20250313T064158Z
LAST-MODIFIED:20250316T143646Z
UID:7844-1749157200-1749164400@fratellosole.it
SUMMARY:MARIA
DESCRIPTION:SCHEDA FILM: \nhttp://fratellosole.it/maria/
URL:http://fratellosole.it/evento/maria-2/
LOCATION:Sala – Cinema Fratello Sole
END:VEVENT
BEGIN:VEVENT
DTSTART;TZID=Europe/Rome:20250605T160000
DTEND;TZID=Europe/Rome:20250605T183000
DTSTAMP:20260423T005002
CREATED:20250313T064048Z
LAST-MODIFIED:20250316T143627Z
UID:7841-1749139200-1749148200@fratellosole.it
SUMMARY:MARIA
DESCRIPTION:SCHEDA FILM: \nhttp://fratellosole.it/maria/
URL:http://fratellosole.it/evento/maria/
LOCATION:Sala – Cinema Fratello Sole
END:VEVENT
BEGIN:VEVENT
DTSTART;TZID=Europe/Rome:20250601T160000
DTEND;TZID=Europe/Rome:20250601T173000
DTSTAMP:20260423T005002
CREATED:20250313T063735Z
LAST-MODIFIED:20250316T143549Z
UID:7839-1748793600-1748799000@fratellosole.it
SUMMARY:L'ORCHESTRA STONATA
DESCRIPTION:SCHEDA FILM: \nhttp://fratellosole.it/orchestra-stonata/
URL:http://fratellosole.it/evento/lorchestra-stonata-3/
LOCATION:Sala – Cinema Fratello Sole
END:VEVENT
BEGIN:VEVENT
DTSTART;TZID=Europe/Rome:20250529T210000
DTEND;TZID=Europe/Rome:20250529T223000
DTSTAMP:20260423T005002
CREATED:20250313T063634Z
LAST-MODIFIED:20250316T143528Z
UID:7837-1748552400-1748557800@fratellosole.it
SUMMARY:L'ORCHESTRA STONATA
DESCRIPTION:SCHEDA FILM: \nhttp://fratellosole.it/orchestra-stonata/
URL:http://fratellosole.it/evento/lorchestra-stonata-2/
LOCATION:Sala – Cinema Fratello Sole
END:VEVENT
BEGIN:VEVENT
DTSTART;TZID=Europe/Rome:20250529T160000
DTEND;TZID=Europe/Rome:20250529T173000
DTSTAMP:20260423T005002
CREATED:20250313T063517Z
LAST-MODIFIED:20250316T143502Z
UID:7834-1748534400-1748539800@fratellosole.it
SUMMARY:L'ORCHESTRA STONATA
DESCRIPTION:SCHEDA FILM: \nhttp://fratellosole.it/orchestra-stonata/
URL:http://fratellosole.it/evento/lorchestra-stonata/
LOCATION:Sala – Cinema Fratello Sole
END:VEVENT
BEGIN:VEVENT
DTSTART;TZID=Europe/Rome:20250525T160000
DTEND;TZID=Europe/Rome:20250525T183000
DTSTAMP:20260423T005002
CREATED:20250313T063322Z
LAST-MODIFIED:20250316T143427Z
UID:7832-1748188800-1748197800@fratellosole.it
SUMMARY:HERE
DESCRIPTION:SCHEDA FILM: \nhttp://fratellosole.it/here/
URL:http://fratellosole.it/evento/here-3/
LOCATION:Sala – Cinema Fratello Sole
END:VEVENT
BEGIN:VEVENT
DTSTART;TZID=Europe/Rome:20250522T210000
DTEND;TZID=Europe/Rome:20250522T223000
DTSTAMP:20260423T005002
CREATED:20250313T063232Z
LAST-MODIFIED:20250316T143408Z
UID:7830-1747947600-1747953000@fratellosole.it
SUMMARY:HERE
DESCRIPTION:SCHEDA FILM: \nhttp://fratellosole.it/here/
URL:http://fratellosole.it/evento/here-2/
LOCATION:Sala – Cinema Fratello Sole
END:VEVENT
BEGIN:VEVENT
DTSTART;TZID=Europe/Rome:20250522T160000
DTEND;TZID=Europe/Rome:20250522T173000
DTSTAMP:20260423T005002
CREATED:20250313T063129Z
LAST-MODIFIED:20250316T143348Z
UID:7827-1747929600-1747935000@fratellosole.it
SUMMARY:HERE
DESCRIPTION:SCHEDA FILM: \nhttp://fratellosole.it/here/
URL:http://fratellosole.it/evento/here/
LOCATION:Sala – Cinema Fratello Sole
END:VEVENT
BEGIN:VEVENT
DTSTART;TZID=Europe/Rome:20250511T160000
DTEND;TZID=Europe/Rome:20250511T184500
DTSTAMP:20260423T005002
CREATED:20250313T063007Z
LAST-MODIFIED:20250316T143313Z
UID:7825-1746979200-1746989100@fratellosole.it
SUMMARY:IL GLADIATORE 2
DESCRIPTION:SCHEDA FILM: \nhttp://fratellosole.it/gladiatore2/
URL:http://fratellosole.it/evento/il-gladiatore-2-3/
LOCATION:Sala – Cinema Fratello Sole
END:VEVENT
BEGIN:VEVENT
DTSTART;TZID=Europe/Rome:20250508T210000
DTEND;TZID=Europe/Rome:20250508T234500
DTSTAMP:20260423T005002
CREATED:20250313T062909Z
LAST-MODIFIED:20250316T143252Z
UID:7823-1746738000-1746747900@fratellosole.it
SUMMARY:IL GLADIATORE 2
DESCRIPTION:SCHEDA FILM: \nhttp://fratellosole.it/gladiatore2/
URL:http://fratellosole.it/evento/il-gladiatore-2-2/
LOCATION:Sala – Cinema Fratello Sole
END:VEVENT
BEGIN:VEVENT
DTSTART;TZID=Europe/Rome:20250508T160000
DTEND;TZID=Europe/Rome:20250508T184000
DTSTAMP:20260423T005002
CREATED:20250313T062758Z
LAST-MODIFIED:20250316T143232Z
UID:7820-1746720000-1746729600@fratellosole.it
SUMMARY:IL GLADIATORE 2
DESCRIPTION:SCHEDA FILM: \nhttp://fratellosole.it/gladiatore2/
URL:http://fratellosole.it/evento/il-gladiatore-2/
LOCATION:Sala – Cinema Fratello Sole
END:VEVENT
BEGIN:VEVENT
DTSTART;TZID=Europe/Rome:20250506T210000
DTEND;TZID=Europe/Rome:20250506T224500
DTSTAMP:20260423T005002
CREATED:20241216T085611Z
LAST-MODIFIED:20250213T065116Z
UID:7446-1746565200-1746571500@fratellosole.it
SUMMARY:ARTE: ANDY WARHOL. AMERICAN DREAM
DESCRIPTION:SCHEDA FILM: \nhttps://fratellosole.it/lalba-dellimpressionismo-parigi-1874/
URL:http://fratellosole.it/evento/arte-andy-warhol-american-dream/
LOCATION:Sala – Cinema Fratello Sole
END:VEVENT
BEGIN:VEVENT
DTSTART;TZID=Europe/Rome:20250504T160000
DTEND;TZID=Europe/Rome:20250504T173000
DTSTAMP:20260423T005002
CREATED:20250313T062623Z
LAST-MODIFIED:20250316T143203Z
UID:7818-1746374400-1746379800@fratellosole.it
SUMMARY:10 GIORNI CON I SUOI
DESCRIPTION:SCHEDA FILM: \nhttp://fratellosole.it/dieci-giorni-con-suoi/
URL:http://fratellosole.it/evento/10-giorni-con-i-suoi-3/
LOCATION:Sala – Cinema Fratello Sole
END:VEVENT
BEGIN:VEVENT
DTSTART;TZID=Europe/Rome:20250503T210000
DTEND;TZID=Europe/Rome:20250503T233000
DTSTAMP:20260423T005002
CREATED:20250326T061748Z
LAST-MODIFIED:20250326T061749Z
UID:7999-1746306000-1746315000@fratellosole.it
SUMMARY:CONCERTO BANDAFABER: LA CANZONE D'AUTORE ITALIANA
DESCRIPTION:                   \nUn viaggio nelle grandi canzoni d’autore italiane. \nBANDAFABER è riconosciuta ufficialmente dalla fondazione “Fabrizio De André” come Tribute Band \nBANDAFABER è un’attrazione nuova e unica nel panorama musicale: una formazione inimitabile ma soprattutto difficilmente classificabile\, che ha fuso il timbro fresco e scanzonato della banda con il tocco energico e aggressivo del quartetto rock formato da Ugo Frialdi (voce)\, Antonio Cistellini (chitarra)\, Claudio Rizzi (basso) e Giumbo Merlinzoli (batteria). \nCosto Biglietti 17 euro \nPer prenotare \nhttps://ticket.cinebot.it/fratellosole/ \n 
URL:http://fratellosole.it/evento/concerto-bandafaber-la-canzone-dautore-italiana/
LOCATION:Sala – Cinema Fratello Sole
END:VEVENT
BEGIN:VEVENT
DTSTART;TZID=Europe/Rome:20250501T210000
DTEND;TZID=Europe/Rome:20250501T223000
DTSTAMP:20260423T005002
CREATED:20250313T062532Z
LAST-MODIFIED:20250316T143140Z
UID:7816-1746133200-1746138600@fratellosole.it
SUMMARY:10 GIORNI CON I SUOI
DESCRIPTION:SCHEDA FILM: \nhttp://fratellosole.it/dieci-giorni-con-suoi/
URL:http://fratellosole.it/evento/10-giorni-con-i-suoi-2/
LOCATION:Sala – Cinema Fratello Sole
END:VEVENT
BEGIN:VEVENT
DTSTART;TZID=Europe/Rome:20250501T160000
DTEND;TZID=Europe/Rome:20250501T173000
DTSTAMP:20260423T005002
CREATED:20250313T062433Z
LAST-MODIFIED:20250316T143119Z
UID:7813-1746115200-1746120600@fratellosole.it
SUMMARY:10 GIORNI CON I SUOI
DESCRIPTION:SCHEDA FILM: \nhttp://fratellosole.it/dieci-giorni-con-suoi/
URL:http://fratellosole.it/evento/10-giorni-con-i-suoi/
LOCATION:Sala – Cinema Fratello Sole
END:VEVENT
BEGIN:VEVENT
DTSTART;TZID=Europe/Rome:20250427T160000
DTEND;TZID=Europe/Rome:20250427T180000
DTSTAMP:20260423T005002
CREATED:20250313T062317Z
LAST-MODIFIED:20250316T143014Z
UID:7811-1745769600-1745776800@fratellosole.it
SUMMARY:NAPOLI-NEW YORK
DESCRIPTION:SCHEDA FILM: \nhttp://fratellosole.it/napoli-newyork/
URL:http://fratellosole.it/evento/napoli-new-york-3/
LOCATION:Sala – Cinema Fratello Sole
END:VEVENT
BEGIN:VEVENT
DTSTART;TZID=Europe/Rome:20250424T210000
DTEND;TZID=Europe/Rome:20250424T230000
DTSTAMP:20260423T005002
CREATED:20250313T062231Z
LAST-MODIFIED:20250316T142936Z
UID:7809-1745528400-1745535600@fratellosole.it
SUMMARY:NAPOLI-NEW YORK
DESCRIPTION:SCHEDA FILM: \nhttp://fratellosole.it/napoli-newyork/
URL:http://fratellosole.it/evento/napoli-new-york-2/
LOCATION:Sala – Cinema Fratello Sole
END:VEVENT
BEGIN:VEVENT
DTSTART;TZID=Europe/Rome:20250424T160000
DTEND;TZID=Europe/Rome:20250424T180000
DTSTAMP:20260423T005002
CREATED:20250313T062122Z
LAST-MODIFIED:20250316T142917Z
UID:7806-1745510400-1745517600@fratellosole.it
SUMMARY:NAPOLI-NEW YORK
DESCRIPTION:SCHEDA FILM: \nhttp://fratellosole.it/napoli-newyork/
URL:http://fratellosole.it/evento/napoli-new-york/
LOCATION:Sala – Cinema Fratello Sole
END:VEVENT
END:VCALENDAR