BEGIN:VCALENDAR
VERSION:2.0
PRODID:-//Cinema Teatro Fratello Sole - ECPv6.15.20//NONSGML v1.0//EN
CALSCALE:GREGORIAN
METHOD:PUBLISH
X-WR-CALNAME:Cinema Teatro Fratello Sole
X-ORIGINAL-URL:http://fratellosole.it
X-WR-CALDESC:Eventi per Cinema Teatro Fratello Sole
REFRESH-INTERVAL;VALUE=DURATION:PT1H
X-Robots-Tag:noindex
X-PUBLISHED-TTL:PT1H
BEGIN:VTIMEZONE
TZID:Europe/Rome
BEGIN:DAYLIGHT
TZOFFSETFROM:+0100
TZOFFSETTO:+0200
TZNAME:CEST
DTSTART:20210328T010000
END:DAYLIGHT
BEGIN:STANDARD
TZOFFSETFROM:+0200
TZOFFSETTO:+0100
TZNAME:CET
DTSTART:20211031T010000
END:STANDARD
BEGIN:DAYLIGHT
TZOFFSETFROM:+0100
TZOFFSETTO:+0200
TZNAME:CEST
DTSTART:20220327T010000
END:DAYLIGHT
BEGIN:STANDARD
TZOFFSETFROM:+0200
TZOFFSETTO:+0100
TZNAME:CET
DTSTART:20221030T010000
END:STANDARD
BEGIN:DAYLIGHT
TZOFFSETFROM:+0100
TZOFFSETTO:+0200
TZNAME:CEST
DTSTART:20230326T010000
END:DAYLIGHT
BEGIN:STANDARD
TZOFFSETFROM:+0200
TZOFFSETTO:+0100
TZNAME:CET
DTSTART:20231029T010000
END:STANDARD
END:VTIMEZONE
BEGIN:VEVENT
DTSTART;TZID=Europe/Rome:20221201T160000
DTEND;TZID=Europe/Rome:20221201T180000
DTSTAMP:20260425T161355
CREATED:20220831T135449Z
LAST-MODIFIED:20220831T135449Z
UID:4713-1669910400-1669917600@fratellosole.it
SUMMARY:ORE 21.00 TOP GUN - MAVERICK
DESCRIPTION:1 DICEMBRE 2022 \nSCHEDA FILM: \nhttp://fratellosole.it/top-gun-maverick/
URL:http://fratellosole.it/evento/ore-21-00-top-gun-maverick/
END:VEVENT
BEGIN:VEVENT
DTSTART;TZID=Europe/Rome:20221129T210000
DTEND;TZID=Europe/Rome:20221129T230000
DTSTAMP:20260425T161355
CREATED:20220926T061144Z
LAST-MODIFIED:20220926T061259Z
UID:4734-1669755600-1669762800@fratellosole.it
SUMMARY:BOTTICELLI E FIRENZE: LA NASCITA DELLA BELLEZZA - FILM D'ARTE
DESCRIPTION:Martedì 29 novembre ore 21.00 \nbiglietti: 10 euro intero\, 8 euro ridotto \nInserito nel percorso “Sulle vie della Bellezza” \n \nRegia di Marco Pianigiani. Un film con Jasmine Trinca\nBellezza\, creatività\, genio: la Firenze rinascimentale di Lorenzo de’ Medici\, detto il Magnifico\, è un concentrato di arte e cultura. Ma non è solo questo. Tra le innumerevoli botteghe e i palazzi del governo\, tanta bellezza convive con il lato oscuro della città\, fatto di lotte per il potere e intrighi di efferata violenza. Un artista\, più di tutti\, ha saputo proiettare nelle sue opere\, le luci e le ombre di un’epoca destinata a rimanere indimenticata: Sandro Botticelli (1445-1510). Riviviamo la Firenze delle botteghe attraverso la vita di Botticelli\, le collaborazioni\, le sfide e i successi. Dall’esordio sotto l’ala dei Medici\, Botticelli si impone come l’inventore di una Bellezza ideale\, che trova la sua massima espressione in opere come Primavera e Nascita di Venere. La morte di Lorenzo Il Magnifico\, le prediche apocalittiche di Girolamo Savonarola e i falò delle vanità\, segnano la parabola discendente del maestro fiorentino\, destinato a un oblio di oltre tre secoli. La riscoperta di Botticelli ad opera dei Pre-Raffaelliti dà inizio un’autentica Botticelli-mania\, che dal XIX secolo si protrae fino a oggi. \nTrailer: \nhttps://www.youtube.com/watch?v=mG0r-DzgDuo
URL:http://fratellosole.it/evento/botticelli-e-firenze-la-nascita-della-bellezza-film-darte/
END:VEVENT
BEGIN:VEVENT
DTSTART;TZID=Europe/Rome:20221127T160000
DTEND;TZID=Europe/Rome:20221127T180000
DTSTAMP:20260425T161355
CREATED:20220831T135209Z
LAST-MODIFIED:20220831T135209Z
UID:4709-1669564800-1669572000@fratellosole.it
SUMMARY:ORE 16.00 DOWNTON ABBEY II UNA NUOVA ERA
DESCRIPTION:27 NOVEMBRE 2022 \nSCHEDA FILM: \nhttp://fratellosole.it/downton-abbey-nuova-era/
URL:http://fratellosole.it/evento/ore-16-00-downton-abbey-ii-una-nuova-era-2/
END:VEVENT
BEGIN:VEVENT
DTSTART;TZID=Europe/Rome:20221124T210000
DTEND;TZID=Europe/Rome:20221124T230000
DTSTAMP:20260425T161355
CREATED:20220831T135058Z
LAST-MODIFIED:20220831T135058Z
UID:4707-1669323600-1669330800@fratellosole.it
SUMMARY:ORE 21.00 DOWNTON ABBEY II UNA NUOVA ERA
DESCRIPTION:24 NOVENBRE 2022 \nSCHEDA FILM: \nhttp://fratellosole.it/downton-abbey-nuova-era/
URL:http://fratellosole.it/evento/ore-21-00-downton-abbey-ii-una-nuova-era/
END:VEVENT
BEGIN:VEVENT
DTSTART;TZID=Europe/Rome:20221124T160000
DTEND;TZID=Europe/Rome:20221124T180000
DTSTAMP:20260425T161355
CREATED:20220831T134947Z
LAST-MODIFIED:20220831T134947Z
UID:4705-1669305600-1669312800@fratellosole.it
SUMMARY:ORE 16.00 DOWNTON ABBEY II UNA NUOVA ERA
DESCRIPTION:24 NOVEMBRE 2022 \nSCHEDA FILM: \nhttp://fratellosole.it/downton-abbey-nuova-era/
URL:http://fratellosole.it/evento/ore-16-00-downton-abbey-ii-una-nuova-era/
END:VEVENT
BEGIN:VEVENT
DTSTART;TZID=Europe/Rome:20221121T203000
DTEND;TZID=Europe/Rome:20221121T223000
DTSTAMP:20260425T161355
CREATED:20220926T060427Z
LAST-MODIFIED:20221107T070128Z
UID:4732-1669062600-1669069800@fratellosole.it
SUMMARY:CONFERENZA PROF. ALBERTO PELLAI - SFIDE EVOLUTIVE ED EDUCATIVE IN ADOLESCENZA
DESCRIPTION:Lunedì 21 novembre ore 20.45 \nCONFERENZA A INGRESSO LIBERO con la partecipazione della Dott.ssa Chiara Massazza \nInserito nel percorso “Sulle vie della Bellezza” \n  \nper prenotare \nhttps://ticket.cinebot.it/fratellosole/
URL:http://fratellosole.it/evento/conferenza-prof-alberto-pellai-sfide-evolutive-ed-educative-in-adolescenza/
ATTACH;FMTTYPE=image/jpeg:http://fratellosole.it/wp-content/uploads/2022/09/Pellai-Volantini-A5-31ott-1.jpg
END:VEVENT
BEGIN:VEVENT
DTSTART;TZID=Europe/Rome:20221120T160000
DTEND;TZID=Europe/Rome:20221120T180000
DTSTAMP:20260425T161355
CREATED:20220831T134809Z
LAST-MODIFIED:20220831T134809Z
UID:4703-1668960000-1668967200@fratellosole.it
SUMMARY:ORE 16.00 FINALE A SORPRESA
DESCRIPTION:20 NOVEMBRE 2022 \nSCHEDA FILM: \nhttp://fratellosole.it/finale-sorpresa/
URL:http://fratellosole.it/evento/ore-16-00-finale-a-sorpresa-2/
END:VEVENT
BEGIN:VEVENT
DTSTART;TZID=Europe/Rome:20221117T210000
DTEND;TZID=Europe/Rome:20221117T230000
DTSTAMP:20260425T161355
CREATED:20220831T134707Z
LAST-MODIFIED:20220831T134707Z
UID:4701-1668718800-1668726000@fratellosole.it
SUMMARY:ORE 21.00 FINALE A SORPRESA
DESCRIPTION:17 NOVEMBRE 2022 \nSCHEDA FILM: \nhttp://fratellosole.it/finale-sorpresa/
URL:http://fratellosole.it/evento/ore-21-00-finale-a-sorpresa/
END:VEVENT
BEGIN:VEVENT
DTSTART;TZID=Europe/Rome:20221117T160000
DTEND;TZID=Europe/Rome:20221117T180000
DTSTAMP:20260425T161355
CREATED:20220831T134547Z
LAST-MODIFIED:20220831T134547Z
UID:4699-1668700800-1668708000@fratellosole.it
SUMMARY:ORE 16.00 FINALE A SORPRESA
DESCRIPTION:17 NOVEMBRE 2022 \nSCHEDA FILM: \nhttp://fratellosole.it/finale-sorpresa/
URL:http://fratellosole.it/evento/ore-16-00-finale-a-sorpresa/
END:VEVENT
BEGIN:VEVENT
DTSTART;TZID=Europe/Rome:20221113T160000
DTEND;TZID=Europe/Rome:20221113T180000
DTSTAMP:20260425T161355
CREATED:20220831T134333Z
LAST-MODIFIED:20220831T134333Z
UID:4697-1668355200-1668362400@fratellosole.it
SUMMARY:ORE 16.00 TRA DUE MONDI
DESCRIPTION:13 NOVEMBRE 2022 \nSCHEDA FILM: \nhttp://fratellosole.it/tra-due-mondi/
URL:http://fratellosole.it/evento/ore-16-00-tra-due-mondi-2/
END:VEVENT
BEGIN:VEVENT
DTSTART;TZID=Europe/Rome:20221110T210000
DTEND;TZID=Europe/Rome:20221110T230000
DTSTAMP:20260425T161355
CREATED:20220831T134225Z
LAST-MODIFIED:20220831T134225Z
UID:4695-1668114000-1668121200@fratellosole.it
SUMMARY:ORE 21.00 TRA DUE MONDI
DESCRIPTION:10 NOVENBRE 2022 \nSCHEDA FILM: \nhttp://fratellosole.it/tra-due-mondi/
URL:http://fratellosole.it/evento/ore-21-00-tra-due-mondi/
END:VEVENT
BEGIN:VEVENT
DTSTART;TZID=Europe/Rome:20221110T160000
DTEND;TZID=Europe/Rome:20221110T180000
DTSTAMP:20260425T161355
CREATED:20220831T134125Z
LAST-MODIFIED:20220831T134126Z
UID:4693-1668096000-1668103200@fratellosole.it
SUMMARY:ORE 16.00 TRA DUE MONDI
DESCRIPTION:10 NOVENBRE 2022 \nSCHEDA FILM: \nhttp://fratellosole.it/tra-due-mondi/
URL:http://fratellosole.it/evento/ore-16-00-tra-due-mondi/
END:VEVENT
BEGIN:VEVENT
DTSTART;TZID=Europe/Rome:20221106T160000
DTEND;TZID=Europe/Rome:20221106T180000
DTSTAMP:20260425T161355
CREATED:20220831T133933Z
LAST-MODIFIED:20220831T133933Z
UID:4691-1667750400-1667757600@fratellosole.it
SUMMARY:ORE 16.00 IL RITRATTO DEL DUCA
DESCRIPTION:6 NOVEMBRE 2022 \nSCHEDA FILM: \nhttp://fratellosole.it/ritratto-duca/
URL:http://fratellosole.it/evento/ore-16-00-il-ritratto-del-duca-2/
END:VEVENT
BEGIN:VEVENT
DTSTART;TZID=Europe/Rome:20221103T210000
DTEND;TZID=Europe/Rome:20221103T230000
DTSTAMP:20260425T161355
CREATED:20220831T133838Z
LAST-MODIFIED:20220831T133838Z
UID:4689-1667509200-1667516400@fratellosole.it
SUMMARY:ORE 21.00 IL RITRATTO DEL DUCA
DESCRIPTION:3 NOVEMBRE 2022 \nSCHEDA FILM: \nhttp://fratellosole.it/ritratto-duca/
URL:http://fratellosole.it/evento/ore-21-00-il-ritratto-del-duca/
END:VEVENT
BEGIN:VEVENT
DTSTART;TZID=Europe/Rome:20221103T160000
DTEND;TZID=Europe/Rome:20221103T180000
DTSTAMP:20260425T161355
CREATED:20220831T133738Z
LAST-MODIFIED:20220831T133738Z
UID:4687-1667491200-1667498400@fratellosole.it
SUMMARY:ORE 16.00 IL RITRATTO DEL DUCA
DESCRIPTION:3 NOVEMBRE 2022 \nSCHEDA FILM: \nhttp://fratellosole.it/ritratto-duca/
URL:http://fratellosole.it/evento/ore-16-00-il-ritratto-del-duca/
END:VEVENT
BEGIN:VEVENT
DTSTART;TZID=Europe/Rome:20221030T160000
DTEND;TZID=Europe/Rome:20221030T183000
DTSTAMP:20260425T161355
CREATED:20220831T133552Z
LAST-MODIFIED:20220831T133552Z
UID:4685-1667145600-1667154600@fratellosole.it
SUMMARY:ORE 16.00 ELVIS
DESCRIPTION:30 OTTOBRE 2022 \nSCHEDA FILM: \nhttp://fratellosole.it/elvis/
URL:http://fratellosole.it/evento/ore-16-00-elvis-2/
END:VEVENT
BEGIN:VEVENT
DTSTART;TZID=Europe/Rome:20221027T210000
DTEND;TZID=Europe/Rome:20221027T230000
DTSTAMP:20260425T161355
CREATED:20220831T133455Z
LAST-MODIFIED:20220831T133455Z
UID:4683-1666904400-1666911600@fratellosole.it
SUMMARY:ORE 21.00 ELVIS
DESCRIPTION:27 OTTOBRE 2022 \nSCHEDA FILM: \nhttp://fratellosole.it/elvis/
URL:http://fratellosole.it/evento/ore-21-00-elvis/
END:VEVENT
BEGIN:VEVENT
DTSTART;TZID=Europe/Rome:20221027T160000
DTEND;TZID=Europe/Rome:20221027T183000
DTSTAMP:20260425T161355
CREATED:20220831T133400Z
LAST-MODIFIED:20220831T133400Z
UID:4681-1666886400-1666895400@fratellosole.it
SUMMARY:ORE 16.00 ELVIS
DESCRIPTION:27 OTTOBRE 2022 \nSCHEDA FILM: \nhttp://fratellosole.it/elvis/
URL:http://fratellosole.it/evento/ore-16-00-elvis/
END:VEVENT
BEGIN:VEVENT
DTSTART;TZID=Europe/Rome:20221023T160000
DTEND;TZID=Europe/Rome:20221023T180000
DTSTAMP:20260425T161355
CREATED:20220831T133213Z
LAST-MODIFIED:20220831T133213Z
UID:4679-1666540800-1666548000@fratellosole.it
SUMMARY:ORE 16.00 LA PROMESSA IL PREZZO DEL POTERE
DESCRIPTION:23 OTTOBRE 2022 \nSCHEDA FILM: \nhttp://fratellosole.it/promessa-prezzo-potere/
URL:http://fratellosole.it/evento/ore-16-00-la-promessa-il-prezzo-del-potere-2/
END:VEVENT
BEGIN:VEVENT
DTSTART;TZID=Europe/Rome:20221020T210000
DTEND;TZID=Europe/Rome:20221020T230000
DTSTAMP:20260425T161355
CREATED:20220831T133110Z
LAST-MODIFIED:20220831T133110Z
UID:4677-1666299600-1666306800@fratellosole.it
SUMMARY:ORE 21.00 LA PROMESSA IL PREZZO DEL POTERE
DESCRIPTION:20 OTTOBRE 2022 \nSCHEDA FILM: \nhttp://fratellosole.it/promessa-prezzo-potere/
URL:http://fratellosole.it/evento/ore-21-00-la-promessa-il-prezzo-del-potere/
END:VEVENT
BEGIN:VEVENT
DTSTART;TZID=Europe/Rome:20221020T160000
DTEND;TZID=Europe/Rome:20221020T180000
DTSTAMP:20260425T161355
CREATED:20220831T133010Z
LAST-MODIFIED:20220831T133010Z
UID:4675-1666281600-1666288800@fratellosole.it
SUMMARY:ORE 16.00 LA PROMESSA IL PREZZO DEL POTERE
DESCRIPTION:20 OTTOBRE 2022 \nSCHEDA FILM: \nhttp://fratellosole.it/promessa-prezzo-potere/
URL:http://fratellosole.it/evento/ore-16-00-la-promessa-il-prezzo-del-potere/
END:VEVENT
BEGIN:VEVENT
DTSTART;TZID=Europe/Rome:20221016T160000
DTEND;TZID=Europe/Rome:20221016T180000
DTSTAMP:20260425T161355
CREATED:20220831T132808Z
LAST-MODIFIED:20220831T132808Z
UID:4673-1665936000-1665943200@fratellosole.it
SUMMARY:ORE 16.00 THE FRENCH DISPATCH
DESCRIPTION:16 OTTOBRE 2022 \nSCHEDA FILM: \nhttp://fratellosole.it/frech-dispatch/
URL:http://fratellosole.it/evento/ore-16-00-the-french-dispatch-2/
END:VEVENT
BEGIN:VEVENT
DTSTART;TZID=Europe/Rome:20221013T210000
DTEND;TZID=Europe/Rome:20221013T230000
DTSTAMP:20260425T161355
CREATED:20220831T132707Z
LAST-MODIFIED:20220831T132707Z
UID:4671-1665694800-1665702000@fratellosole.it
SUMMARY:ORE 21.00 THE FRENCH DISPATCH
DESCRIPTION:13 OTTOBRE 2022 \nSCHEDA FILM: \nhttp://fratellosole.it/frech-dispatch/
URL:http://fratellosole.it/evento/ore-21-00-the-french-dispatch/
END:VEVENT
BEGIN:VEVENT
DTSTART;TZID=Europe/Rome:20221013T160000
DTEND;TZID=Europe/Rome:20221013T180000
DTSTAMP:20260425T161355
CREATED:20220831T132606Z
LAST-MODIFIED:20220831T132606Z
UID:4669-1665676800-1665684000@fratellosole.it
SUMMARY:ORE 16.00 THE FRENCH DISPATCH
DESCRIPTION:13 OTTOBRE 2022 \nSCHEDA FILM: \nhttp://fratellosole.it/frech-dispatch/
URL:http://fratellosole.it/evento/ore-16-00-the-french-dispatch/
END:VEVENT
BEGIN:VEVENT
DTSTART;TZID=Europe/Rome:20221011T210000
DTEND;TZID=Europe/Rome:20221011T223000
DTSTAMP:20260425T161355
CREATED:20220926T060018Z
LAST-MODIFIED:20221004T053528Z
UID:4729-1665522000-1665527400@fratellosole.it
SUMMARY:SAN FRANCESCO: UNA BELLEZZA INATTESA / CONFERENZA FRA PAOLO CANALI
DESCRIPTION:Martedì 11 ottobre – ore 21.00 \nCONFERENZA A INGRESSO LIBERO \nInserito nel percorso “Sulle vie della Bellezza” \n \n  \nprenotazioni: \nhttps://ticket.cinebot.it/fratellosole/ \n 
URL:http://fratellosole.it/evento/san-francesco-una-bellezza-inattesa-conferenza-fra-paolo-canali/
END:VEVENT
BEGIN:VEVENT
DTSTART;TZID=Europe/Rome:20221009T160000
DTEND;TZID=Europe/Rome:20221009T180000
DTSTAMP:20260425T161355
CREATED:20220831T132019Z
LAST-MODIFIED:20220831T132019Z
UID:4666-1665331200-1665338400@fratellosole.it
SUMMARY:ORE 16.00 CORRO DA TE
DESCRIPTION:9 OTTOBRE 2022 \nSCHEDA FILM: \nhttp://fratellosole.it/corro-da-te/
URL:http://fratellosole.it/evento/ore-16-00-corro-da-te-2/
END:VEVENT
BEGIN:VEVENT
DTSTART;TZID=Europe/Rome:20221006T210000
DTEND;TZID=Europe/Rome:20221006T230000
DTSTAMP:20260425T161355
CREATED:20220831T131922Z
LAST-MODIFIED:20220831T131922Z
UID:4664-1665090000-1665097200@fratellosole.it
SUMMARY:ORE 21.00 CORRO DA TE
DESCRIPTION:6 OTTOBRE 2022 \nSCHEDA FILM: \nhttp://fratellosole.it/corro-da-te/
URL:http://fratellosole.it/evento/ore-21-00-corro-da-te/
END:VEVENT
BEGIN:VEVENT
DTSTART;TZID=Europe/Rome:20221006T160000
DTEND;TZID=Europe/Rome:20221006T180000
DTSTAMP:20260425T161355
CREATED:20220831T131820Z
LAST-MODIFIED:20220831T131820Z
UID:4662-1665072000-1665079200@fratellosole.it
SUMMARY:ORE 16.00 CORRO DA TE
DESCRIPTION:6 OTTOBRE 2022 \nSCHEDA FILM: \nhttp://fratellosole.it/corro-da-te/
URL:http://fratellosole.it/evento/ore-16-00-corro-da-te/
END:VEVENT
BEGIN:VEVENT
DTSTART;TZID=Europe/Rome:20221002T160000
DTEND;TZID=Europe/Rome:20221002T180000
DTSTAMP:20260425T161355
CREATED:20220831T131647Z
LAST-MODIFIED:20220831T131647Z
UID:4660-1664726400-1664733600@fratellosole.it
SUMMARY:ORE 16.00 LICORICE PIZZA
DESCRIPTION:2 OTTOBRE 2022 \nSCHEDA FILM: \nhttp://fratellosole.it/licorice-pizza/
URL:http://fratellosole.it/evento/ore-16-00-licorice-pizza-2/
END:VEVENT
BEGIN:VEVENT
DTSTART;TZID=Europe/Rome:20220929T210000
DTEND;TZID=Europe/Rome:20220929T230000
DTSTAMP:20260425T161355
CREATED:20220831T131543Z
LAST-MODIFIED:20220831T131543Z
UID:4658-1664485200-1664492400@fratellosole.it
SUMMARY:ORE 21.00 LICORICE PIZZA
DESCRIPTION:29 SETTEMBRE 2022 \nSCHEDA FILM: \nhttp://fratellosole.it/licorice-pizza/
URL:http://fratellosole.it/evento/ore-21-00-licorice-pizza/
END:VEVENT
END:VCALENDAR