BEGIN:VCALENDAR
VERSION:2.0
PRODID:-//Cinema Teatro Fratello Sole - ECPv6.15.20//NONSGML v1.0//EN
CALSCALE:GREGORIAN
METHOD:PUBLISH
X-WR-CALNAME:Cinema Teatro Fratello Sole
X-ORIGINAL-URL:http://fratellosole.it
X-WR-CALDESC:Eventi per Cinema Teatro Fratello Sole
REFRESH-INTERVAL;VALUE=DURATION:PT1H
X-Robots-Tag:noindex
X-PUBLISHED-TTL:PT1H
BEGIN:VTIMEZONE
TZID:Europe/Rome
BEGIN:DAYLIGHT
TZOFFSETFROM:+0100
TZOFFSETTO:+0200
TZNAME:CEST
DTSTART:20220327T010000
END:DAYLIGHT
BEGIN:STANDARD
TZOFFSETFROM:+0200
TZOFFSETTO:+0100
TZNAME:CET
DTSTART:20221030T010000
END:STANDARD
BEGIN:DAYLIGHT
TZOFFSETFROM:+0100
TZOFFSETTO:+0200
TZNAME:CEST
DTSTART:20230326T010000
END:DAYLIGHT
BEGIN:STANDARD
TZOFFSETFROM:+0200
TZOFFSETTO:+0100
TZNAME:CET
DTSTART:20231029T010000
END:STANDARD
BEGIN:DAYLIGHT
TZOFFSETFROM:+0100
TZOFFSETTO:+0200
TZNAME:CEST
DTSTART:20240331T010000
END:DAYLIGHT
BEGIN:STANDARD
TZOFFSETFROM:+0200
TZOFFSETTO:+0100
TZNAME:CET
DTSTART:20241027T010000
END:STANDARD
END:VTIMEZONE
BEGIN:VEVENT
DTSTART;TZID=Europe/Rome:20230518T210000
DTEND;TZID=Europe/Rome:20230518T223000
DTSTAMP:20260424T140226
CREATED:20230217T072400Z
LAST-MODIFIED:20230217T072400Z
UID:5274-1684443600-1684449000@fratellosole.it
SUMMARY:IL PIACERE E' TUTTO MIO
DESCRIPTION:Giovedì 18 maggio ore 21.00 \n \nSCHEDA FILM:
URL:http://fratellosole.it/evento/il-piacere-e-tutto-mio-2/
END:VEVENT
BEGIN:VEVENT
DTSTART;TZID=Europe/Rome:20230518T160000
DTEND;TZID=Europe/Rome:20230518T173000
DTSTAMP:20260424T140226
CREATED:20230217T072310Z
LAST-MODIFIED:20230217T072310Z
UID:5272-1684425600-1684431000@fratellosole.it
SUMMARY:IL PIACERE E' TUTTO MIO
DESCRIPTION:Giovedì 18 maggio ore 16.00 \n \nSCHEDA FILM:
URL:http://fratellosole.it/evento/il-piacere-e-tutto-mio/
END:VEVENT
BEGIN:VEVENT
DTSTART;TZID=Europe/Rome:20230516T210000
DTEND;TZID=Europe/Rome:20230516T230000
DTSTAMP:20260424T140226
CREATED:20230222T131752Z
LAST-MODIFIED:20230507T135652Z
UID:5304-1684270800-1684278000@fratellosole.it
SUMMARY:BORROMINI E BERNINI SFIDA ALLA PERFEZIONI - La grande Arte al cinema
DESCRIPTION:Martedì 16 aprile ore 21.00 \nCosti: Biglietto intero 10 euro – ridotto 8 euro \nBorromini non ha ancora vent’anni quando arriva a Roma a piedi da Milano\, lasciando i genitori e il suo lavoro di umile scalpellino al Duomo per inseguire il sogno di lavorare nel cantiere più prestigioso del suo tempo\, la Fabbrica di San Pietro. È il 1619\, Roma è il centro dell’arte occidentale\, ‘the place to be’ per ogni pittore\, scultore\, architetto che desideri la gloria. Qui spuntano ogni giorno nuovi cantieri di chiese\, fontane\, palazzi nobiliari e sedi di giovani e ambiziose congregazioni religiose di tutta Europa: a cominciare dalla nuova Basilica di San Pietro\, la Chiesa ha deciso di utilizzare l’arte e l’urbanistica come potente mezzo di fascino e persuasione e come simbolo di grandezza di fronte al mondo\, per rilanciare il suo messaggio dopo lo shock provocato dalla Riforma protestante di Martin Lutero. Questa è la storia di Borromini\, un uomo che si priva di tutto per inseguire un sogno\, che si fa tutt’uno con la sua arte\, senza altra ambizione che quella di riuscire a realizzarla lottando per affermarsi. È il racconto della rivoluzione architettonica di un genio solitario che cambia per sempre l’aspetto di Roma\, attraverso una sfida personale alle convenzioni e ai pregiudizi\, con l’umiltà di apprendere dal passato per inventare il futuro\, con il coraggio di portare avanti un’idea pagandone il prezzo fino in fondo. Ma è anche la storia della rivalità artistica più famosa di sempre\, quella tra Borromini (1599-1667) e Bernini (1598-1680) e soprattutto la storia della rivalità di Borromini con sé stesso: un genio talmente legato alla sua arte da trasformarla in un demone che lo divora dall’interno\, fino a spingerlo a scegliere la morte pur di toccare l’eternità.
URL:http://fratellosole.it/evento/borromini-e-bernini-sfida-alla-perfezioni-la-grande-arte-al-cinema/
END:VEVENT
BEGIN:VEVENT
DTSTART;TZID=Europe/Rome:20230515T204500
DTEND;TZID=Europe/Rome:20230515T230000
DTSTAMP:20260424T140226
CREATED:20230504T154043Z
LAST-MODIFIED:20230506T063222Z
UID:5451-1684183500-1684191600@fratellosole.it
SUMMARY:RISCOPRIRE BELLEZZA E VALORI NELLO SPORT
DESCRIPTION:LUNEDI’ 15 MAGGIO \nORE 20.45 \n \nPARTECIPANO: \nFILIPPO GALLI: AC Milan\,Licenza responsabile Settore Giovanile FIGC\, Allenatore UEFA PRO e Direttore Sportivo FIGC. Titolare del Blog “La complessità del calcio”.\nSTEFANIA MONETA: atleta portacolori della Pro Patria ARC\, Campionessa Mondiale di categoria (Age Group 55-59 anni).\nGIUDITTA LUALDI: Pallavolista Serie A1 Volley femminile UYBA Busto Arsizio\nConferenza a ingresso gratuito previa prenotazione \nPer prenotare: \nhttps://ticket.cinebot.it/fratellosole/ \nDiretta streaming sul canale YouTube del cinema Fratello Sole: \nhttps://www.youtube.com/@cinemateatrofratellosole7566
URL:http://fratellosole.it/evento/riscoprire-bellezza-e-valori-nello-sport/
END:VEVENT
BEGIN:VEVENT
DTSTART;TZID=Europe/Rome:20230514T160000
DTEND;TZID=Europe/Rome:20230514T190000
DTSTAMP:20260424T140226
CREATED:20230217T072058Z
LAST-MODIFIED:20230217T072058Z
UID:5270-1684080000-1684090800@fratellosole.it
SUMMARY:TÁR
DESCRIPTION:Domenica 14 maggio ore 16.00 \n \nSCHEDA FILM:
URL:http://fratellosole.it/evento/tar-3/
END:VEVENT
BEGIN:VEVENT
DTSTART;TZID=Europe/Rome:20230511T210000
DTEND;TZID=Europe/Rome:20230511T233000
DTSTAMP:20260424T140226
CREATED:20230217T072003Z
LAST-MODIFIED:20230217T072003Z
UID:5268-1683838800-1683847800@fratellosole.it
SUMMARY:TÁR
DESCRIPTION:Giovedì 11 maggio ore 21.00 \n \nSCHEDA FILM:
URL:http://fratellosole.it/evento/tar-2/
END:VEVENT
BEGIN:VEVENT
DTSTART;TZID=Europe/Rome:20230511T160000
DTEND;TZID=Europe/Rome:20230511T190000
DTSTAMP:20260424T140226
CREATED:20230217T071850Z
LAST-MODIFIED:20230217T073506Z
UID:5266-1683820800-1683831600@fratellosole.it
SUMMARY:TÁR
DESCRIPTION:Giovedì 11 maggio ore 16.00 \n \nSCHEDA FILM:
URL:http://fratellosole.it/evento/tar/
END:VEVENT
BEGIN:VEVENT
DTSTART;TZID=Europe/Rome:20230507T160000
DTEND;TZID=Europe/Rome:20230507T183000
DTSTAMP:20260424T140226
CREATED:20230217T071731Z
LAST-MODIFIED:20230217T071731Z
UID:5264-1683475200-1683484200@fratellosole.it
SUMMARY:GLI SPIRITI DELL'ISOLA
DESCRIPTION:Domenica 7 maggio ore 16.00 \n \nSCHEDA FILM: \n 
URL:http://fratellosole.it/evento/gli-spiriti-dellisola-3/
END:VEVENT
BEGIN:VEVENT
DTSTART;TZID=Europe/Rome:20230505T210000
DTEND;TZID=Europe/Rome:20230505T233000
DTSTAMP:20260424T140226
CREATED:20230425T092919Z
LAST-MODIFIED:20230425T092919Z
UID:5444-1683320400-1683329400@fratellosole.it
SUMMARY:TORO SEDUTO & FRIENDS SHOWS
DESCRIPTION:Venerdì 5 maggio ore 21.00 \nSpettacolo comico con Michele Toro Seduto\, Marco della Noce\, Claudio Batta e Stefano Chiodaroli \ningresso libero \nPrenotazione biglietti \nhttps://www.eventbrite.com/e/biglietti-thinkto-starbene-il-benessere-come-chiave-del-successo-591696699757 \n 
URL:http://fratellosole.it/evento/toro-seduto-friends-shows/
END:VEVENT
BEGIN:VEVENT
DTSTART;TZID=Europe/Rome:20230505T210000
DTEND;TZID=Europe/Rome:20230505T233000
DTSTAMP:20260424T140226
CREATED:20230425T090230Z
LAST-MODIFIED:20230425T090230Z
UID:5439-1683320400-1683329400@fratellosole.it
SUMMARY:
DESCRIPTION:VENERDI’ 5 MAGGIO ORE 21.00 \n \nspettacolo comico con Michele Toro Seduto\, Marco della Noce\, Claudio Batta e Stefano Chiodaroli \ningresso gratuito \nPRENOTAZIONE BIGLIETTI ENTRATA \nhttps://www.eventbrite.com/e/biglietti-thinkto-starbene-il-benessere-come-chiave-del-successo-591696699757 \n 
URL:http://fratellosole.it/evento/5439/
END:VEVENT
BEGIN:VEVENT
DTSTART;TZID=Europe/Rome:20230505T170000
DTEND;TZID=Europe/Rome:20230505T203000
DTSTAMP:20260424T140226
CREATED:20230425T085919Z
LAST-MODIFIED:20230425T090330Z
UID:5436-1683306000-1683318600@fratellosole.it
SUMMARY:THINKTO - STAR BENE  Il benessere come chiave del successo
DESCRIPTION:ThinkTO è un momento di confronto\, un’esperienza formativa\, un’occasione unica per approfondire temi legati alle nuove sfide imprenditoriali\, all’innovazione\, all’etica del lavoro\, al cambiamento e alla sostenibilità. L’obiettivo è quello di condividere esperienze di valore e casi di successo offrendo agli ospiti un’esperienza di crescita umana e professionale. \nLa partecipazione gratuita e il sostegno ad associazioni impegnate sul territorio a servizio del bene comune\, fanno di ThinkTO un’occasione straordinaria per sostenere progetti di rilievo ed essere partner di una storia di successo. \nL’evento è rivolto ad un pubblico composto da professionisti del mondo dell’impresa\, manager\, associazioni culturali\, enti no-profit\, studenti\, scuole e tutti coloro interessati ad un’occasione di ascolto e confronto. \nPerché STARbene? \nSiamo tutti alla ricerca di una vita più sana\, equilibrata e felice. Ma come fare per raggiungere questo obiettivo? \nLa quinta edizione di ThinkTO sarà incentrata proprio sullo “starbene”\, un viaggio dentro lo sport\, la nutrizione\, la mente e le filosofie aziendali sostenibili. Esperti e professionisti del settore ci guideranno in un percorso alla scoperta di stili di vita più sani e consapevoli. Attraverso il dialogo\, testimonianze e conferenze\, imparerete a prendervi cura del vostro corpo\, della vostra mente e della vostra visione del benessere anche in ambito aziendale\, migliorando la vostra qualità della vita e la vostra felicità anche sul posto di lavoro! \nUn’opportunità unica per ritrovare il benessere interiore e raggiungere il massimo della vostra potenzialità in ogni settore! \nCi auguriamo di averti come nostro gradito ospite. \nVenerdì 5 Maggio Presso Teatro Fratello Sole – Busto Arsizio\, Via Massimo D’Azeglio \nInizio ore 17:00 \nAperitivo dalle ore 19:30 \nEVENTO GRATUITO \nPRENOTAZIONE BIGLIETTI \nhttps://www.eventbrite.com/e/biglietti-thinkto-starbene-il-benessere-come-chiave-del-successo-591696699757 \n 
URL:http://fratellosole.it/evento/thinkto-star-bene-il-benessere-come-chiave-del-successo/
END:VEVENT
BEGIN:VEVENT
DTSTART;TZID=Europe/Rome:20230504T210000
DTEND;TZID=Europe/Rome:20230504T233000
DTSTAMP:20260424T140226
CREATED:20230217T071634Z
LAST-MODIFIED:20230217T073357Z
UID:5262-1683234000-1683243000@fratellosole.it
SUMMARY:GLI SPIRITI DELL'ISOLA
DESCRIPTION:Giovedì 4 maggio ore 21.00 \n \nSCHEDA FILM:
URL:http://fratellosole.it/evento/gli-spiriti-dellisola-2/
END:VEVENT
BEGIN:VEVENT
DTSTART;TZID=Europe/Rome:20230504T163000
DTEND;TZID=Europe/Rome:20230504T183000
DTSTAMP:20260424T140226
CREATED:20230217T071532Z
LAST-MODIFIED:20230217T071532Z
UID:5260-1683217800-1683225000@fratellosole.it
SUMMARY:GLI SPIRITI DELL'ISOLA
DESCRIPTION:Giovedì 4 maggio ore 16.00 \n \nSCHEDA FILM: \n 
URL:http://fratellosole.it/evento/gli-spiriti-dellisola/
END:VEVENT
BEGIN:VEVENT
DTSTART;TZID=Europe/Rome:20230430T210000
DTEND;TZID=Europe/Rome:20230430T230000
DTSTAMP:20260424T140226
CREATED:20230217T071425Z
LAST-MODIFIED:20230217T071425Z
UID:5258-1682888400-1682895600@fratellosole.it
SUMMARY:TRE DI TROPPO
DESCRIPTION:Domenica 30 aprile ore 21.00 \n \nSCHEDA FILM:
URL:http://fratellosole.it/evento/tre-di-troppo-3/
END:VEVENT
BEGIN:VEVENT
DTSTART;TZID=Europe/Rome:20230427T210000
DTEND;TZID=Europe/Rome:20230427T230000
DTSTAMP:20260424T140226
CREATED:20230217T071331Z
LAST-MODIFIED:20230217T071331Z
UID:5256-1682629200-1682636400@fratellosole.it
SUMMARY:TRE DI TROPPO
DESCRIPTION:Giovedì 27 aprile ore 21.00 \n \nSCHEDA FILM: \n 
URL:http://fratellosole.it/evento/tre-di-troppo-2/
END:VEVENT
BEGIN:VEVENT
DTSTART;TZID=Europe/Rome:20230427T160000
DTEND;TZID=Europe/Rome:20230427T180000
DTSTAMP:20260424T140226
CREATED:20230217T071239Z
LAST-MODIFIED:20230217T071239Z
UID:5254-1682611200-1682618400@fratellosole.it
SUMMARY:TRE DI TROPPO
DESCRIPTION:Giovedì 27 aprile ore 16.00 \n \nSCHEDA FILM:
URL:http://fratellosole.it/evento/tre-di-troppo/
END:VEVENT
BEGIN:VEVENT
DTSTART;TZID=Europe/Rome:20230423T160000
DTEND;TZID=Europe/Rome:20230423T180000
DTSTAMP:20260424T140226
CREATED:20230217T071133Z
LAST-MODIFIED:20230217T071133Z
UID:5252-1682265600-1682272800@fratellosole.it
SUMMARY:L' INNOCENTE
DESCRIPTION:Domenica 23 aprile ore 16.00 \n \nSCHEDA FILM:
URL:http://fratellosole.it/evento/l-innocente-2/
END:VEVENT
BEGIN:VEVENT
DTSTART;TZID=Europe/Rome:20230418T210000
DTEND;TZID=Europe/Rome:20230418T230000
DTSTAMP:20260424T140226
CREATED:20230217T064306Z
LAST-MODIFIED:20230414T051849Z
UID:5215-1681851600-1681858800@fratellosole.it
SUMMARY:CONFERENZA: DERRIDA L L'IMPORTANZA DEL LINGUAGGIO DELL'ARTE - fr Andrea Bizzozzero
DESCRIPTION:Martedì 18 aprile ore 21.00 \n \nAndrea Bizzozero è professore aggiunto di Storia della filosofia presso la Facoltà di filosofia della Pontificia Università Antonianum (Roma). Si occupa del pensiero di Agostino di Ippona\, di Jacques Derrida e della filosofia francese contemporanea.\nStudia come l’ermeneutica e la pratica della decostruzione possano favorire un rapporto prospettico e non egemonico alla realtà\, nella molteplicità delle sue istanze e delle sue problematicità. Coordina il gruppo di ricerca in antropologia della suddetta Facoltà. \nCONFERENZA A INGRESSO LIBERO CON PRENOTAZIONE \nhttps://ticket.cinebot.it/fratellosole/ \nDIRETTA STREAMING sul canale Youtube del Cinema Fratello Sole \nhttps://www.youtube.com/channel/UCNw_XBvQy2VqT5Ilqo8AoaA
URL:http://fratellosole.it/evento/conferenza-derrida-e-limportanza-del-linguaggio-dellarte-fr-andrea-bizzozzero/
END:VEVENT
BEGIN:VEVENT
DTSTART;TZID=Europe/Rome:20230413T210000
DTEND;TZID=Europe/Rome:20230413T230000
DTSTAMP:20260424T140226
CREATED:20230217T071035Z
LAST-MODIFIED:20230217T071035Z
UID:5250-1681419600-1681426800@fratellosole.it
SUMMARY:L'INNOCENTE
DESCRIPTION:Giovedì 13 aprile ore 21.00 \n \nSCHEDA FILM: \n 
URL:http://fratellosole.it/evento/linnocente/
END:VEVENT
BEGIN:VEVENT
DTSTART;TZID=Europe/Rome:20230413T160000
DTEND;TZID=Europe/Rome:20230413T180000
DTSTAMP:20260424T140226
CREATED:20230217T070946Z
LAST-MODIFIED:20230217T070946Z
UID:5248-1681401600-1681408800@fratellosole.it
SUMMARY:L' INNOCENTE
DESCRIPTION:Giovedì 13 aprile ore 16.00 \n \nSCHEDA FILM:
URL:http://fratellosole.it/evento/l-innocente/
END:VEVENT
BEGIN:VEVENT
DTSTART;TZID=Europe/Rome:20230411T210000
DTEND;TZID=Europe/Rome:20230411T230000
DTSTAMP:20260424T140226
CREATED:20230222T131512Z
LAST-MODIFIED:20230326T171154Z
UID:5300-1681246800-1681254000@fratellosole.it
SUMMARY:PERUGINO RINASCIMENTO IMMORTALE - La grande Arte al cinema
DESCRIPTION:Martedì 11 aprile – ore 21.00 \nCosti: Biglietto intero 10 euro – ridotto 8 euro \nIl documentario racconta l’evoluzione di un artista a cavallo tra due mondi: da una parte le architetture di Piero della Francesca fondamentali per la sua formazione\, dall’altra la propensione per la pittura devozionale e lo studio fiorentino presso il Verrocchio. Pietro di Cristoforo Vannucci (1450 circa-1523)\, detto Perugino\, nasce a Città della Pieve a metà del Quattrocento. Comincia a lavorare a Perugia ma si trasferisce a Firenze\, dove lavora presso la fiorente bottega di Andrea del Verrocchio. Ha Leonardo come collega e Raffaello come allievo. Da artista\, Perugino vive così il paradosso di essere “meno di sé stesso”: grazie a riprese suggestive e all’intervento di storici ed esperti\, PERUGINO. RINASCIMENTO IMMORTALE mette in luce le sue peculiarità e il suo ruolo fondamentale all’interno della storia del Rinascimento. Un viaggio attraverso l’Italia alla scoperta dei grandi capolavori\, dagli affreschi della Cappella Sistina alle due sale a lui interamente dedicate alla Galleria Nazionale dell’Umbria. Il tributo a un artista che è stato in grado di ispirare in maniera decisiva i pittori del suo tempo\, dando vita a opere di una bellezza immortale.
URL:http://fratellosole.it/evento/perugino-rinascimento-immortale-la-grande-arte-al-cinema/
END:VEVENT
BEGIN:VEVENT
DTSTART;TZID=Europe/Rome:20230402T160000
DTEND;TZID=Europe/Rome:20230402T190000
DTSTAMP:20260424T140226
CREATED:20230217T070101Z
LAST-MODIFIED:20230217T070458Z
UID:5232-1680451200-1680462000@fratellosole.it
SUMMARY:THE FABELMANS
DESCRIPTION:Domenica 2 aprile ore 16.00 \n \nSCHEDA FILM: \n 
URL:http://fratellosole.it/evento/the-fabelmans-3/
END:VEVENT
BEGIN:VEVENT
DTSTART;TZID=Europe/Rome:20230330T210000
DTEND;TZID=Europe/Rome:20230330T233000
DTSTAMP:20260424T140226
CREATED:20230217T065956Z
LAST-MODIFIED:20230217T070438Z
UID:5230-1680210000-1680219000@fratellosole.it
SUMMARY:THE FABELMANS
DESCRIPTION:Giovedì 30 marzo ore 21.00 \n \nScheda film: \n 
URL:http://fratellosole.it/evento/the-fabelmans-2/
END:VEVENT
BEGIN:VEVENT
DTSTART;TZID=Europe/Rome:20230330T160000
DTEND;TZID=Europe/Rome:20230330T190000
DTSTAMP:20260424T140226
CREATED:20230217T065847Z
LAST-MODIFIED:20230217T065847Z
UID:5218-1680192000-1680202800@fratellosole.it
SUMMARY:THE FABELMANS
DESCRIPTION:Giovedì 30 marzo ore 16.00 \n \nScheda film: \n 
URL:http://fratellosole.it/evento/the-fabelmans/
END:VEVENT
BEGIN:VEVENT
DTSTART;TZID=Europe/Rome:20230326T160000
DTEND;TZID=Europe/Rome:20230326T180000
DTSTAMP:20260424T140226
CREATED:20230217T070836Z
LAST-MODIFIED:20230217T070836Z
UID:5246-1679846400-1679853600@fratellosole.it
SUMMARY:A LETTO CON SARTRE
DESCRIPTION:Domenica 26 marzo ore 16.00 \n \nSCHEDA FILM: \n 
URL:http://fratellosole.it/evento/a-letto-con-sartre-3/
END:VEVENT
BEGIN:VEVENT
DTSTART;TZID=Europe/Rome:20230323T210000
DTEND;TZID=Europe/Rome:20230323T230000
DTSTAMP:20260424T140226
CREATED:20230217T070721Z
LAST-MODIFIED:20230217T070721Z
UID:5244-1679605200-1679612400@fratellosole.it
SUMMARY:A LETTO CON SARTRE
DESCRIPTION:Giovedì 23 marzo ore 21.00 \n \nSCHEDA FILM:
URL:http://fratellosole.it/evento/a-letto-con-sartre-2/
END:VEVENT
BEGIN:VEVENT
DTSTART;TZID=Europe/Rome:20230323T160000
DTEND;TZID=Europe/Rome:20230323T180000
DTSTAMP:20260424T140226
CREATED:20230217T070629Z
LAST-MODIFIED:20230217T070629Z
UID:5242-1679587200-1679594400@fratellosole.it
SUMMARY:A LETTO CON SARTRE
DESCRIPTION:Giovedì 23 marzo ore 16.00 \n \nSCHEDA FILM: \n 
URL:http://fratellosole.it/evento/a-letto-con-sartre/
END:VEVENT
BEGIN:VEVENT
DTSTART;TZID=Europe/Rome:20230322T210000
DTEND;TZID=Europe/Rome:20230322T230000
DTSTAMP:20260424T140226
CREATED:20230217T063330Z
LAST-MODIFIED:20230217T063330Z
UID:5208-1679518800-1679526000@fratellosole.it
SUMMARY:TEATRO SACRO: TESTIMONI OCULARI di A. Franchini
DESCRIPTION:Mercoledì 22 marzo ore 21.00 \n \nIl testo di Angelo Franchini\, attraverso personaggi evangelici e anche simbolici\, ripercorre la Via della croce\, dalla condanna di Gesù alla risurrezione\, nella forma di rappresentazione teatrale. I protagonisti delle stazioni sono tutti “testimoni oculari” dell’evento\, o che in ogni caso hanno conosciuto Gesù o lo hanno visto all’opera. Oltre a quelli consueti della Via crucis tradizionale\, l’autore ha inserito anche personaggi tratti dalle parabole: l’invitato senza abito di nozze\, l’uomo a cui il padrone\, partendo\, aveva affidato un solo talento\, le vergini stolte\, il cieco Bartimeo; e anche Erode\, Giuseppe\, Virginia\, la moglie di Pietro\, e l’altro ladro\, in croce vicino a Gesù. \nINGRESSO LIBERO \nPER PRENOTARE \nhttps://ticket.cinebot.it/fratellosole/ \n 
URL:http://fratellosole.it/evento/teatro-sacro-testimoni-oculari-di-a-franchini/
END:VEVENT
BEGIN:VEVENT
DTSTART;TZID=Europe/Rome:20230319T160000
DTEND;TZID=Europe/Rome:20230319T180000
DTSTAMP:20260424T140226
CREATED:20230217T070357Z
LAST-MODIFIED:20230217T070357Z
UID:5238-1679241600-1679248800@fratellosole.it
SUMMARY:GRAZIE RAGAZZI
DESCRIPTION:Domenica 19 marzo ore 16.00 \n \nSCHEDA FILM: \n 
URL:http://fratellosole.it/evento/grazie-ragazzi-3/
END:VEVENT
BEGIN:VEVENT
DTSTART;TZID=Europe/Rome:20230316T210000
DTEND;TZID=Europe/Rome:20230316T230000
DTSTAMP:20260424T140226
CREATED:20230217T070302Z
LAST-MODIFIED:20230217T070302Z
UID:5236-1679000400-1679007600@fratellosole.it
SUMMARY:GRAZIE RAGAZZI
DESCRIPTION:Giovedì 16 marzo ore 21.00 \n \nSCHEDA FILM:
URL:http://fratellosole.it/evento/grazie-ragazzi-2/
END:VEVENT
END:VCALENDAR