BEGIN:VCALENDAR
VERSION:2.0
PRODID:-//Cinema Teatro Fratello Sole - ECPv6.15.20//NONSGML v1.0//EN
CALSCALE:GREGORIAN
METHOD:PUBLISH
X-WR-CALNAME:Cinema Teatro Fratello Sole
X-ORIGINAL-URL:http://fratellosole.it
X-WR-CALDESC:Eventi per Cinema Teatro Fratello Sole
REFRESH-INTERVAL;VALUE=DURATION:PT1H
X-Robots-Tag:noindex
X-PUBLISHED-TTL:PT1H
BEGIN:VTIMEZONE
TZID:Europe/Rome
BEGIN:DAYLIGHT
TZOFFSETFROM:+0100
TZOFFSETTO:+0200
TZNAME:CEST
DTSTART:20240331T010000
END:DAYLIGHT
BEGIN:STANDARD
TZOFFSETFROM:+0200
TZOFFSETTO:+0100
TZNAME:CET
DTSTART:20241027T010000
END:STANDARD
BEGIN:DAYLIGHT
TZOFFSETFROM:+0100
TZOFFSETTO:+0200
TZNAME:CEST
DTSTART:20250330T010000
END:DAYLIGHT
BEGIN:STANDARD
TZOFFSETFROM:+0200
TZOFFSETTO:+0100
TZNAME:CET
DTSTART:20251026T010000
END:STANDARD
BEGIN:DAYLIGHT
TZOFFSETFROM:+0100
TZOFFSETTO:+0200
TZNAME:CEST
DTSTART:20260329T010000
END:DAYLIGHT
BEGIN:STANDARD
TZOFFSETFROM:+0200
TZOFFSETTO:+0100
TZNAME:CET
DTSTART:20261025T010000
END:STANDARD
BEGIN:DAYLIGHT
TZOFFSETFROM:+0100
TZOFFSETTO:+0200
TZNAME:CEST
DTSTART:20270328T010000
END:DAYLIGHT
BEGIN:STANDARD
TZOFFSETFROM:+0200
TZOFFSETTO:+0100
TZNAME:CET
DTSTART:20271031T010000
END:STANDARD
END:VTIMEZONE
BEGIN:VEVENT
DTSTART;TZID=Europe/Rome:20260215T160000
DTEND;TZID=Europe/Rome:20260215T174500
DTSTAMP:20260423T003943
CREATED:20251215T151057Z
LAST-MODIFIED:20251215T151058Z
UID:9023-1771171200-1771177500@fratellosole.it
SUMMARY:L'ATTACHEMENT - LA TENEREZZA
DESCRIPTION:SCHEDA FILM: \nhttp://fratellosole.it/attachement-tenerezza/
URL:http://fratellosole.it/evento/lattachement-la-tenerezza-3/
END:VEVENT
BEGIN:VEVENT
DTSTART;TZID=Europe/Rome:20260214T210000
DTEND;TZID=Europe/Rome:20260214T230000
DTSTAMP:20260423T003944
CREATED:20250829T145345Z
LAST-MODIFIED:20250829T145346Z
UID:8605-1771102800-1771110000@fratellosole.it
SUMMARY:RASSEGNA TEATRALE: CON TUTT EL BEN CHE TE VOEURI -  Compagnia "Gli amici del teatro"
DESCRIPTION:Sabato 14 febbraio 2026 ore 21.00\nCON TUTT EL BEN CHE TE VOEURI\nDi Luciano Lunghi\n\nRegia di Paolo Acquistapace\nLa commedia racconta di una coppia che non fa altro che litigare\, in cui il marito\, oltre che con la moglie\, deve vedersela anche con la suocera\, combattendo su due fronti.\nIl protagonista riceve la visita di un amico\, il suo medico\, che gli svela che a volte si capisce l’importanza di una persona solo quando questa non c’è più. Ecco allora l’idea di architettare una finta morte per vedere di recuperare quell’amore di coppia che oramai non esiste più. Un escamotage che vedrà intrecciarsi personaggi stravaganti\, situazioni comiche e imprevisti. \n  \nCOSTO BIGLIETTI:\nIntero: euro 10\,00\nRidotto: euro 8\,00 (solo per giovani fino a 25 anni) \nABBONAMENTO 4 SPETTACOLI euro 30\,00
URL:http://fratellosole.it/evento/rassegna-teatrale-con-tutt-el-ben-che-te-voeuri-compagnia-gli-amici-del-teatro/
LOCATION:Sala – Cinema Fratello Sole
END:VEVENT
BEGIN:VEVENT
DTSTART;TZID=Europe/Rome:20260212T210000
DTEND;TZID=Europe/Rome:20260212T224500
DTSTAMP:20260423T003944
CREATED:20251215T150943Z
LAST-MODIFIED:20251215T150944Z
UID:9021-1770930000-1770936300@fratellosole.it
SUMMARY:L'ATTACHEMENT - LA TENEREZZA
DESCRIPTION:SCHEDA FILM: \nhttp://fratellosole.it/attachement-tenerezza/
URL:http://fratellosole.it/evento/lattachement-la-tenerezza-2/
END:VEVENT
BEGIN:VEVENT
DTSTART;TZID=Europe/Rome:20260212T160000
DTEND;TZID=Europe/Rome:20260212T174500
DTSTAMP:20260423T003944
CREATED:20251215T150835Z
LAST-MODIFIED:20251215T150835Z
UID:9019-1770912000-1770918300@fratellosole.it
SUMMARY:L'ATTACHEMENT - LA TENEREZZA
DESCRIPTION:SCHEDA FILM: \nhttp://fratellosole.it/attachement-tenerezza/
URL:http://fratellosole.it/evento/lattachement-la-tenerezza/
END:VEVENT
BEGIN:VEVENT
DTSTART;TZID=Europe/Rome:20260208T160000
DTEND;TZID=Europe/Rome:20260208T180000
DTSTAMP:20260423T003944
CREATED:20251215T150615Z
LAST-MODIFIED:20251215T150616Z
UID:9017-1770566400-1770573600@fratellosole.it
SUMMARY:DOWNTON ABBEY - IL GRAN FINALE
DESCRIPTION:SHEDA FILM: \nhttp://fratellosole.it/downton-abbey-gran-finale/
URL:http://fratellosole.it/evento/downton-abbey-il-gran-finale-3/
END:VEVENT
BEGIN:VEVENT
DTSTART;TZID=Europe/Rome:20260205T210000
DTEND;TZID=Europe/Rome:20260205T230000
DTSTAMP:20260423T003944
CREATED:20251215T150522Z
LAST-MODIFIED:20251215T150522Z
UID:9015-1770325200-1770332400@fratellosole.it
SUMMARY:DOWNTON ABBEY - IL GRAN FINALE
DESCRIPTION:SCHEDA FILM: \nhttp://fratellosole.it/downton-abbey-gran-finale/
URL:http://fratellosole.it/evento/downton-abbey-il-gran-finale-2/
END:VEVENT
BEGIN:VEVENT
DTSTART;TZID=Europe/Rome:20260205T160000
DTEND;TZID=Europe/Rome:20260205T180000
DTSTAMP:20260423T003944
CREATED:20251215T150428Z
LAST-MODIFIED:20251215T150428Z
UID:9013-1770307200-1770314400@fratellosole.it
SUMMARY:DOWNTON ABBEY - IL GRAN FINALE
DESCRIPTION:SCHEDA FILM: \nhttp://fratellosole.it/downton-abbey-gran-finale/
URL:http://fratellosole.it/evento/downton-abbey-il-gran-finale/
END:VEVENT
BEGIN:VEVENT
DTSTART;TZID=Europe/Rome:20260201T160000
DTEND;TZID=Europe/Rome:20260201T180000
DTSTAMP:20260423T003944
CREATED:20251215T150249Z
LAST-MODIFIED:20251215T150250Z
UID:9011-1769961600-1769968800@fratellosole.it
SUMMARY:LE ASSAGGIATRICI
DESCRIPTION:SCHEDA FILM: \nhttp://fratellosole.it/assaggiatrici/
URL:http://fratellosole.it/evento/le-assaggiatrici-3/
END:VEVENT
BEGIN:VEVENT
DTSTART;TZID=Europe/Rome:20260129T210000
DTEND;TZID=Europe/Rome:20260129T230000
DTSTAMP:20260423T003944
CREATED:20251215T150155Z
LAST-MODIFIED:20251215T150155Z
UID:9009-1769720400-1769727600@fratellosole.it
SUMMARY:LE ASSAGGIATRICI
DESCRIPTION:SCHEDA FILM: \nhttp://fratellosole.it/assaggiatrici/
URL:http://fratellosole.it/evento/le-assaggiatrici-2/
END:VEVENT
BEGIN:VEVENT
DTSTART;TZID=Europe/Rome:20260129T160000
DTEND;TZID=Europe/Rome:20260129T180000
DTSTAMP:20260423T003944
CREATED:20251215T150107Z
LAST-MODIFIED:20251215T150108Z
UID:9007-1769702400-1769709600@fratellosole.it
SUMMARY:LE ASSAGGIATRICI
DESCRIPTION:SCHEDA FILM: \nhttp://fratellosole.it/assaggiatrici/
URL:http://fratellosole.it/evento/le-assaggiatrici/
END:VEVENT
BEGIN:VEVENT
DTSTART;TZID=Europe/Rome:20260125T160000
DTEND;TZID=Europe/Rome:20260125T180000
DTSTAMP:20260423T003944
CREATED:20251215T145750Z
LAST-MODIFIED:20251215T145751Z
UID:9005-1769356800-1769364000@fratellosole.it
SUMMARY:PER TE
DESCRIPTION:SCHEDA FILM: \nhttp://fratellosole.it/per-te/
URL:http://fratellosole.it/evento/per-te-3/
END:VEVENT
BEGIN:VEVENT
DTSTART;TZID=Europe/Rome:20260122T210000
DTEND;TZID=Europe/Rome:20260122T230000
DTSTAMP:20260423T003944
CREATED:20251215T145701Z
LAST-MODIFIED:20251215T145702Z
UID:9003-1769115600-1769122800@fratellosole.it
SUMMARY:PER TE
DESCRIPTION:SCHEDA FILM: \nhttp://fratellosole.it/per-te/
URL:http://fratellosole.it/evento/per-te-2/
END:VEVENT
BEGIN:VEVENT
DTSTART;TZID=Europe/Rome:20260122T160000
DTEND;TZID=Europe/Rome:20260122T180000
DTSTAMP:20260423T003944
CREATED:20251215T145616Z
LAST-MODIFIED:20251215T145616Z
UID:9001-1769097600-1769104800@fratellosole.it
SUMMARY:PER TE
DESCRIPTION:SCHEDA FILM: \nhttp://fratellosole.it/per-te/
URL:http://fratellosole.it/evento/per-te/
END:VEVENT
BEGIN:VEVENT
DTSTART;TZID=Europe/Rome:20260118T160000
DTEND;TZID=Europe/Rome:20260118T174500
DTSTAMP:20260423T003944
CREATED:20251215T145454Z
LAST-MODIFIED:20251215T145454Z
UID:8999-1768752000-1768758300@fratellosole.it
SUMMARY:LE CITTA' DI PIANURA
DESCRIPTION:SCHEDA FILM: \nhttp://fratellosole.it/citta-pianura/
URL:http://fratellosole.it/evento/le-citta-di-pianura-3/
END:VEVENT
BEGIN:VEVENT
DTSTART;TZID=Europe/Rome:20260117T210000
DTEND;TZID=Europe/Rome:20260117T230000
DTSTAMP:20260423T003944
CREATED:20250829T145105Z
LAST-MODIFIED:20250829T145105Z
UID:8602-1768683600-1768690800@fratellosole.it
SUMMARY:RASSEGNA TEATRALE: RIFARSI UNA VITA - Compagnia Paolo Ferrari
DESCRIPTION:Sabato 17 gennaio 2026 ore 21.00\nRIFARSI UNA VITA\nDi Oreste De Santis\n\nRegia di Vincenzo D’Alesio\nCiro esce dal carcere dopo vent’anni e dopo aver scontato la pena per l’uccisione dell’amante della moglie\, uccisione che Ciro non ha mai ammesso\, dichiarandosi sempre innocente. Si reca a Milano dove vive la sua unica parente\, la sorella Carmela.\nIl marito di Carmela\, Salvatore\, non gradisce questa visita perché geloso dell’affetto di Carmela nei confronti del fratello e soprattutto non crede all’innocenza di Ciro. \n  \nCOSTO BIGLIETTI:\nIntero: euro 10\,00\nRidotto: euro 8\,00 (solo per giovani fino a 25 anni) \nABBONAMENTO 4 SPETTACOLI euro 30\,00
URL:http://fratellosole.it/evento/rassegna-teatrale-rifarsi-una-vita-compagnia-paolo-ferrari/
LOCATION:Sala – Cinema Fratello Sole
END:VEVENT
BEGIN:VEVENT
DTSTART;TZID=Europe/Rome:20260115T210000
DTEND;TZID=Europe/Rome:20260115T224500
DTSTAMP:20260423T003944
CREATED:20251215T145355Z
LAST-MODIFIED:20251215T145355Z
UID:8997-1768510800-1768517100@fratellosole.it
SUMMARY:LE CITTA' DI PIANURA
DESCRIPTION:SCHEDA FILM: \nhttp://fratellosole.it/citta-pianura/
URL:http://fratellosole.it/evento/le-citta-di-pianura-2/
END:VEVENT
BEGIN:VEVENT
DTSTART;TZID=Europe/Rome:20260115T160000
DTEND;TZID=Europe/Rome:20260115T174500
DTSTAMP:20260423T003944
CREATED:20251215T145251Z
LAST-MODIFIED:20251215T145251Z
UID:8995-1768492800-1768499100@fratellosole.it
SUMMARY:LE CITTA' DI PIANURA
DESCRIPTION:SCHEDA FILM: \nhttp://fratellosole.it/citta-pianura/
URL:http://fratellosole.it/evento/le-citta-di-pianura/
END:VEVENT
BEGIN:VEVENT
DTSTART;TZID=Europe/Rome:20260113T210000
DTEND;TZID=Europe/Rome:20260113T223000
DTSTAMP:20260423T003944
CREATED:20251215T055857Z
LAST-MODIFIED:20251215T154100Z
UID:8943-1768338000-1768343400@fratellosole.it
SUMMARY:VITO MANCUSO: PRESENTAZIONE DEL LIBRO GESU' E CRISTO
DESCRIPTION:MARTEDI’ 13 GENNAIO 2026 – ORE 21.00\n  \n \n  \nHa insegnato presso l’Università Vita-Salute San Raffaele di Milano e l’Università degli Studi di Padova\, attualmente è docente del master in Meditazione e Neuroscienze dell’Università degli Studi di Udine. Ha fondato e dirige presso il MAST di Bologna il «Laboratorio di Etica». È autore di numerosi saggi che hanno suscitato notevole attenzione da parte del pubblico su argomenti quali la filosofia di Kant e di Hegel\, le\nmalattie e il dolore\, la fede\, la natura di Dio\, l’anima\, la vita eterna\, l’autenticità\, l’amore\, il pensiero\, la libertà\, la bellezza\, l’etica e le virtù cardinali\, il coraggio\, la paura\, il senso della vita\, la mente\, la gioia\, la speranza. Il suo pensiero è oggetto di una monografia uscita in Germania (Essentials of Catholic Radicalism. An Introduction to the Lay Theology of Vito Mancuso) e può essere complessivamente definito\ncome «filosofia della relazione». È editorialista del quotidiano «La Stampa». \n  \n \n  \nGesù nacque a Nazaret\, Cristo a Betlemme. Gesù aveva un padre terrestre\, Cristo era il Figlio Unigenito del Padre celeste. Gesù aveva quattro fratelli e un numero imprecisato di sorelle\, Cristo era figlio unico. Gesù denunciava le ingiustizie\, Cristo toglieva il peccato del mondo. Gesù morì gridando la sua disperazione\, Cristo la sua vittoria. Se nessuno di noi ha incontrato Gesù\, tutti noi abbiamo però incontrato Cristo. Chi fu dunque Gesù\, e chi Cristo? E di chi parliamo quando ci riferiamo a Gesù-Cristo? Se già in precedenza Vito Mancuso aveva indagato il ruolo di Gesù come maestro di vita spirituale\, accanto ad altri tre grandi maestri dell’umanità – Socrate\, Buddha e Confucio –\, ora in quest’opera capitale e innovativa raccoglie le ricerche e le riflessioni di una vita\, dimostrando come la fede cristiana sia il frutto di una tradizione che\, a partire da fatti documentati\, si è a poco a poco arricchita di nuovi significati e di nuovi simboli. Mancuso non si limita tuttavia a districare la Storia (Gesù) dall’Idea (Cristo)\, ma arriva a riconoscere come\, lungi dall’essere incompatibili tra loro\, esse rappresentino due dimensioni costitutive di ognuno di noi. Se infatti la dottrina di cui il cristianesimo istituzionale è portavoce appare ormai insostenibile\, è vero però che \ndell’unione di queste due dimensioni noi abbiamo bisogno\, oggi più che mai: proprio nella loro distinzione e nella loro integrazione consiste il duplice scopo\, storico e teologico\, di questo libro. \nhttp://www.vitomancuso.it \nINGRESSO LIBERO\nMGF \n 
URL:http://fratellosole.it/evento/vito-mancuso-presetazione-del-libro-gesu-e-cristo/
LOCATION:Sala – Cinema Fratello Sole
END:VEVENT
BEGIN:VEVENT
DTSTART;TZID=Europe/Rome:20260111T160000
DTEND;TZID=Europe/Rome:20260111T180000
DTSTAMP:20260423T003944
CREATED:20251215T144952Z
LAST-MODIFIED:20251215T144953Z
UID:8992-1768147200-1768154400@fratellosole.it
SUMMARY:SPRINGSTEEN - LIBERAMI DAL NULLA
DESCRIPTION:SCHEDA FILM: \nhttp://fratellosole.it/springsteen/
URL:http://fratellosole.it/evento/springsteen-liberami-dal-nulla-3/
END:VEVENT
BEGIN:VEVENT
DTSTART;TZID=Europe/Rome:20260108T210000
DTEND;TZID=Europe/Rome:20260108T230000
DTSTAMP:20260423T003944
CREATED:20251215T144848Z
LAST-MODIFIED:20251215T144849Z
UID:8990-1767906000-1767913200@fratellosole.it
SUMMARY:SPRINGSTEEN - LIBERAMI DAL NULLA
DESCRIPTION:SCHEDA FILM: \nhttp://fratellosole.it/springsteen/
URL:http://fratellosole.it/evento/springsteen-liberami-dal-nulla-2/
END:VEVENT
BEGIN:VEVENT
DTSTART;TZID=Europe/Rome:20260108T180000
DTEND;TZID=Europe/Rome:20260108T180000
DTSTAMP:20260423T003944
CREATED:20251215T144718Z
LAST-MODIFIED:20251215T145100Z
UID:8988-1767895200-1767895200@fratellosole.it
SUMMARY:SPRINGSTEEN - LIBERAMI DAL NULLA
DESCRIPTION:SCHEDA FILM: \nhttp://fratellosole.it/springsteen/ \n 
URL:http://fratellosole.it/evento/springsteen-liberami-dal-nulla/
END:VEVENT
BEGIN:VEVENT
DTSTART;TZID=Europe/Rome:20251214T160000
DTEND;TZID=Europe/Rome:20251214T183000
DTSTAMP:20260423T003944
CREATED:20250824T133658Z
LAST-MODIFIED:20250824T133658Z
UID:8592-1765728000-1765737000@fratellosole.it
SUMMARY:MISSION: IMPOSSIBLE – THE FINAL RECKONING
DESCRIPTION:SCHEDA FILM: \nhttps://fratellosole.it/final-reckoning/
URL:http://fratellosole.it/evento/mission-impossible-the-final-reckoning-3/
LOCATION:Sala – Cinema Fratello Sole
END:VEVENT
BEGIN:VEVENT
DTSTART;TZID=Europe/Rome:20251211T210000
DTEND;TZID=Europe/Rome:20251211T233000
DTSTAMP:20260423T003944
CREATED:20250824T133600Z
LAST-MODIFIED:20250824T133600Z
UID:8590-1765486800-1765495800@fratellosole.it
SUMMARY:MISSION: IMPOSSIBLE – THE FINAL RECKONING
DESCRIPTION:SCHEDA FILM: \nhttps://fratellosole.it/final-reckoning/
URL:http://fratellosole.it/evento/mission-impossible-the-final-reckoning-2/
LOCATION:Sala – Cinema Fratello Sole
END:VEVENT
BEGIN:VEVENT
DTSTART;TZID=Europe/Rome:20251211T160000
DTEND;TZID=Europe/Rome:20251211T183000
DTSTAMP:20260423T003944
CREATED:20250824T133453Z
LAST-MODIFIED:20250824T133453Z
UID:8588-1765468800-1765477800@fratellosole.it
SUMMARY:MISSION: IMPOSSIBLE – THE FINAL RECKONING
DESCRIPTION:SCHEDA FILM: \nhttps://fratellosole.it/final-reckoning/
URL:http://fratellosole.it/evento/mission-impossible-the-final-reckoning/
LOCATION:Sala – Cinema Fratello Sole
END:VEVENT
BEGIN:VEVENT
DTSTART;TZID=Europe/Rome:20251207T160000
DTEND;TZID=Europe/Rome:20251207T180000
DTSTAMP:20260423T003944
CREATED:20250824T133238Z
LAST-MODIFIED:20250824T133238Z
UID:8586-1765123200-1765130400@fratellosole.it
SUMMARY:INCANTO
DESCRIPTION:SCHEDA FILM: \nhttps://fratellosole.it/incanto/
URL:http://fratellosole.it/evento/incanto-3/
LOCATION:Sala – Cinema Fratello Sole
END:VEVENT
BEGIN:VEVENT
DTSTART;TZID=Europe/Rome:20251204T210000
DTEND;TZID=Europe/Rome:20251204T230000
DTSTAMP:20260423T003944
CREATED:20250824T133152Z
LAST-MODIFIED:20250824T133152Z
UID:8584-1764882000-1764889200@fratellosole.it
SUMMARY:INCANTO
DESCRIPTION:SCHEDA FILM: \nhttps://fratellosole.it/incanto/
URL:http://fratellosole.it/evento/incanto-2/
LOCATION:Sala – Cinema Fratello Sole
END:VEVENT
BEGIN:VEVENT
DTSTART;TZID=Europe/Rome:20251204T160000
DTEND;TZID=Europe/Rome:20251204T180000
DTSTAMP:20260423T003944
CREATED:20250824T133101Z
LAST-MODIFIED:20250824T133101Z
UID:8582-1764864000-1764871200@fratellosole.it
SUMMARY:INCANTO
DESCRIPTION:SCHEDA FILM: \nhttps://fratellosole.it/incanto/
URL:http://fratellosole.it/evento/incanto/
LOCATION:Sala – Cinema Fratello Sole
END:VEVENT
BEGIN:VEVENT
DTSTART;TZID=Europe/Rome:20251202T210000
DTEND;TZID=Europe/Rome:20251202T230000
DTSTAMP:20260423T003944
CREATED:20250829T150546Z
LAST-MODIFIED:20251129T064755Z
UID:8611-1764709200-1764716400@fratellosole.it
SUMMARY:ARTE: Caravaggio a Roma. Il viaggio del Giubileo
DESCRIPTION:Martedì 2 dicembre 2025 – ore 21.00\nCARAVAGGIO A ROMA. IL VIAGGIO DEL GIUBILEO\n \n  \nDiretto da Giovanni Piscaglia\, su soggetto di Didi Gnocchi\, con la sceneggiatura di Eleonora Angius\, prodotto da 3D Produzioni e Nexo Studios. \nPer la prima volta al cinema un documentario sulla dimensione spirituale di Caravaggio nella Roma del Giubileo. Un percorso che mette a confronto la Città Santa del Seicento e quella contemporanea\, seguendo le vicende di un genio inquieto in coincidenza con l’evento millenario che attira milioni di pellegrini. In occasione della mostra “Caravaggio 2025” a Palazzo Barberini\, il film ci guida tra ombra e luce\, dannazione e redenzione del maestro. \nPrima della proiezione breve intervento della Dott.ssa Beatrice Fiorello \n  \nCOSTO BIGLIETTI:\nIntero: euro 10\,00\nRidotto: euro 8\,00 \n  \nAPPUNTI ARTISTICI: \nhttps://fratellosole.it/caravaggio-a-roma-il-viaggio-del-giubileo/
URL:http://fratellosole.it/evento/arte-caravaggio-a-roma-il-viaggio-del-giubileo/
LOCATION:Sala – Cinema Fratello Sole
END:VEVENT
BEGIN:VEVENT
DTSTART;TZID=Europe/Rome:20251130T160000
DTEND;TZID=Europe/Rome:20251130T180000
DTSTAMP:20260423T003944
CREATED:20250824T132911Z
LAST-MODIFIED:20250824T132911Z
UID:8580-1764518400-1764525600@fratellosole.it
SUMMARY:IL NIBBIO
DESCRIPTION:SCHEDA FILM: \nhttps://fratellosole.it/nibbio/
URL:http://fratellosole.it/evento/il-nibbio-3/
LOCATION:Sala – Cinema Fratello Sole
END:VEVENT
BEGIN:VEVENT
DTSTART;TZID=Europe/Rome:20251129T210000
DTEND;TZID=Europe/Rome:20251129T230000
DTSTAMP:20260423T003944
CREATED:20250829T144822Z
LAST-MODIFIED:20251113T135650Z
UID:8599-1764450000-1764457200@fratellosole.it
SUMMARY:RASSEGNA TEATRALE: LA FORTUNA CON L'EFFE MAIUSCOLA -  Compagnia Kicecè
DESCRIPTION:Sabato 29 novembre 2025 ore 21.00\nLA FORTUNA CON L’EFFE MAIUSCOLA\ndi E. De Filippo e A. Curcio\n\nRegia di Claudio Pellegrino\nGiovanni Ruoppolo vive con la moglie Cristina ed il loro figlio adottivo Erricuccio una vita di miseria\, di stenti e di sventure. Sebbene ferito ed amareggiato\, Giovanni non rinuncia mai alla lotta con la vita per affermare la propria dignità e si industria come può in mille iniziative che il più delle volte falliscono. Finalmente\, un giorno\, anche in casa Ruoppolo\, inattesa arriva la fortuna (con la F maiuscola). Infatti a Giovanni viene comunicato che è il destinatario di una grossa eredità lasciatogli da suo fratello Federico da poco morto in America. Sta per diventare molto ricco\, ma… \n  \nCOSTO BIGLIETTI:\nIntero: euro 10\,00\nRidotto: euro 8\,00 (solo per giovani fino a 25 anni) \nABBONAMENTO 4 SPETTACOLI euro 30\,00
URL:http://fratellosole.it/evento/rassegna-teatrale-la-fortuna-con-leffe-maiuscola-compagnia-kicece/
LOCATION:Sala – Cinema Fratello Sole
END:VEVENT
END:VCALENDAR