BEGIN:VCALENDAR
VERSION:2.0
PRODID:-//Cinema Teatro Fratello Sole - ECPv6.15.20//NONSGML v1.0//EN
CALSCALE:GREGORIAN
METHOD:PUBLISH
X-WR-CALNAME:Cinema Teatro Fratello Sole
X-ORIGINAL-URL:http://fratellosole.it
X-WR-CALDESC:Eventi per Cinema Teatro Fratello Sole
REFRESH-INTERVAL;VALUE=DURATION:PT1H
X-Robots-Tag:noindex
X-PUBLISHED-TTL:PT1H
BEGIN:VTIMEZONE
TZID:Europe/Rome
BEGIN:DAYLIGHT
TZOFFSETFROM:+0100
TZOFFSETTO:+0200
TZNAME:CEST
DTSTART:20200329T010000
END:DAYLIGHT
BEGIN:STANDARD
TZOFFSETFROM:+0200
TZOFFSETTO:+0100
TZNAME:CET
DTSTART:20201025T010000
END:STANDARD
BEGIN:DAYLIGHT
TZOFFSETFROM:+0100
TZOFFSETTO:+0200
TZNAME:CEST
DTSTART:20210328T010000
END:DAYLIGHT
BEGIN:STANDARD
TZOFFSETFROM:+0200
TZOFFSETTO:+0100
TZNAME:CET
DTSTART:20211031T010000
END:STANDARD
BEGIN:DAYLIGHT
TZOFFSETFROM:+0100
TZOFFSETTO:+0200
TZNAME:CEST
DTSTART:20220327T010000
END:DAYLIGHT
BEGIN:STANDARD
TZOFFSETFROM:+0200
TZOFFSETTO:+0100
TZNAME:CET
DTSTART:20221030T010000
END:STANDARD
END:VTIMEZONE
BEGIN:VEVENT
DTSTART;TZID=Europe/Rome:20211003T160000
DTEND;TZID=Europe/Rome:20211003T170000
DTSTAMP:20260425T171706
CREATED:20210831T060728Z
LAST-MODIFIED:20210831T060729Z
UID:3963-1633276800-1633280400@fratellosole.it
SUMMARY:ore 16.00: COSA SARA'
DESCRIPTION:Domenica 3 ottobre ore 16.00 \nScheda film: \nhttp://fratellosole.it/cosa-sara/
URL:http://fratellosole.it/evento/ore-16-00-cosa-sara/
END:VEVENT
BEGIN:VEVENT
DTSTART;TZID=Europe/Rome:20211007T160000
DTEND;TZID=Europe/Rome:20211007T180000
DTSTAMP:20260425T171706
CREATED:20210831T060933Z
LAST-MODIFIED:20210831T060934Z
UID:3965-1633622400-1633629600@fratellosole.it
SUMMARY:ore 16.00: CRUDELIA
DESCRIPTION:Giovedì 7 ottobre ore 16.00 \nScheda film: \nhttp://fratellosole.it/crudelia/
URL:http://fratellosole.it/evento/ore-16-00-crudelia/
END:VEVENT
BEGIN:VEVENT
DTSTART;TZID=Europe/Rome:20211007T210000
DTEND;TZID=Europe/Rome:20211007T230000
DTSTAMP:20260425T171706
CREATED:20210831T061049Z
LAST-MODIFIED:20210831T061050Z
UID:3967-1633640400-1633647600@fratellosole.it
SUMMARY:ore 21.00: CRUDELIA
DESCRIPTION:Giovedì 7 ottobre ore 21.00 \nScheda film: \nhttp://fratellosole.it/crudelia/
URL:http://fratellosole.it/evento/ore-21-00-crudelia/
END:VEVENT
BEGIN:VEVENT
DTSTART;TZID=Europe/Rome:20211010T160000
DTEND;TZID=Europe/Rome:20211010T180000
DTSTAMP:20260425T171706
CREATED:20210831T061201Z
LAST-MODIFIED:20210831T061201Z
UID:3969-1633881600-1633888800@fratellosole.it
SUMMARY:ore 16.00: CRUDELIA
DESCRIPTION:Domenica 10 ottobre ore 16.00 \nScheda film: \nhttp://fratellosole.it/crudelia/
URL:http://fratellosole.it/evento/ore-16-00-crudelia-2/
END:VEVENT
BEGIN:VEVENT
DTSTART;TZID=Europe/Rome:20211014T160000
DTEND;TZID=Europe/Rome:20211014T180000
DTSTAMP:20260425T171706
CREATED:20210831T061319Z
LAST-MODIFIED:20210831T061320Z
UID:3971-1634227200-1634234400@fratellosole.it
SUMMARY:ore 16.00: THE FATHER
DESCRIPTION:Giovedì 14 ottobre ore 16.00 \nscheda film: \nhttp://fratellosole.it/the-father/
URL:http://fratellosole.it/evento/ore-16-00-the-father/
END:VEVENT
BEGIN:VEVENT
DTSTART;TZID=Europe/Rome:20211014T210000
DTEND;TZID=Europe/Rome:20211014T230000
DTSTAMP:20260425T171706
CREATED:20210831T061431Z
LAST-MODIFIED:20210831T061431Z
UID:3973-1634245200-1634252400@fratellosole.it
SUMMARY:ore 21.00: THE FATHER
DESCRIPTION:Giovedì 14 ottobre ore 21.00 \nscheda film: \nhttp://fratellosole.it/the-father/
URL:http://fratellosole.it/evento/ore-21-00-the-father/
END:VEVENT
BEGIN:VEVENT
DTSTART;TZID=Europe/Rome:20211015T210000
DTEND;TZID=Europe/Rome:20211015T230000
DTSTAMP:20260425T171706
CREATED:20211005T055317Z
LAST-MODIFIED:20211006T053955Z
UID:4087-1634331600-1634338800@fratellosole.it
SUMMARY:Conferenza: SULLA VIA FRANCISCA DEL LUCOMAGNO - PELLEGRINI DI BELLEZZA
DESCRIPTION:VENERDI’ 15 OTTOBRE ORE 21.00 \nConferenza ad ingresso libero – prenotazione obbligatoria \n                  \nRelatrice Erika Montedoro – giornalista e guida turistica \nlink per prenotare: \nhttps://ticket.cinebot.it/fratellosole/ \nPer saperne di più: \nhttp://fratellosole.it/sulla-via-francisca-del-lucomagno-pellegrini-di-ieri-e-di-oggi/
URL:http://fratellosole.it/evento/sulla-via-francisca-del-lucomagno-pellegrini-di-bellezza/
END:VEVENT
BEGIN:VEVENT
DTSTART;TZID=Europe/Rome:20211017T160000
DTEND;TZID=Europe/Rome:20211017T180000
DTSTAMP:20260425T171706
CREATED:20210831T061535Z
LAST-MODIFIED:20210831T061535Z
UID:3975-1634486400-1634493600@fratellosole.it
SUMMARY:ore 16.00: THE FATHER
DESCRIPTION:Domenica 17 ottobre ore 16.00 \nscheda film: \nhttp://fratellosole.it/the-father/
URL:http://fratellosole.it/evento/ore-16-00-the-father-2/
END:VEVENT
BEGIN:VEVENT
DTSTART;TZID=Europe/Rome:20211021T160000
DTEND;TZID=Europe/Rome:20211021T180000
DTSTAMP:20260425T171706
CREATED:20210831T061721Z
LAST-MODIFIED:20210831T061721Z
UID:3977-1634832000-1634839200@fratellosole.it
SUMMARY:ore 16:00: RIFKIN'S FESTIVAL
DESCRIPTION:Giovedì 21 ottobre ore 16.00 \nscheda film: \nhttp://fratellosole.it/rifkins-festival/
URL:http://fratellosole.it/evento/ore-1600-rifkins-festival/
END:VEVENT
BEGIN:VEVENT
DTSTART;TZID=Europe/Rome:20211021T210000
DTEND;TZID=Europe/Rome:20211021T230000
DTSTAMP:20260425T171706
CREATED:20210831T062030Z
LAST-MODIFIED:20210831T062031Z
UID:3979-1634850000-1634857200@fratellosole.it
SUMMARY:ore 21.00: RIFKIN'S FESTIVAL
DESCRIPTION:Giovedì 21 ottobre ore 21.00 \nscheda film: \nhttp://fratellosole.it/rifkins-festival/
URL:http://fratellosole.it/evento/ore-21-00-rifkins-festival/
END:VEVENT
BEGIN:VEVENT
DTSTART;TZID=Europe/Rome:20211022T210000
DTEND;TZID=Europe/Rome:20211022T230000
DTSTAMP:20260425T171706
CREATED:20211005T055611Z
LAST-MODIFIED:20211006T053905Z
UID:4091-1634936400-1634943600@fratellosole.it
SUMMARY:Conferenza: LA BELLEZZA DELLA VITA LIBERA
DESCRIPTION:VENERDI’ 22 OTTOBRE ORE 21.00 \nConferenza a ingresso libero – prenotazione obbligatoria \n \nRelatore Luca Moscatelli – biblista \nLink per prenotare \nhttps://ticket.cinebot.it/fratellosole/ \n 
URL:http://fratellosole.it/evento/la-bellezza-della-vita-libera/
END:VEVENT
BEGIN:VEVENT
DTSTART;TZID=Europe/Rome:20211024T160000
DTEND;TZID=Europe/Rome:20211024T180000
DTSTAMP:20260425T171706
CREATED:20210831T062149Z
LAST-MODIFIED:20210831T062149Z
UID:3981-1635091200-1635098400@fratellosole.it
SUMMARY:ore 16.00: RIFKIN'S FESTIVAL
DESCRIPTION:Domenica 24 ottobre ore 16.00 \nscheda film: \nhttp://fratellosole.it/rifkins-festival/
URL:http://fratellosole.it/evento/ore-16-00-rifkins-festival/
END:VEVENT
BEGIN:VEVENT
DTSTART;TZID=Europe/Rome:20211028T160000
DTEND;TZID=Europe/Rome:20211028T180000
DTSTAMP:20260425T171706
CREATED:20210831T062331Z
LAST-MODIFIED:20210831T062331Z
UID:3983-1635436800-1635444000@fratellosole.it
SUMMARY:ore 16.00: I PROFUMI DI MADAME WALBERG
DESCRIPTION:Giovedì 28 ottobre ore 16.00 \nscheda film: \nhttp://fratellosole.it/madame-walberg/
URL:http://fratellosole.it/evento/ore-16-00-i-profumi-di-madame-walberg/
END:VEVENT
BEGIN:VEVENT
DTSTART;TZID=Europe/Rome:20211028T210000
DTEND;TZID=Europe/Rome:20211028T230000
DTSTAMP:20260425T171706
CREATED:20210831T062456Z
LAST-MODIFIED:20210831T062456Z
UID:3985-1635454800-1635462000@fratellosole.it
SUMMARY:ore 21.00: I PROFUMI DI MADAME WALBERG
DESCRIPTION:Giovedì 28 ottobre ore 21.00 \nscheda film: \nhttp://fratellosole.it/madame-walberg/
URL:http://fratellosole.it/evento/ore-21-00-i-profumi-di-madame-walberg/
END:VEVENT
BEGIN:VEVENT
DTSTART;TZID=Europe/Rome:20211031T160000
DTEND;TZID=Europe/Rome:20211031T180000
DTSTAMP:20260425T171706
CREATED:20210831T062611Z
LAST-MODIFIED:20210831T062611Z
UID:3987-1635696000-1635703200@fratellosole.it
SUMMARY:ore 16.00: I PROFUMI DI MADAME WALBERG
DESCRIPTION:Domenica 31 ottobre ore 16.00 \nscheda film: \nhttp://fratellosole.it/madame-walberg/
URL:http://fratellosole.it/evento/ore-16-00-i-profumi-di-madame-walberg-2/
END:VEVENT
END:VCALENDAR