BEGIN:VCALENDAR
VERSION:2.0
PRODID:-//Cinema Teatro Fratello Sole - ECPv6.15.20//NONSGML v1.0//EN
CALSCALE:GREGORIAN
METHOD:PUBLISH
X-ORIGINAL-URL:http://fratellosole.it
X-WR-CALDESC:Eventi per Cinema Teatro Fratello Sole
REFRESH-INTERVAL;VALUE=DURATION:PT1H
X-Robots-Tag:noindex
X-PUBLISHED-TTL:PT1H
BEGIN:VTIMEZONE
TZID:Europe/Rome
BEGIN:DAYLIGHT
TZOFFSETFROM:+0100
TZOFFSETTO:+0200
TZNAME:CEST
DTSTART:20220327T010000
END:DAYLIGHT
BEGIN:STANDARD
TZOFFSETFROM:+0200
TZOFFSETTO:+0100
TZNAME:CET
DTSTART:20221030T010000
END:STANDARD
BEGIN:DAYLIGHT
TZOFFSETFROM:+0100
TZOFFSETTO:+0200
TZNAME:CEST
DTSTART:20230326T010000
END:DAYLIGHT
BEGIN:STANDARD
TZOFFSETFROM:+0200
TZOFFSETTO:+0100
TZNAME:CET
DTSTART:20231029T010000
END:STANDARD
BEGIN:DAYLIGHT
TZOFFSETFROM:+0100
TZOFFSETTO:+0200
TZNAME:CEST
DTSTART:20240331T010000
END:DAYLIGHT
BEGIN:STANDARD
TZOFFSETFROM:+0200
TZOFFSETTO:+0100
TZNAME:CET
DTSTART:20241027T010000
END:STANDARD
END:VTIMEZONE
BEGIN:VEVENT
DTSTART;TZID=Europe/Rome:20231005T160000
DTEND;TZID=Europe/Rome:20231005T180000
DTSTAMP:20260424T082005
CREATED:20230828T130843Z
LAST-MODIFIED:20230828T140312Z
UID:5634-1696521600-1696528800@fratellosole.it
SUMMARY:EMPIRE OF LIGHT
DESCRIPTION:GIOVEDI’ 5 OTTOBRE 2023 ORE 16.00 \n \nScheda film: \nhttps://fratellosole.it/empire-light/
URL:http://fratellosole.it/evento/empire-of-light/
END:VEVENT
BEGIN:VEVENT
DTSTART;TZID=Europe/Rome:20231005T210000
DTEND;TZID=Europe/Rome:20231005T230000
DTSTAMP:20260424T082005
CREATED:20230828T131007Z
LAST-MODIFIED:20230828T140350Z
UID:5636-1696539600-1696546800@fratellosole.it
SUMMARY:EMPIRE OF LIGHT
DESCRIPTION:GIOVEDI’ 5 OTTOBRE 2023 ORE 21.00 \n \nScheda film: \nhttps://fratellosole.it/empire-light/
URL:http://fratellosole.it/evento/empire-of-light-2/
END:VEVENT
BEGIN:VEVENT
DTSTART;TZID=Europe/Rome:20231007T210000
DTEND;TZID=Europe/Rome:20231007T223000
DTSTAMP:20260424T082005
CREATED:20230919T130549Z
LAST-MODIFIED:20230919T130726Z
UID:5738-1696712400-1696717800@fratellosole.it
SUMMARY:SILENZIO E PAROLA: CONFERENZA FR CESARE VAIANI
DESCRIPTION:SABATO 7 OTTOBRE – ORE 21.00 \nPresepe di Greccio: nel silenzio la Parola si fa uomo\n \nCesare Vaiani\, nato a Milano nel 1954\, francescano (OFM)\, sacerdote\, dopo il Baccellierato presso la Facoltà Teologica dell’Italia Settentrionale (1979)\, ha conseguito la Licenza in teologia presso l’Università Pontificia Antonianum (1981)\, la Laurea in filosofia presso l’Università Cattolica del Sacro Cuore (1989) e il Dottorato in Teologia presso la Facoltà Teologica dell’Italia Settentrionale (2011).\nDal 1995 a oggi è docente del corso di “Teologia spirituale” al Centro Studi di Spiritualità della Facoltà Teologica dell’Italia Settentrionale; dal 1995 al 2001 anche del corso di “Introduzione alla Teologia spirituale”; dal 2001 al 2008 anche di quello di “Storia della Spiritualità medievale”; dal 2008 mantiene solo quello di “Teologia spirituale”.\nSempre presso la Facoltà Teologica dell’Italia Settentrionale\, dal 1997 a oggi è docente di “Storia della Spiritualità” e “Teologia Spirituale” per il Ciclo di Licenza in Teologia morale e pastorale.\nDal 1990 a oggi è docente per i corsi di “Teologia spirituale”\, “Teologia della vita consacrata” e “Visione filosofico – teologica francescana”\, presso lo Studio teologico Interprovinciale S. Bernardino dei Frati Minori a Verona\, affiliato all’Università Pontificia Antonianum.\nÈ stato docente di “Teologia spirituale” e di “Spiritualità francescana” presso lo Studio teologico S. Francesco dei Frati Minori Cappuccini a Milano\, affiliato all’Università Pontificia Antonianum\, dal 1987 al 1991 e dal 2004 al 2009.\nDal 1989 al 1993 è stato docente di “Introduzione alla teologia” presso l’Università Cattolica del Sacro Cuore di Milano e poi di Brescia.\nNell’anno accademico 2008-2009 è stato docente del corso di “Spiritualità francescana” presso il ciclo di Licenza della Facoltà Teologica del Triveneto di Padova.\nDal 1991 al 2000 è stato insegnante di Storia e Filosofia presso il Liceo scientifico “Ven. A. Luzzago” di Brescia.\nDal 1985 al 1988 e dal 2000 al 2003 è stato Direttore della Biblioteca francescana\, con sede in P.zza S. Angelo 2\, Milano. \nCONFERENZA A INGRESSO LIBERO \nNon è necessaria la prenotazione \n 
URL:http://fratellosole.it/evento/conferenza-fr-cesare-vaiani/
END:VEVENT
BEGIN:VEVENT
DTSTART;TZID=Europe/Rome:20231008T160000
DTEND;TZID=Europe/Rome:20231008T180000
DTSTAMP:20260424T082005
CREATED:20230828T131120Z
LAST-MODIFIED:20230828T140421Z
UID:5638-1696780800-1696788000@fratellosole.it
SUMMARY:EMPIRE OF LIGHT
DESCRIPTION:DOMENICA 8 OTTOBRE 2023 ORE 16.00 \n \nScheda film: \nhttps://fratellosole.it/empire-light/
URL:http://fratellosole.it/evento/empire-of-light-3/
END:VEVENT
BEGIN:VEVENT
DTSTART;TZID=Europe/Rome:20231012T160000
DTEND;TZID=Europe/Rome:20231012T180000
DTSTAMP:20260424T082005
CREATED:20230828T131422Z
LAST-MODIFIED:20230828T131422Z
UID:5642-1697126400-1697133600@fratellosole.it
SUMMARY:POLITE SOCIETY - OPERAZIONE MATRIMONIO
DESCRIPTION:GIOVEDI’ 12 OTTOBRE ORE 16.00 \n \nScheda film: \nhttps://fratellosole.it/polite-society/
URL:http://fratellosole.it/evento/polite-society-operazione-matrimonio/
END:VEVENT
BEGIN:VEVENT
DTSTART;TZID=Europe/Rome:20231012T210000
DTEND;TZID=Europe/Rome:20231012T230000
DTSTAMP:20260424T082005
CREATED:20230828T131538Z
LAST-MODIFIED:20230828T143817Z
UID:5644-1697144400-1697151600@fratellosole.it
SUMMARY:POLITE SOCIETY - OPERAZIONE MATRIMONIO
DESCRIPTION:GIOVEDI’ 12 OTTOBRE ORE 21.00 \n \nFILM PRECEDUTO DA UN CORTOMETRAGGIO REALIZZATO DAGLI STUDENTI\nDELL’ISTITUTO CINEMATOGRAFICO MICHELANGELO ANTONIONI. INCONTRO CON I GIOVANI REGISTI. \nScheda film: \nhttps://fratellosole.it/polite-society/
URL:http://fratellosole.it/evento/polite-society-operazione-matrimonio-2/
END:VEVENT
BEGIN:VEVENT
DTSTART;TZID=Europe/Rome:20231015T160000
DTEND;TZID=Europe/Rome:20231015T180000
DTSTAMP:20260424T082005
CREATED:20230828T131655Z
LAST-MODIFIED:20230828T131655Z
UID:5646-1697385600-1697392800@fratellosole.it
SUMMARY:POLITE SOCIETY - OPERAZIONE MATRIMONIO
DESCRIPTION:DOMENICA 15 OTTOBRE 2023 ORE 16.00 \n \nScheda film: \nhttps://fratellosole.it/polite-society/ \n 
URL:http://fratellosole.it/evento/polite-society-operazione-matrimonio-3/
END:VEVENT
BEGIN:VEVENT
DTSTART;TZID=Europe/Rome:20231019T160000
DTEND;TZID=Europe/Rome:20231019T180000
DTSTAMP:20260424T082005
CREATED:20230828T131828Z
LAST-MODIFIED:20230828T140453Z
UID:5648-1697731200-1697738400@fratellosole.it
SUMMARY:CAMPIONI
DESCRIPTION:GIOVEDI’ 19 OTTOBRE 2023 ORE 16.00 \n \nScheda film: \nhttps://fratellosole.it/campioni/
URL:http://fratellosole.it/evento/campioni/
END:VEVENT
BEGIN:VEVENT
DTSTART;TZID=Europe/Rome:20231019T210000
DTEND;TZID=Europe/Rome:20231019T230000
DTSTAMP:20260424T082005
CREATED:20230828T131932Z
LAST-MODIFIED:20230828T140520Z
UID:5650-1697749200-1697756400@fratellosole.it
SUMMARY:CAMPIONI
DESCRIPTION:GIOVEDI’ 19 OTTOBRE 2023 ORE 21.00 \n \nScheda film: \nhttps://fratellosole.it/campioni/
URL:http://fratellosole.it/evento/campioni-2/
END:VEVENT
BEGIN:VEVENT
DTSTART;TZID=Europe/Rome:20231022T160000
DTEND;TZID=Europe/Rome:20231022T180000
DTSTAMP:20260424T082005
CREATED:20230828T132027Z
LAST-MODIFIED:20230828T140549Z
UID:5652-1697990400-1697997600@fratellosole.it
SUMMARY:CAMPIONI
DESCRIPTION:DOMENICA 22 OTTOBRE 2023 ORE 16.00 \n \nScheda film: \nhttps://fratellosole.it/campioni/
URL:http://fratellosole.it/evento/campioni-3/
END:VEVENT
BEGIN:VEVENT
DTSTART;TZID=Europe/Rome:20231024T210000
DTEND;TZID=Europe/Rome:20231024T230000
DTSTAMP:20260424T082005
CREATED:20230828T150140Z
LAST-MODIFIED:20231023T071842Z
UID:5705-1698181200-1698188400@fratellosole.it
SUMMARY:VERMEER. THE GREATEST EXHIBITION
DESCRIPTION:MARTEDI’ 24 OTTOBRE 2023 ORE 21.00 \n \nCondurrà gli spettatori attraverso la più grande retrospettiva su Vermeer mai realizzata nella storia. Un evento irripetibile che il Rijksmuseum di Amsterdam ha ospitato sino allo scorso giugno\, raccogliendo un repentino sold out. L’evento al cinema invita gli amanti dell’arte a una visione privata di questa spettacolare mostra in compagnia del Direttore del Rijksmuseum e dei curatori della mostra.\nDefinita dalla stampa di settore una retrospettiva epocale\, l’esposizione è la più grande mai dedicata esclusivamente al “maestro della luce”\, con 28 delle sue 35 opere conosciute provenienti da paesi di tutto il mondo. Prima di oggi non era mai accaduto che così tanti capolavori di Vermeer venissero riuniti in un unico luogo.\nDiretto dal regista David Bickerstaff\, il film offre al pubblico la possibilità di ammirare su grande schermo i capolavori di Vermeer (tra cui La ragazza con l’orecchino di perla\, Il geografo\, La lattaia e la Donna che legge una lettera davanti alla finestra\, recentemente restaurata) e rivela le intuizioni del team che ha ideato la mostra\, curatori di fama mondiale ed esperti di Vermeer\, gettando nuova luce sulla vita misteriosa e sul lavoro magistrale del pittore\, sulle sue scelte artistiche e sulle motivazioni delle sue composizioni\, oltre che sul processo creativo alla base dei suoi dipinti. \nQui la scheda del film e gli appunti artistici di Beatrice Fiorello \nhttp://fratellosole.it/vermeer-the-great-exhibition-la-scheda-del-film-e-appunti-artistici/
URL:http://fratellosole.it/evento/vermeer-the-greatest-exhibition/
LOCATION:Sala – Cinema Fratello Sole
END:VEVENT
BEGIN:VEVENT
DTSTART;TZID=Europe/Rome:20231026T160000
DTEND;TZID=Europe/Rome:20231026T183000
DTSTAMP:20260424T082005
CREATED:20230828T132208Z
LAST-MODIFIED:20230828T140646Z
UID:5654-1698336000-1698345000@fratellosole.it
SUMMARY:L'ULTIMA NOTTE DI AMORE
DESCRIPTION:GIOVEDI’ 26 OTTOBRE 2023 ORE 16.00 \n \nScheda film: \nhttps://fratellosole.it/ultima-notte-amore/
URL:http://fratellosole.it/evento/lultima-notte-di-amore/
END:VEVENT
BEGIN:VEVENT
DTSTART;TZID=Europe/Rome:20231026T210000
DTEND;TZID=Europe/Rome:20231026T233000
DTSTAMP:20260424T082005
CREATED:20230828T132311Z
LAST-MODIFIED:20230828T143929Z
UID:5656-1698354000-1698363000@fratellosole.it
SUMMARY:L'ULTIMA NOTTE DI AMORE
DESCRIPTION:GIOVEDI’ 26 OTTOBRE 2023 ORE 21.00 \n \nPROIEZIONE INTRODOTTA DA UN CURATORE DEL BAFF CON CONTRIBUTI VIDEO\nE/O INCONTRO CON OSPITE (NOEMI BERTOLDI – ATTRICE DIPLOMATA ALL’ISTITUO ANTONIONI) \nScheda film: \nhttps://fratellosole.it/ultima-notte-amore/
URL:http://fratellosole.it/evento/lultima-notte-di-amore-2/
END:VEVENT
BEGIN:VEVENT
DTSTART;TZID=Europe/Rome:20231029T160000
DTEND;TZID=Europe/Rome:20231029T183000
DTSTAMP:20260424T082005
CREATED:20230828T132420Z
LAST-MODIFIED:20230828T140733Z
UID:5658-1698595200-1698604200@fratellosole.it
SUMMARY:L'ULTIMA NOTTE DI AMORE
DESCRIPTION:DOMENICA 29 OTTOBRE 2023 ORE 16.00 \n \nScheda film: \nhttps://fratellosole.it/ultima-notte-amore/
URL:http://fratellosole.it/evento/lultima-notte-di-amore-3/
END:VEVENT
END:VCALENDAR