BEGIN:VCALENDAR
VERSION:2.0
PRODID:-//Cinema Teatro Fratello Sole - ECPv6.15.20//NONSGML v1.0//EN
CALSCALE:GREGORIAN
METHOD:PUBLISH
X-ORIGINAL-URL:http://fratellosole.it
X-WR-CALDESC:Eventi per Cinema Teatro Fratello Sole
REFRESH-INTERVAL;VALUE=DURATION:PT1H
X-Robots-Tag:noindex
X-PUBLISHED-TTL:PT1H
BEGIN:VTIMEZONE
TZID:Europe/Rome
BEGIN:DAYLIGHT
TZOFFSETFROM:+0100
TZOFFSETTO:+0200
TZNAME:CEST
DTSTART:20230326T010000
END:DAYLIGHT
BEGIN:STANDARD
TZOFFSETFROM:+0200
TZOFFSETTO:+0100
TZNAME:CET
DTSTART:20231029T010000
END:STANDARD
BEGIN:DAYLIGHT
TZOFFSETFROM:+0100
TZOFFSETTO:+0200
TZNAME:CEST
DTSTART:20240331T010000
END:DAYLIGHT
BEGIN:STANDARD
TZOFFSETFROM:+0200
TZOFFSETTO:+0100
TZNAME:CET
DTSTART:20241027T010000
END:STANDARD
BEGIN:DAYLIGHT
TZOFFSETFROM:+0100
TZOFFSETTO:+0200
TZNAME:CEST
DTSTART:20250330T010000
END:DAYLIGHT
BEGIN:STANDARD
TZOFFSETFROM:+0200
TZOFFSETTO:+0100
TZNAME:CET
DTSTART:20251026T010000
END:STANDARD
END:VTIMEZONE
BEGIN:VEVENT
DTSTART;TZID=Europe/Rome:20240201T160000
DTEND;TZID=Europe/Rome:20240201T190000
DTSTAMP:20260424T023037
CREATED:20231211T135823Z
LAST-MODIFIED:20240104T234423Z
UID:6087-1706803200-1706814000@fratellosole.it
SUMMARY:OPPENHEIMER
DESCRIPTION:SCHEDA FILM: \nhttp://fratellosole.it/oppenheimer-2/
URL:http://fratellosole.it/evento/oppenheimer/
LOCATION:Sala – Cinema Fratello Sole
END:VEVENT
BEGIN:VEVENT
DTSTART;TZID=Europe/Rome:20240201T210000
DTEND;TZID=Europe/Rome:20240201T233000
DTSTAMP:20260424T023037
CREATED:20231211T135940Z
LAST-MODIFIED:20240104T234352Z
UID:6089-1706821200-1706830200@fratellosole.it
SUMMARY:OPPENHEIMER (durata film: 180'- orario fine 24.00)
DESCRIPTION:DURATA FILM: 180′\nSCHEDA FILM: \nhttp://fratellosole.it/oppenheimer-2/ \n 
URL:http://fratellosole.it/evento/oppenheimer-2/
LOCATION:Sala – Cinema Fratello Sole
END:VEVENT
BEGIN:VEVENT
DTSTART;TZID=Europe/Rome:20240204T160000
DTEND;TZID=Europe/Rome:20240204T190000
DTSTAMP:20260424T023037
CREATED:20231211T140051Z
LAST-MODIFIED:20240104T234323Z
UID:6091-1707062400-1707073200@fratellosole.it
SUMMARY:OPPENHEIMER
DESCRIPTION:SCHEDA FILM: \nhttp://fratellosole.it/oppenheimer-2/
URL:http://fratellosole.it/evento/oppenheimer-3/
LOCATION:Sala – Cinema Fratello Sole
END:VEVENT
BEGIN:VEVENT
DTSTART;TZID=Europe/Rome:20240207T204500
DTEND;TZID=Europe/Rome:20240207T223000
DTSTAMP:20260424T023037
CREATED:20240118T082552Z
LAST-MODIFIED:20240118T082552Z
UID:6276-1707338700-1707345000@fratellosole.it
SUMMARY:CONFERENZA DON PAOLO ALLIATA: IL PESO DEI MIRACOLI
DESCRIPTION:IL PESO DEI MIRACOLI – TRA LE PAGINE DI “GIOBBE” DI J. ROTH\nDon Paolo Alliata (Milano\, 1971)\, dopo la laurea in Lettere Classiche all’Università degli Studi di Milano\, viene ordinato prete dal cardinale Carlo Maria Martini. È vicario nella parrocchia milanese di Santa Maria Incoronata\, all’interno della Comunità Pastorale Paolo VI.\nHa scritto testi teatrali sulla Bibbia destinati a bambini e ragazzi. Ha collaborato con l’Ufficio Catechesi della Diocesi di Milano scrivendo e realizzando audio-racconti per bambini sulle grandi pagine delle vicende bibliche.\nSi impegna\, attraverso predicazione e scritti\, a proporre intrecci tra Bibbia e letteratura non religiosa.\nDal 2016 propone le “Passeggiate nella letteratura Dove Dio respira di nascosto”: percorsi mensili di lettura di romanzi ed epistolari\, riletti attraverso una chiave di lettura sapienziale.\nDal 2019 è responsabile del Servizio per l’Apostolato Biblico della Diocesi di Milano.\nÈ rettore del liceo Montini da Settembre 2022. \nIngresso libero con prenotazione \nPer prenotare: \nhttps://ticket.cinebot.it/fratellosole/ \n 
URL:http://fratellosole.it/evento/conferenza-don-paolo-alliata-il-peso-dei-miracoli/
LOCATION:Sala – Cinema Fratello Sole
END:VEVENT
BEGIN:VEVENT
DTSTART;TZID=Europe/Rome:20240208T160000
DTEND;TZID=Europe/Rome:20240208T180000
DTSTAMP:20260424T023037
CREATED:20231211T142002Z
LAST-MODIFIED:20231211T142002Z
UID:6111-1707408000-1707415200@fratellosole.it
SUMMARY:IO CAPITANO
DESCRIPTION:SCHEDA FILM: \nhttps://fratellosole.it/io-capitano/
URL:http://fratellosole.it/evento/io-capitano/
LOCATION:Sala – Cinema Fratello Sole
END:VEVENT
BEGIN:VEVENT
DTSTART;TZID=Europe/Rome:20240208T210000
DTEND;TZID=Europe/Rome:20240208T230000
DTSTAMP:20260424T023037
CREATED:20231211T142101Z
LAST-MODIFIED:20231211T142101Z
UID:6113-1707426000-1707433200@fratellosole.it
SUMMARY:IO CAPITANO
DESCRIPTION:SCHEDA FILM: \nhttps://fratellosole.it/io-capitano/
URL:http://fratellosole.it/evento/io-capitano-2/
LOCATION:Sala – Cinema Fratello Sole
END:VEVENT
BEGIN:VEVENT
DTSTART;TZID=Europe/Rome:20240211T160000
DTEND;TZID=Europe/Rome:20240211T180000
DTSTAMP:20260424T023037
CREATED:20231211T142203Z
LAST-MODIFIED:20231211T142203Z
UID:6115-1707667200-1707674400@fratellosole.it
SUMMARY:IO CAPITANO
DESCRIPTION:SCHEDA FILM: \nhttps://fratellosole.it/io-capitano/
URL:http://fratellosole.it/evento/io-capitano-3/
LOCATION:Sala – Cinema Fratello Sole
END:VEVENT
BEGIN:VEVENT
DTSTART;TZID=Europe/Rome:20240215T160000
DTEND;TZID=Europe/Rome:20240215T183000
DTSTAMP:20260424T023037
CREATED:20231211T142337Z
LAST-MODIFIED:20231211T142337Z
UID:6117-1708012800-1708021800@fratellosole.it
SUMMARY:ANATOMIA DI UNA CADUTA
DESCRIPTION:SCHEDA FILM: \nhttps://fratellosole.it/anatomia-caduta/
URL:http://fratellosole.it/evento/anatomia-di-una-caduta/
LOCATION:Sala – Cinema Fratello Sole
END:VEVENT
BEGIN:VEVENT
DTSTART;TZID=Europe/Rome:20240215T210000
DTEND;TZID=Europe/Rome:20240215T233000
DTSTAMP:20260424T023037
CREATED:20231211T142434Z
LAST-MODIFIED:20231211T142434Z
UID:6119-1708030800-1708039800@fratellosole.it
SUMMARY:ANATOMIA DI UNA CADUTA
DESCRIPTION:SCHEDA FILM: \nhttps://fratellosole.it/anatomia-caduta/
URL:http://fratellosole.it/evento/anatomia-di-una-caduta-2/
LOCATION:Sala – Cinema Fratello Sole
END:VEVENT
BEGIN:VEVENT
DTSTART;TZID=Europe/Rome:20240218T160000
DTEND;TZID=Europe/Rome:20240218T183000
DTSTAMP:20260424T023037
CREATED:20231211T142535Z
LAST-MODIFIED:20231211T142535Z
UID:6121-1708272000-1708281000@fratellosole.it
SUMMARY:ANATOMIA DI UNA CADUTA
DESCRIPTION:SCHEDA FILM: \nhttps://fratellosole.it/anatomia-caduta/
URL:http://fratellosole.it/evento/anatomia-di-una-caduta-3/
LOCATION:Sala – Cinema Fratello Sole
END:VEVENT
BEGIN:VEVENT
DTSTART;TZID=Europe/Rome:20240222T160000
DTEND;TZID=Europe/Rome:20240222T173000
DTSTAMP:20260424T023037
CREATED:20231211T142657Z
LAST-MODIFIED:20231211T142657Z
UID:6123-1708617600-1708623000@fratellosole.it
SUMMARY:ASTEROID CITY
DESCRIPTION:SCHEDA FILM: \nhttps://fratellosole.it/asteroid-city/
URL:http://fratellosole.it/evento/asteroid-city/
LOCATION:Sala – Cinema Fratello Sole
END:VEVENT
BEGIN:VEVENT
DTSTART;TZID=Europe/Rome:20240222T210000
DTEND;TZID=Europe/Rome:20240222T223000
DTSTAMP:20260424T023037
CREATED:20231211T142856Z
LAST-MODIFIED:20231211T143100Z
UID:6127-1708635600-1708641000@fratellosole.it
SUMMARY:ASTEROID CITY
DESCRIPTION:SCHEDA FILM: \nhttps://fratellosole.it/asteroid-city/
URL:http://fratellosole.it/evento/asteroid-city-3/
LOCATION:Sala – Cinema Fratello Sole
END:VEVENT
BEGIN:VEVENT
DTSTART;TZID=Europe/Rome:20240225T160000
DTEND;TZID=Europe/Rome:20240225T173000
DTSTAMP:20260424T023037
CREATED:20231211T142754Z
LAST-MODIFIED:20231211T143209Z
UID:6125-1708876800-1708882200@fratellosole.it
SUMMARY:ASTEROID CITY
DESCRIPTION:SCHEDA FILM: \nhttps://fratellosole.it/asteroid-city/
URL:http://fratellosole.it/evento/asteroid-city-2/
LOCATION:Sala – Cinema Fratello Sole
END:VEVENT
BEGIN:VEVENT
DTSTART;TZID=Europe/Rome:20240226T210000
DTEND;TZID=Europe/Rome:20240226T230000
DTSTAMP:20260424T023037
CREATED:20240125T064917Z
LAST-MODIFIED:20240125T064917Z
UID:6291-1708981200-1708988400@fratellosole.it
SUMMARY:B.A. CLASSICA: SILVIA CHIESA E MAURIZIO BAGLINI - CONCERTO PER VIOLONCELLO E PIANOFORTE
DESCRIPTION:  \nConcerto del Festival BAClassica che l’Associazione Musicale G. Rossini ETS organizza in collaborazione con la Città di Busto Arsizio e il contributo della Fondazione Comunitaria del Varesotto e il patrocinio della Regione Lombardia e della Provincia di Varese. \nMAURIZIO BAGLINI\nPianista visionario\, con il gusto per le sfide musicali\, Maurizio Baglini ha un’intensa carriera concertistica internazionale. Vincitore a 24 anni del “World Music Piano Master” di Montecarlo\, si esibisce regolarmente all’Accademia Nazionale di Santa Cecilia\, al Teatro alla Scala di Milano\, al Teatro San Carlo di Napoli\, alla Salle Gaveau di Parigi\, al Kennedy Center di Washington ed è ospite di prestigiosi festival\, tra cui La Roque d’Anthéron\, Yokohama Piano Festival\, Australian Chamber Music Festival\, “Festival Pianistico Internazionale di Bergamo e Brescia.  Ha suonato come solista con importanti compagini e con prestigiosi direttori. Di recente\, insieme al direttore d’orchestra Marco Angius\, ha eseguito una rarissima integrale delle opere per pianoforte ed orchestra di Stravinsky.\nÈ tra i pochi virtuosi al mondo a eseguire la “Nona Sinfonia” di Beethoven nella trascendentale trascrizione pianistica di Liszt. Dal 2008 a oggi è stato invitato a cimentarsi dal vivo in questo vertiginoso capolavoro su molti prestigiosi palcoscenici – in città tra cui Roma\, Milano\, Cremona\, Parigi\, Monaco\, Tel Aviv\, Beirut\, Rio de Janeiro – e nel 2020 ha superato la cifra record di cento esecuzioni.  Suona un grancoda Fazioli. Insegna pianoforte al Conservatorio Statale Pietro Mascagni di Livorno. \n  \nSILVIA CHIESA\nInterprete ricca di personalità\, raffinata esploratrice di mondi musicali\, Silvia Chiesa è l’artista che più ha contribuito ad ampliare gli orizzonti del violoncello. Ha rilanciato il repertorio del Novecento\, riscoprendo capolavori ingiustamente dimenticati\, e ha stimolato la produzione di nuove opere per il suo strumento eseguendole su prestigiosi palcoscenici internazionali.\nSilvia Chiesa è anche un’appassionata interprete della musica del nostro tempo.\nSi esibisce regolarmente come camerista e\, in particolare\, con il pianista Maurizio Baglini ha acquisito un repertorio straordinariamente vasto per duo violoncello e pianoforte. Insieme i due artisti hanno all’attivo oltre duecentocinquanta concerti in tutto il mondo e hanno registrato per Decca le Sonate di Schubert\, Brahms e Rachmaninov.\nÈ l’unica musicista tra le autrici del libro From Women to the World curato da Elizabeth Filippouli che riunisce i contributi di un gruppo globale di “donne ispiratrici”.\nÈ artista residente dell’Amiata Piano Festival e docente al Conservatorio “Monteverdi” di Cremona. Suona un violoncello Giovanni Grancino del 1697. \n  \nCONTATTI PER ULTERIORI INFORMAZIONI\nPaola Colombo cell. 3917335718 \npaolacolombomaz@gmail.com\nAssociazione Musicale G. Rossini ETS tel. 0331.635255 \namrossini.info@gmail.com \nIn accordo con l’Amministrazione Comunale per alcuni concerti in programma sarà applicato un biglietto d’ingresso con tariffe differenziate (€ 15\,00 intero\, € 10\,00 ridotto per under 26 e over 65). Biglietti disponibili su \nhttps://oooh.events/
URL:http://fratellosole.it/evento/b-a-classica-silvia-chiesa-e-maurizio-baglini-concerto-per-violoncello-e-pianoforte/
LOCATION:Sala – Cinema Fratello Sole
END:VEVENT
BEGIN:VEVENT
DTSTART;TZID=Europe/Rome:20240227T210000
DTEND;TZID=Europe/Rome:20240227T230000
DTSTAMP:20260424T023037
CREATED:20240125T065833Z
LAST-MODIFIED:20240125T065833Z
UID:6295-1709067600-1709074800@fratellosole.it
SUMMARY:B.A. CLASSICA: SASKIA GIORGINI - CONCERTO PER PIANOFORTE
DESCRIPTION:Concerto del Festival BAClassica che l’Associazione Musicale G. Rossini ETS organizza in collaborazione con la Città di Busto Arsizio e il contributo della Fondazione Comunitaria del Varesotto e il patrocinio della Regione Lombardia e della Provincia di Varese. \nSASKIA GIORGINI \nNata nel 1985\, si è avvicinata allo studio del pianoforte all’età di quattro anni con Lorena Sancin e in seguito con il M° Paolo Prever\, a Torino.\nDal 2000 frequenta l’Accademia Pianistica “Incontri col Maestro” di Imola. Grazie a una borsa di studio dell’associazione De Sono di Torino e una borsa di studio del Lion’s Club di Torino\, dal 2005 al 2008 ha frequentato il corso triennale di perfezionamento presso l’Accademia Pianistica “Incontri col Maestro” di Imola con i maestri Leonid Margarius e Michel Dalberto. Nel Giugno 2003 si è diplomata\, privatista\, con il massimo dei voti al conservatorio “Giuseppe Verdi” di Milano e\, finalista al concorso internazionale “Concerti in Villa 2003” di Vicenza\, ha eseguito il concerto op. 21 di Chopin con orchestra. Ottenuta nel 2004 la maturità scientifica con il massimo dei voti\, ha frequentato il biennio di post-diploma presso il conservatorio “Giuseppe Verdi” di Torino\, con il M° Claudio Voghera\, laureandosi con la votazione 110 e lode e ricevendo una menzione speciale “per particolari capacità strumentali e straordinarie doti artistiche”.\nSvolge attività concertistica in Italia e all’estero come solista e in formazioni da camera.\nNel Novembre 2005 ha debuttato a Torino con un recital solistico nella Sala 500 del Lingotto e con il Concerto n. 2 di Franz Liszt presso il Conservatorio “Giuseppe Verdi” di Torino.\nE’ stata ospite di importanti festival e nell’Agosto 2006 è stata invitata a eseguire il concerto di Nino Rota in Do con la CBC Radio Orchestra\, diretta da M. Bernardi\, al Festival di Vancouver\, ottenendo un grande successo di pubblico e critica.\nE’ attiva anche nell’ambito della musica da camera. Suona in duo con la violinista Dora Schwarzberg e con il violinista Adrian Pinzaru. \n……… \nCONTATTI PER ULTERIORI INFORMAZIONI\nPaola Colombo cell. 3917335718 \npaolacolombomaz@gmail.com\nAssociazione Musicale G. Rossini ETS tel. 0331.635255 \namrossini.info@gmail.com \nIn accordo con l’Amministrazione Comunale per alcuni concerti in programma sarà applicato un biglietto d’ingresso con tariffe differenziate (€ 15\,00 intero\, € 10\,00 ridotto per under 26 e over 65). Biglietti disponibili su \nhttps://oooh.events/ \n  \n 
URL:http://fratellosole.it/evento/b-a-classica-saskia-giorgini-concerto-per-pianoforte/
LOCATION:Sala – Cinema Fratello Sole
END:VEVENT
BEGIN:VEVENT
DTSTART;TZID=Europe/Rome:20240229T160000
DTEND;TZID=Europe/Rome:20240229T173000
DTSTAMP:20260424T023037
CREATED:20231211T143324Z
LAST-MODIFIED:20231211T143324Z
UID:6129-1709222400-1709227800@fratellosole.it
SUMMARY:FELICITA'
DESCRIPTION:SCHEDA FILM: \nhttps://fratellosole.it/felicita/
URL:http://fratellosole.it/evento/felicita/
LOCATION:Sala – Cinema Fratello Sole
END:VEVENT
BEGIN:VEVENT
DTSTART;TZID=Europe/Rome:20240229T210000
DTEND;TZID=Europe/Rome:20240229T223000
DTSTAMP:20260424T023037
CREATED:20231211T143415Z
LAST-MODIFIED:20231211T143415Z
UID:6131-1709240400-1709245800@fratellosole.it
SUMMARY:FELICITA'
DESCRIPTION:SCHEDA FILM: \nhttps://fratellosole.it/felicita/
URL:http://fratellosole.it/evento/felicita-2/
LOCATION:Sala – Cinema Fratello Sole
END:VEVENT
END:VCALENDAR