BEGIN:VCALENDAR
VERSION:2.0
PRODID:-//Cinema Teatro Fratello Sole - ECPv6.15.20//NONSGML v1.0//EN
CALSCALE:GREGORIAN
METHOD:PUBLISH
X-WR-CALNAME:Cinema Teatro Fratello Sole
X-ORIGINAL-URL:http://fratellosole.it
X-WR-CALDESC:Eventi per Cinema Teatro Fratello Sole
REFRESH-INTERVAL;VALUE=DURATION:PT1H
X-Robots-Tag:noindex
X-PUBLISHED-TTL:PT1H
BEGIN:VTIMEZONE
TZID:Europe/Rome
BEGIN:DAYLIGHT
TZOFFSETFROM:+0100
TZOFFSETTO:+0200
TZNAME:CEST
DTSTART:20230326T010000
END:DAYLIGHT
BEGIN:STANDARD
TZOFFSETFROM:+0200
TZOFFSETTO:+0100
TZNAME:CET
DTSTART:20231029T010000
END:STANDARD
BEGIN:DAYLIGHT
TZOFFSETFROM:+0100
TZOFFSETTO:+0200
TZNAME:CEST
DTSTART:20240331T010000
END:DAYLIGHT
BEGIN:STANDARD
TZOFFSETFROM:+0200
TZOFFSETTO:+0100
TZNAME:CET
DTSTART:20241027T010000
END:STANDARD
BEGIN:DAYLIGHT
TZOFFSETFROM:+0100
TZOFFSETTO:+0200
TZNAME:CEST
DTSTART:20250330T010000
END:DAYLIGHT
BEGIN:STANDARD
TZOFFSETFROM:+0200
TZOFFSETTO:+0100
TZNAME:CET
DTSTART:20251026T010000
END:STANDARD
END:VTIMEZONE
BEGIN:VEVENT
DTSTART;TZID=Europe/Rome:20240913T210000
DTEND;TZID=Europe/Rome:20240913T230000
DTSTAMP:20260423T164738
CREATED:20240909T122034Z
LAST-MODIFIED:20240909T125758Z
UID:6994-1726261200-1726268400@fratellosole.it
SUMMARY:Conferenza: LA SINDONE: SPECCHIO DEL VANGELO E PROVOCAZIONE ALL'INTELLIGENZA
DESCRIPTION:San Giovanni Paolo II nel 1998 contemplando la Sindone. \n \nConferenza ad ingresso libero \nRelatore prof. Bruno Barberis\, Professore di Fisica Matematica all’Università di Torino e Vicepresidente della Confraternita del SS. Sudario di Torino
URL:http://fratellosole.it/evento/la-sindone-specchio-del-vangelo-e-provocazione-allintelligenza/
LOCATION:Sala – Cinema Fratello Sole
END:VEVENT
BEGIN:VEVENT
DTSTART;TZID=Europe/Rome:20240927T210000
DTEND;TZID=Europe/Rome:20240927T230000
DTSTAMP:20260423T164738
CREATED:20240909T124632Z
LAST-MODIFIED:20240909T124632Z
UID:6997-1727470800-1727478000@fratellosole.it
SUMMARY:PER FAR SORRIDERE IL CIELO - Testimonianza di Marco Rodari detto "il Pimpa"
DESCRIPTION:Un bimbo a cui regali meraviglia\, sarà portatore sano di pace \n \nL’Associazione “Per Far Sorridere il Cielo” – claun “il Pimpa” ODV nasce nel marzo del 2015 a Leggiuno su iniziativa di Marco Rodari (clown impagnato da anni nelle zone di guerra) per portare un sorriso a tutti i bambini. \nObiettivo dell’Associazione è prendersi cura di bambini che hanno subito traumi fisici e psichici in conseguenza di una guerra vissuta o che stanno ancora vivendo. \nIngresso Libero
URL:http://fratellosole.it/evento/per-far-sorridere-il-cielo-testimonianza-di-marco-rodari-detto-il-pimpa/
LOCATION:Sala – Cinema Fratello Sole
END:VEVENT
END:VCALENDAR