BEGIN:VCALENDAR
VERSION:2.0
PRODID:-//Cinema Teatro Fratello Sole - ECPv6.15.20//NONSGML v1.0//EN
CALSCALE:GREGORIAN
METHOD:PUBLISH
X-WR-CALNAME:Cinema Teatro Fratello Sole
X-ORIGINAL-URL:http://fratellosole.it
X-WR-CALDESC:Eventi per Cinema Teatro Fratello Sole
REFRESH-INTERVAL;VALUE=DURATION:PT1H
X-Robots-Tag:noindex
X-PUBLISHED-TTL:PT1H
BEGIN:VTIMEZONE
TZID:Europe/Rome
BEGIN:DAYLIGHT
TZOFFSETFROM:+0100
TZOFFSETTO:+0200
TZNAME:CEST
DTSTART:20250330T010000
END:DAYLIGHT
BEGIN:STANDARD
TZOFFSETFROM:+0200
TZOFFSETTO:+0100
TZNAME:CET
DTSTART:20251026T010000
END:STANDARD
BEGIN:DAYLIGHT
TZOFFSETFROM:+0100
TZOFFSETTO:+0200
TZNAME:CEST
DTSTART:20260329T010000
END:DAYLIGHT
BEGIN:STANDARD
TZOFFSETFROM:+0200
TZOFFSETTO:+0100
TZNAME:CET
DTSTART:20261025T010000
END:STANDARD
BEGIN:DAYLIGHT
TZOFFSETFROM:+0100
TZOFFSETTO:+0200
TZNAME:CEST
DTSTART:20270328T010000
END:DAYLIGHT
BEGIN:STANDARD
TZOFFSETFROM:+0200
TZOFFSETTO:+0100
TZNAME:CET
DTSTART:20271031T010000
END:STANDARD
END:VTIMEZONE
BEGIN:VEVENT
DTSTART;TZID=Europe/Rome:20260301T160000
DTEND;TZID=Europe/Rome:20260301T180000
DTSTAMP:20260422T141631
CREATED:20251215T151716Z
LAST-MODIFIED:20251215T151743Z
UID:9035-1772380800-1772388000@fratellosole.it
SUMMARY:IL MAESTRO
DESCRIPTION:SCHEDA FILM: \nhttp://fratellosole.it/maestro/
URL:http://fratellosole.it/evento/il-maestro-3/
END:VEVENT
BEGIN:VEVENT
DTSTART;TZID=Europe/Rome:20260303T210000
DTEND;TZID=Europe/Rome:20260303T230000
DTSTAMP:20260422T141631
CREATED:20260128T065234Z
LAST-MODIFIED:20260303T055949Z
UID:9149-1772571600-1772578800@fratellosole.it
SUMMARY:I MARTEDÌ AL SOLE: FRANCESCO D'ASSISI di Liliana Cavani
DESCRIPTION:I MARTEDÌ AL SOLE\nI VOLTI DI FRANCESCO: 800 ANNI DALLA MORTE\nFRANCESCO D’ASSISI \n \nRegia di Liliana Cavani – Biografico – Italia\, 1966 – 134′\ncon Riccardo Cucciolla\, Lou Castel\, Mino Bellei\, Giancarlo Sbragia. Genere . \nFrancesco\, dopo un periodo di baldorie con gli amici\, conosce I’esperienza della guerra che lo porta a cambiare radicalmente vita.\nAbbandonata la famiglia non senza scandalo\, abbraccia la scelta della povertà\, convinto che opponendo all’orgoglio l’umiltà e all’egoismo la carità si possa riformare il mondo.\nBen presto I’esempio di Francesco viene seguito da altri compagni che\, sotto I’approvazione del Papa Innocenzo III\, predicano la regola francescana.\nTra i suoi proseliti c’è Chiara\, che dà vita ad una comunità femminile. Francesco\, vista la crescita del movimento da lui creato\, scrive una nuova regola ricavata interamente dal vangelo.\nSentendo ormai prossima la morte vuole essere adagiato nudo sulla terra\, prima di spirare il 4 ottobre 1226. \n  \n𝐿𝑎 𝐶𝑎𝑣𝑎𝑛𝑖 ℎ𝑎 𝑒𝑣𝑖𝑡𝑎𝑡𝑜 𝑖𝑙 𝑚𝑎𝑛𝑖𝑒𝑟𝑖𝑠𝑚𝑜\, 𝑐𝑜𝑛𝑐𝑒𝑛𝑡𝑟𝑎𝑛𝑑𝑜𝑠𝑖 𝑠𝑢𝑙𝑙𝑎 𝑓𝑖𝑔𝑢𝑟𝑎 𝑢𝑚𝑎𝑛𝑎 𝑑𝑖 𝐹𝑟𝑎𝑛𝑐𝑒𝑠𝑐𝑜\, 𝑢𝑛 𝑚𝑜𝑑𝑜 𝑝𝑒𝑟 𝑟𝑒𝑛𝑑𝑒𝑟𝑒 𝑖𝑙 𝑠𝑎𝑛𝑡𝑜 𝑝𝑖𝑢̀ 𝑣𝑖𝑐𝑖𝑛𝑜 𝑒 𝑐𝑜𝑚𝑝𝑟𝑒𝑛𝑠𝑖𝑏𝑖𝑙𝑒. 𝑈𝑛’𝑜𝑝𝑒𝑟𝑎 𝑠𝑒𝑛𝑡𝑖𝑡𝑎\, 𝑐ℎ𝑒 𝑒𝑣𝑖𝑑𝑒𝑛𝑧𝑖𝑎 𝑙𝑎 𝑔𝑟𝑎𝑛𝑑𝑒𝑧𝑧𝑎 𝑑𝑒𝑙 𝑠𝑎𝑛𝑡𝑜 𝑎𝑡𝑡𝑟𝑎𝑣𝑒𝑟𝑠𝑜 𝑙𝑎 𝑠𝑢𝑎 𝑢𝑚𝑎𝑛𝑖𝑡𝑎̀ 𝑒 𝑙𝑎 𝑠𝑢𝑎 𝑣𝑖𝑐𝑖𝑛𝑎𝑛𝑧𝑎 𝑎𝑙𝑙𝑎 𝑔𝑒𝑛𝑡𝑒\, 𝑝𝑖𝑢𝑡𝑡𝑜𝑠𝑡𝑜 𝑐ℎ𝑒 𝑎𝑡𝑡𝑟𝑎𝑣𝑒𝑟𝑠𝑜 𝑎𝑢𝑟𝑒𝑜𝑙𝑒\, 𝑐𝑜𝑛 𝑢𝑛 𝑎𝑝𝑝𝑟𝑜𝑐𝑐𝑖𝑜 “𝑎𝑠𝑐𝑖𝑢𝑡𝑡𝑜 𝑒 𝑠𝑡𝑟𝑢𝑔𝑔𝑒𝑛𝑡𝑒”. 𝑈𝑛 𝑟𝑖𝑡𝑟𝑎𝑡𝑡𝑜 𝑐ℎ𝑒 𝑟𝑒𝑛𝑑𝑒 𝑙𝑎 𝑓𝑖𝑔𝑢𝑟𝑎 𝑑𝑖 𝐹𝑟𝑎𝑛𝑐𝑒𝑠𝑐𝑜 𝑐𝑜𝑛𝑡𝑒𝑚𝑝𝑜𝑟𝑎𝑛𝑒𝑎. \n  \n  \n 
URL:http://fratellosole.it/evento/film-francesco-dassisi-di-liliana-cavani/
LOCATION:Sala – Cinema Fratello Sole
END:VEVENT
BEGIN:VEVENT
DTSTART;TZID=Europe/Rome:20260305T160000
DTEND;TZID=Europe/Rome:20260305T174500
DTSTAMP:20260422T141631
CREATED:20251215T151914Z
LAST-MODIFIED:20251215T151914Z
UID:9037-1772726400-1772732700@fratellosole.it
SUMMARY:COME TI MUOVI\, SBAGLI
DESCRIPTION:SCHEDA FILM: \nhttp://fratellosole.it/come-muovi-sbagli/
URL:http://fratellosole.it/evento/come-ti-muovi-sbagli/
END:VEVENT
BEGIN:VEVENT
DTSTART;TZID=Europe/Rome:20260305T210000
DTEND;TZID=Europe/Rome:20260305T224500
DTSTAMP:20260422T141631
CREATED:20251215T152004Z
LAST-MODIFIED:20251215T152004Z
UID:9039-1772744400-1772750700@fratellosole.it
SUMMARY:COME TI MUOVI\, SBAGLI
DESCRIPTION:SCHEDA FILM: \nhttp://fratellosole.it/come-muovi-sbagli/
URL:http://fratellosole.it/evento/come-ti-muovi-sbagli-2/
END:VEVENT
BEGIN:VEVENT
DTSTART;TZID=Europe/Rome:20260308T160000
DTEND;TZID=Europe/Rome:20260308T174500
DTSTAMP:20260422T141631
CREATED:20251215T152113Z
LAST-MODIFIED:20251215T152113Z
UID:9041-1772985600-1772991900@fratellosole.it
SUMMARY:COME TI MUOVI\, SBAGLI
DESCRIPTION:SCHEDA FILM: \nhttp://fratellosole.it/come-muovi-sbagli/
URL:http://fratellosole.it/evento/come-ti-muovi-sbagli-3/
END:VEVENT
BEGIN:VEVENT
DTSTART;TZID=Europe/Rome:20260310T210000
DTEND;TZID=Europe/Rome:20260310T230000
DTSTAMP:20260422T141631
CREATED:20260128T065908Z
LAST-MODIFIED:20260214T061941Z
UID:9155-1773176400-1773183600@fratellosole.it
SUMMARY:B.A. CLASSICA - TRIO CON PIANOFORTE
DESCRIPTION:  \n\nIn collaborazione con LacMus International Music Festival\, uno degli appuntamenti più attesi ed emozionanti.\nLouis Lortie\, Markus Däunert e Knut Weber danno vita a un Trio di altissimo profilo\, attraversando Schubert e Schönberg in un dialogo intenso tra lirismo\, profondità e trasfigurazione sonora.\n\n\n\n Biglietti in vendita su oooh.events
URL:http://fratellosole.it/evento/b-a-classica-trio-con-pianoforte/
LOCATION:Sala – Cinema Fratello Sole
END:VEVENT
BEGIN:VEVENT
DTSTART;TZID=Europe/Rome:20260312T160000
DTEND;TZID=Europe/Rome:20260312T183000
DTSTAMP:20260422T141631
CREATED:20251215T152307Z
LAST-MODIFIED:20251215T152307Z
UID:9043-1773331200-1773340200@fratellosole.it
SUMMARY:AFTER THE HUNT - DOPO LA CACCIA
DESCRIPTION:SCHEDA FILM: \n12-15 MARZO 2026
URL:http://fratellosole.it/evento/after-the-hunt-dopo-la-caccia/
END:VEVENT
BEGIN:VEVENT
DTSTART;TZID=Europe/Rome:20260312T210000
DTEND;TZID=Europe/Rome:20260312T233000
DTSTAMP:20260422T141631
CREATED:20251215T152400Z
LAST-MODIFIED:20251215T152400Z
UID:9045-1773349200-1773358200@fratellosole.it
SUMMARY:AFTER THE HUNT - DOPO LA CACCIA
DESCRIPTION:SCHEDA FILM: \n12-15 MARZO 2026
URL:http://fratellosole.it/evento/after-the-hunt-dopo-la-caccia-2/
END:VEVENT
BEGIN:VEVENT
DTSTART;TZID=Europe/Rome:20260313T210000
DTEND;TZID=Europe/Rome:20260313T230000
DTSTAMP:20260422T141631
CREATED:20260128T070124Z
LAST-MODIFIED:20260310T060719Z
UID:9158-1773435600-1773442800@fratellosole.it
SUMMARY:B.A. CLASSICA: PROGRAMME À LA CARTE
DESCRIPTION:Un concerto che nasce sul palco e prende forma grazie al pubblico.Programme à la carte è un’esperienza musicale interattiva unica: Silvia Chiesa e Maurizio Baglini\, duo di riferimento della scena cameristica internazionale\, invitano gli ascoltatori a scegliere il programma della serata.Da Beethoven a Brahms\, da Chopin ad altri grandi maestri\, il repertorio viene votato prima del concerto e annunciato in tempo reale sul palcoscenico. Un’esperienza unica che trasforma l’ascolto in un dialogo vivo tra interpreti e pubblico\, protagonista della serata.Un progetto speciale che celebra vent’anni di sodalizio artistico tra due musicisti di grande e straordinaria sensibilità. \n  \nBiglietti in vendita su oooh.events
URL:http://fratellosole.it/evento/b-a-classica-programme-a-la-carte/
LOCATION:Sala – Cinema Fratello Sole
END:VEVENT
BEGIN:VEVENT
DTSTART;TZID=Europe/Rome:20260315T160000
DTEND;TZID=Europe/Rome:20260315T183000
DTSTAMP:20260422T141631
CREATED:20251215T152443Z
LAST-MODIFIED:20251215T152443Z
UID:9047-1773590400-1773599400@fratellosole.it
SUMMARY:AFTER THE HUNT - DOPO LA CACCIA
DESCRIPTION:
URL:http://fratellosole.it/evento/after-the-hunt-dopo-la-caccia-3/
END:VEVENT
BEGIN:VEVENT
DTSTART;TZID=Europe/Rome:20260317T210000
DTEND;TZID=Europe/Rome:20260317T230000
DTSTAMP:20260422T141631
CREATED:20260128T065710Z
LAST-MODIFIED:20260128T074236Z
UID:9152-1773781200-1773788400@fratellosole.it
SUMMARY:I MARTEDÌ AL SOLE/LA GRANDE ARTE AL CINEMA: BOTTICELLI. INFERNO
DESCRIPTION:I MARTEDÌ AL SOLE\nBOTTICELLI. INFERNO\n \nDocufilm diretto da Ralph Loop \nBotticelli – Inferno trasporterà gli spettatori in un altro mondo: un viaggio nel sottosopra attraverso i nove livelli dell’inferno. Proprio come nell’opera di Dante\, infatti\, solo attraversando Inferno e Purgatorio si potrà giungere al Paradiso e uscire “a riveder le stelle”.\nBotticelli fece rivivere le descrizioni dantesche in un totale di 102 disegni minuziosi. Il fulcro dell’opera è proprio la “Mappa dell’Inferno”: una sorta di guida attraverso l’inferno con tutti i suoi vari livelli. Un lavoro affascinante e allo stesso tempo efferato su peccatori e contrappassi\, incubi e punizioni. Ma cosa ci racconta oggi questa immagine oscura? Quanto svela di quel lato più inquieto e mistico di Botticelli e quanto parla alle nostre anime moderne? \n  \n 
URL:http://fratellosole.it/evento/la-grande-arte-al-cinema-bottocelli-inferno/
LOCATION:Sala – Cinema Fratello Sole
END:VEVENT
BEGIN:VEVENT
DTSTART;TZID=Europe/Rome:20260319T160000
DTEND;TZID=Europe/Rome:20260319T180000
DTSTAMP:20260422T141631
CREATED:20260309T063243Z
LAST-MODIFIED:20260316T133914Z
UID:9294-1773936000-1773943200@fratellosole.it
SUMMARY:PRIMAVERA
DESCRIPTION:PRIMAVERA di Damiano Michieletto\n \n  \nSCHEDA FILM: \nhttp://fratellosole.it/primavera/
URL:http://fratellosole.it/evento/primavera/
LOCATION:Sala – Cinema Fratello Sole
END:VEVENT
BEGIN:VEVENT
DTSTART;TZID=Europe/Rome:20260319T210000
DTEND;TZID=Europe/Rome:20260319T230000
DTSTAMP:20260422T141631
CREATED:20260309T063427Z
LAST-MODIFIED:20260316T133950Z
UID:9297-1773954000-1773961200@fratellosole.it
SUMMARY:PRIMAVERA
DESCRIPTION:PRIMAVERA di Damiano Michieletto\n \nSCHEDA FILM: \nhttp://fratellosole.it/primavera/
URL:http://fratellosole.it/evento/primavera-2/
LOCATION:Sala – Cinema Fratello Sole
END:VEVENT
BEGIN:VEVENT
DTSTART;TZID=Europe/Rome:20260322T160000
DTEND;TZID=Europe/Rome:20260322T183000
DTSTAMP:20260422T141631
CREATED:20260128T071415Z
LAST-MODIFIED:20260128T073917Z
UID:9161-1774195200-1774204200@fratellosole.it
SUMMARY:film in collaborazione con BAFF: FRANCESCO GIULLARE DI DIO di Roberto Rossellini
DESCRIPTION:I VOLTI DI FRANCESCO: 800 ANNI DALLA MORTE\nFRANCESCO GIULLARE DI DIO\n \n  \nRegia di Roberto Rossellini – Italia\, 1950\ncon Nazario Gerardi\, Arabella Lemaitre\, Aldo Fabrizi \nIl film non è una biografia del Santo\, ma consta di episodi\, tratti dai Fioretti\, nei quali si manifesta lo spirito della riforma francescana. Vi è illustrato un breve periodo della vita della prima comunità francescana\, dal ritorno di Francesco da Roma al separarsi dei discepoli\, inviati a predicare la parola di Dio in tutto il mondo; servono da introduzione al racconto alcuni quadri riproducenti affreschi del Duecento e del Trecento sulla vita di Francesco. Ecco i titoli dei singoli episodi: ‘Rivotorto occupato dall’asino’; ‘La nuova casetta e frate Ginepro’; ‘Preghiera di Francesco e arrivo di Giovanni il semplice’; ‘Elogio di frate fuoco’; ‘Meravigliosa cena con sorella Chiara’; ‘Francesco bacia il lebbroso’; ‘Un pranzo per quindici giorni’; ‘Carità di frate Ginepro’; ‘Nuova terribile avventura dell’ingenuo Ginepro’; ‘Dov’è la perfetta letizia’; ‘Molte sono le vie del Signore’.
URL:http://fratellosole.it/evento/film-in-collaborazione-con-baff-francesco-giullare-di-dio-di-roberto-rossellini/
LOCATION:Sala – Cinema Fratello Sole
END:VEVENT
BEGIN:VEVENT
DTSTART;TZID=Europe/Rome:20260329T160000
DTEND;TZID=Europe/Rome:20260329T180000
DTSTAMP:20260422T141631
CREATED:20260309T063536Z
LAST-MODIFIED:20260316T134022Z
UID:9299-1774800000-1774807200@fratellosole.it
SUMMARY:PRIMAVERA
DESCRIPTION:PRIMAVERA di Damiano Michieletto\n \nSCHEDA FILM: \nhttp://fratellosole.it/primavera/
URL:http://fratellosole.it/evento/primavera-3/
LOCATION:Sala – Cinema Fratello Sole
END:VEVENT
END:VCALENDAR