BEGIN:VCALENDAR
VERSION:2.0
PRODID:-//Cinema Teatro Fratello Sole - ECPv6.15.20//NONSGML v1.0//EN
CALSCALE:GREGORIAN
METHOD:PUBLISH
X-ORIGINAL-URL:http://fratellosole.it
X-WR-CALDESC:Eventi per Cinema Teatro Fratello Sole
REFRESH-INTERVAL;VALUE=DURATION:PT1H
X-Robots-Tag:noindex
X-PUBLISHED-TTL:PT1H
BEGIN:VTIMEZONE
TZID:Europe/Rome
BEGIN:DAYLIGHT
TZOFFSETFROM:+0100
TZOFFSETTO:+0200
TZNAME:CEST
DTSTART:20250330T010000
END:DAYLIGHT
BEGIN:STANDARD
TZOFFSETFROM:+0200
TZOFFSETTO:+0100
TZNAME:CET
DTSTART:20251026T010000
END:STANDARD
BEGIN:DAYLIGHT
TZOFFSETFROM:+0100
TZOFFSETTO:+0200
TZNAME:CEST
DTSTART:20260329T010000
END:DAYLIGHT
BEGIN:STANDARD
TZOFFSETFROM:+0200
TZOFFSETTO:+0100
TZNAME:CET
DTSTART:20261025T010000
END:STANDARD
BEGIN:DAYLIGHT
TZOFFSETFROM:+0100
TZOFFSETTO:+0200
TZNAME:CEST
DTSTART:20270328T010000
END:DAYLIGHT
BEGIN:STANDARD
TZOFFSETFROM:+0200
TZOFFSETTO:+0100
TZNAME:CET
DTSTART:20271031T010000
END:STANDARD
END:VTIMEZONE
BEGIN:VEVENT
DTSTART;TZID=Europe/Rome:20260423T160000
DTEND;TZID=Europe/Rome:20260423T181500
DTSTAMP:20260422T125152
CREATED:20260309T064704Z
LAST-MODIFIED:20260316T134532Z
UID:9315-1776960000-1776968100@fratellosole.it
SUMMARY:LA GRAZIA
DESCRIPTION:LA GRAZIA di Paolo Sorrentino\n \nSCHEDA FILM: \nhttp://fratellosole.it/lagrazia/ \n 
URL:http://fratellosole.it/evento/la-grazia/
LOCATION:Sala – Cinema Fratello Sole
END:VEVENT
BEGIN:VEVENT
DTSTART;TZID=Europe/Rome:20260423T210000
DTEND;TZID=Europe/Rome:20260423T231500
DTSTAMP:20260422T125152
CREATED:20260309T064815Z
LAST-MODIFIED:20260316T134558Z
UID:9318-1776978000-1776986100@fratellosole.it
SUMMARY:LA GRAZIA
DESCRIPTION:LA GRAZIA di Paolo Sorrentino\n \nSCHEDA FILM: \nhttp://fratellosole.it/lagrazia/
URL:http://fratellosole.it/evento/la-grazia-2/
LOCATION:Sala – Cinema Fratello Sole
END:VEVENT
BEGIN:VEVENT
DTSTART;TZID=Europe/Rome:20260426T160000
DTEND;TZID=Europe/Rome:20260426T181500
DTSTAMP:20260422T125152
CREATED:20260309T064929Z
LAST-MODIFIED:20260316T134627Z
UID:9320-1777219200-1777227300@fratellosole.it
SUMMARY:LA GRAZIA
DESCRIPTION:LA GRAZIA di Paolo Sorrentino\n \nSCHEDA FILM: \nhttp://fratellosole.it/lagrazia/
URL:http://fratellosole.it/evento/la-grazia-3/
LOCATION:Sala – Cinema Fratello Sole
END:VEVENT
BEGIN:VEVENT
DTSTART;TZID=Europe/Rome:20260428T210000
DTEND;TZID=Europe/Rome:20260428T230000
DTSTAMP:20260422T125152
CREATED:20260128T073424Z
LAST-MODIFIED:20260128T073424Z
UID:9178-1777410000-1777417200@fratellosole.it
SUMMARY:I MARTEDÌ AL SOLE: CONFERENZA ALBERTO PELLAI
DESCRIPTION:I MARTEDÌ AL SOLE\n \nALBERTO PELLAI \n“QUALE VERITÀ RICERCANO GLI ADOLESCENTI E QUALE VERITÀ TRASMETTONO GLI ADULTI “\nINGRESSO LIBERO \n 
URL:http://fratellosole.it/evento/i-martedi-al-sole-conferenza-alberto-pellai/
LOCATION:Sala – Cinema Fratello Sole
END:VEVENT
BEGIN:VEVENT
DTSTART;TZID=Europe/Rome:20260430T160000
DTEND;TZID=Europe/Rome:20260430T173000
DTSTAMP:20260422T125152
CREATED:20260309T065142Z
LAST-MODIFIED:20260316T134705Z
UID:9322-1777564800-1777570200@fratellosole.it
SUMMARY:GIOIA MIA
DESCRIPTION:GIOIA MIA di Margherita Spampinato\n \nSCHEDA FILM: \nhttp://fratellosole.it/gioiamia/
URL:http://fratellosole.it/evento/gioia-mia/
LOCATION:Sala – Cinema Fratello Sole
END:VEVENT
BEGIN:VEVENT
DTSTART;TZID=Europe/Rome:20260430T210000
DTEND;TZID=Europe/Rome:20260430T223000
DTSTAMP:20260422T125152
CREATED:20260309T065234Z
LAST-MODIFIED:20260316T134738Z
UID:9325-1777582800-1777588200@fratellosole.it
SUMMARY:GIOIA MIA
DESCRIPTION:GIOIA MIA di Margherita Spampinato\n \nSCHEDA FILM: \nhttp://fratellosole.it/gioiamia/
URL:http://fratellosole.it/evento/gioia-mia-2/
LOCATION:Sala – Cinema Fratello Sole
END:VEVENT
END:VCALENDAR